BEGIN:VCALENDAR
VERSION:2.0
PRODID:-//Fort Wayne Electric Works - ECPv6.6.3//NONSGML v1.0//EN
CALSCALE:GREGORIAN
METHOD:PUBLISH
X-ORIGINAL-URL:https://fortwayneelectricworks.com
X-WR-CALDESC:Events for Fort Wayne Electric Works
REFRESH-INTERVAL;VALUE=DURATION:PT1H
X-Robots-Tag:noindex
X-PUBLISHED-TTL:PT1H
BEGIN:VTIMEZONE
TZID:America/Indiana/Indianapolis
BEGIN:DAYLIGHT
TZOFFSETFROM:-0500
TZOFFSETTO:-0400
TZNAME:EDT
DTSTART:20250309T070000
END:DAYLIGHT
BEGIN:STANDARD
TZOFFSETFROM:-0400
TZOFFSETTO:-0500
TZNAME:EST
DTSTART:20251102T060000
END:STANDARD
BEGIN:DAYLIGHT
TZOFFSETFROM:-0500
TZOFFSETTO:-0400
TZNAME:EDT
DTSTART:20260308T070000
END:DAYLIGHT
BEGIN:STANDARD
TZOFFSETFROM:-0400
TZOFFSETTO:-0500
TZNAME:EST
DTSTART:20261101T060000
END:STANDARD
END:VTIMEZONE
BEGIN:VEVENT
DTSTART;TZID=America/Indiana/Indianapolis:20251231T150000
DTEND;TZID=America/Indiana/Indianapolis:20260101T220000
DTSTAMP:20260419T094348
CREATED:20251209T151701Z
LAST-MODIFIED:20251209T151701Z
UID:10002869-1767193200-1767304800@fortwayneelectricworks.com
SUMMARY:CLOSED FOR NEW YEARS | ELECTRIC WORKS CAMPUS
DESCRIPTION:The entire Electric Works Campus will be closed starting at 3PM on December 31st and all day on January 1st.
URL:https://fortwayneelectricworks.com/event/closed-for-new-years-electric-works-campus/
LOCATION:IN
ATTACH;FMTTYPE=image/jpeg:https://fortwayneelectricworks.com/wp-content/uploads/2025/12/DJI_0987.jpg
END:VEVENT
BEGIN:VEVENT
DTSTART;TZID=America/Indiana/Indianapolis:20260101T180000
DTEND;TZID=America/Indiana/Indianapolis:20260101T200000
DTSTAMP:20260419T094348
CREATED:20251209T145620Z
LAST-MODIFIED:20251209T145620Z
UID:10002604-1767290400-1767297600@fortwayneelectricworks.com
SUMMARY:BINGO | CHAPMANS BREWING COMPANY
DESCRIPTION:Shout “BINGO!” & win some prizes at Chapman’s Brewery Bingo! Join the fun every Thursday for this lively\, engaging night. Grab a brew\, mark your card\, & enjoy a casual & competitive atmosphere with friends! \nDate of Event: Every Thursday\nTime of Event: 6:00 p.m.\nLocation of Event: Chapman’s Brewing Co. \nNo registration is needed. \nEvent Organizer: Chapman’s Brewing Co.. Find more information on the Chapman’s Brewing Co. website or social media channels.
URL:https://fortwayneelectricworks.com/event/bingo-chapmans-brewing-company/2026-01-01/
LOCATION:IN
CATEGORIES:Games & Trivia
ATTACH;FMTTYPE=image/jpeg:https://fortwayneelectricworks.com/wp-content/uploads/2025/12/586737942_792151940488067_8036493247092611363_n.jpg
END:VEVENT
BEGIN:VEVENT
DTSTART;TZID=America/Indiana/Indianapolis:20260103T090000
DTEND;TZID=America/Indiana/Indianapolis:20260103T130000
DTSTAMP:20260419T094348
CREATED:20250108T160038Z
LAST-MODIFIED:20260106T213254Z
UID:10001749-1767430800-1767445200@fortwayneelectricworks.com
SUMMARY:SUMMIT CITY FARMERS MARKET AT UNION STREET MARKET
DESCRIPTION:Summit City Farmers Market will kick off the 2026 indoor market season inside Union Street Market—happening every Saturday from 9am to 1pm. Support local farmers\, food producers\, and artisans and check out the Electric Works campus!
URL:https://fortwayneelectricworks.com/event/ft-waynes-farmers-market-at-union-street-market/2026-01-03/
LOCATION:IN
CATEGORIES:Arts & Culture,Shopping
ATTACH;FMTTYPE=image/jpeg:https://fortwayneelectricworks.com/wp-content/uploads/2025/01/DSC02237.jpg
END:VEVENT
BEGIN:VEVENT
DTSTART;TZID=America/Indiana/Indianapolis:20260107T180000
DTEND;TZID=America/Indiana/Indianapolis:20260107T210000
DTSTAMP:20260419T094348
CREATED:20240906T164815Z
LAST-MODIFIED:20250306T023730Z
UID:10001450-1767808800-1767819600@fortwayneelectricworks.com
SUMMARY:HELLCAT TRIVIA | CHAPMANS BREWING COMPANY
DESCRIPTION:Head to Chapman’s Brewing for an all-ages trivia night—every Wednesday! Hellcat Trivia hosts 2 games a night from 6-7pm and 8-9pm! Trivia is free to play with special prizes for winners! \nDate: Every Wednesday\nTime: 6 – 9 PM\nLocation: Chapman’s Brewing Company\, Electric Works \nRegistration: Registration isn’t required. \nMore information on Chapman’s Brewing Company can be found here.
URL:https://fortwayneelectricworks.com/event/hellcat-trivia-at-chapmans-brewing-company/2026-01-07/
LOCATION:Chapman’s Brewing Company\, 1660 Broadway\, Fort Wayne\, IN\, 46802\, United States
CATEGORIES:Games & Trivia
ATTACH;FMTTYPE=image/jpeg:https://fortwayneelectricworks.com/wp-content/uploads/2024/09/Copy-of-earthworks-earth-day-market-900-×-600-px-77.jpg
END:VEVENT
BEGIN:VEVENT
DTSTART;TZID=America/Indiana/Indianapolis:20260108T180000
DTEND;TZID=America/Indiana/Indianapolis:20260108T200000
DTSTAMP:20260419T094348
CREATED:20251209T145620Z
LAST-MODIFIED:20251209T145620Z
UID:10002605-1767895200-1767902400@fortwayneelectricworks.com
SUMMARY:BINGO | CHAPMANS BREWING COMPANY
DESCRIPTION:Shout “BINGO!” & win some prizes at Chapman’s Brewery Bingo! Join the fun every Thursday for this lively\, engaging night. Grab a brew\, mark your card\, & enjoy a casual & competitive atmosphere with friends! \nDate of Event: Every Thursday\nTime of Event: 6:00 p.m.\nLocation of Event: Chapman’s Brewing Co. \nNo registration is needed. \nEvent Organizer: Chapman’s Brewing Co.. Find more information on the Chapman’s Brewing Co. website or social media channels.
URL:https://fortwayneelectricworks.com/event/bingo-chapmans-brewing-company/2026-01-08/
LOCATION:IN
CATEGORIES:Games & Trivia
ATTACH;FMTTYPE=image/jpeg:https://fortwayneelectricworks.com/wp-content/uploads/2025/12/586737942_792151940488067_8036493247092611363_n.jpg
END:VEVENT
BEGIN:VEVENT
DTSTART;TZID=America/Indiana/Indianapolis:20260110T090000
DTEND;TZID=America/Indiana/Indianapolis:20260110T130000
DTSTAMP:20260419T094348
CREATED:20250108T160038Z
LAST-MODIFIED:20260106T213254Z
UID:10001750-1768035600-1768050000@fortwayneelectricworks.com
SUMMARY:SUMMIT CITY FARMERS MARKET AT UNION STREET MARKET
DESCRIPTION:Summit City Farmers Market will kick off the 2026 indoor market season inside Union Street Market—happening every Saturday from 9am to 1pm. Support local farmers\, food producers\, and artisans and check out the Electric Works campus!
URL:https://fortwayneelectricworks.com/event/ft-waynes-farmers-market-at-union-street-market/2026-01-10/
LOCATION:IN
CATEGORIES:Arts & Culture,Shopping
ATTACH;FMTTYPE=image/jpeg:https://fortwayneelectricworks.com/wp-content/uploads/2025/01/DSC02237.jpg
END:VEVENT
BEGIN:VEVENT
DTSTART;TZID=America/Indiana/Indianapolis:20260114T180000
DTEND;TZID=America/Indiana/Indianapolis:20260114T210000
DTSTAMP:20260419T094348
CREATED:20240906T164815Z
LAST-MODIFIED:20250306T023730Z
UID:10001451-1768413600-1768424400@fortwayneelectricworks.com
SUMMARY:HELLCAT TRIVIA | CHAPMANS BREWING COMPANY
DESCRIPTION:Head to Chapman’s Brewing for an all-ages trivia night—every Wednesday! Hellcat Trivia hosts 2 games a night from 6-7pm and 8-9pm! Trivia is free to play with special prizes for winners! \nDate: Every Wednesday\nTime: 6 – 9 PM\nLocation: Chapman’s Brewing Company\, Electric Works \nRegistration: Registration isn’t required. \nMore information on Chapman’s Brewing Company can be found here.
URL:https://fortwayneelectricworks.com/event/hellcat-trivia-at-chapmans-brewing-company/2026-01-14/
LOCATION:Chapman’s Brewing Company\, 1660 Broadway\, Fort Wayne\, IN\, 46802\, United States
CATEGORIES:Games & Trivia
ATTACH;FMTTYPE=image/jpeg:https://fortwayneelectricworks.com/wp-content/uploads/2024/09/Copy-of-earthworks-earth-day-market-900-×-600-px-77.jpg
END:VEVENT
BEGIN:VEVENT
DTSTART;TZID=America/Indiana/Indianapolis:20260115T180000
DTEND;TZID=America/Indiana/Indianapolis:20260115T200000
DTSTAMP:20260419T094348
CREATED:20251209T145620Z
LAST-MODIFIED:20251209T145620Z
UID:10002606-1768500000-1768507200@fortwayneelectricworks.com
SUMMARY:BINGO | CHAPMANS BREWING COMPANY
DESCRIPTION:Shout “BINGO!” & win some prizes at Chapman’s Brewery Bingo! Join the fun every Thursday for this lively\, engaging night. Grab a brew\, mark your card\, & enjoy a casual & competitive atmosphere with friends! \nDate of Event: Every Thursday\nTime of Event: 6:00 p.m.\nLocation of Event: Chapman’s Brewing Co. \nNo registration is needed. \nEvent Organizer: Chapman’s Brewing Co.. Find more information on the Chapman’s Brewing Co. website or social media channels.
URL:https://fortwayneelectricworks.com/event/bingo-chapmans-brewing-company/2026-01-15/
LOCATION:IN
CATEGORIES:Games & Trivia
ATTACH;FMTTYPE=image/jpeg:https://fortwayneelectricworks.com/wp-content/uploads/2025/12/586737942_792151940488067_8036493247092611363_n.jpg
END:VEVENT
BEGIN:VEVENT
DTSTART;TZID=America/Indiana/Indianapolis:20260117T090000
DTEND;TZID=America/Indiana/Indianapolis:20260117T130000
DTSTAMP:20260419T094348
CREATED:20250108T160038Z
LAST-MODIFIED:20260106T213254Z
UID:10001751-1768640400-1768654800@fortwayneelectricworks.com
SUMMARY:SUMMIT CITY FARMERS MARKET AT UNION STREET MARKET
DESCRIPTION:Summit City Farmers Market will kick off the 2026 indoor market season inside Union Street Market—happening every Saturday from 9am to 1pm. Support local farmers\, food producers\, and artisans and check out the Electric Works campus!
URL:https://fortwayneelectricworks.com/event/ft-waynes-farmers-market-at-union-street-market/2026-01-17/
LOCATION:IN
CATEGORIES:Arts & Culture,Shopping
ATTACH;FMTTYPE=image/jpeg:https://fortwayneelectricworks.com/wp-content/uploads/2025/01/DSC02237.jpg
END:VEVENT
BEGIN:VEVENT
DTSTART;TZID=America/Indiana/Indianapolis:20260117T093000
DTEND;TZID=America/Indiana/Indianapolis:20260117T110000
DTSTAMP:20260419T094348
CREATED:20251114T162926Z
LAST-MODIFIED:20251114T162926Z
UID:10002592-1768642200-1768647600@fortwayneelectricworks.com
SUMMARY:TOTS: DIG IN! (PALEONTOLOGY) | UNION STREET MARKET | MEZZANINE
DESCRIPTION:Ready to travel back in time? In Dig In!\, your child will become a junior paleontologist! They will learn all about fascinating fossils & mighty dinosaurs while getting their hands delightfully dirty in a simulated excavation. Prepare for roaring fun & exciting discoveries! \nDate of Event January 17\nTime of Event 9:30–11:00 a.m.\nLocation of Event Union Street Market | Mezzanine \nRegistration is required. Check the Science Central website for current pricing & registration details. \nEvent Organizer: Science Central. Find more information about the TOTS series\, registration\, & other programs at the Science Central website.
URL:https://fortwayneelectricworks.com/event/tots-dig-in-paleontology-union-street-market-mezzanine/
LOCATION:IN
CATEGORIES:Kids & Family
ATTACH;FMTTYPE=image/jpeg:https://fortwayneelectricworks.com/wp-content/uploads/2025/11/Untitled-design-6.jpg
END:VEVENT
BEGIN:VEVENT
DTSTART;TZID=America/Indiana/Indianapolis:20260121T180000
DTEND;TZID=America/Indiana/Indianapolis:20260121T210000
DTSTAMP:20260419T094348
CREATED:20240906T164815Z
LAST-MODIFIED:20250306T023730Z
UID:10001452-1769018400-1769029200@fortwayneelectricworks.com
SUMMARY:HELLCAT TRIVIA | CHAPMANS BREWING COMPANY
DESCRIPTION:Head to Chapman’s Brewing for an all-ages trivia night—every Wednesday! Hellcat Trivia hosts 2 games a night from 6-7pm and 8-9pm! Trivia is free to play with special prizes for winners! \nDate: Every Wednesday\nTime: 6 – 9 PM\nLocation: Chapman’s Brewing Company\, Electric Works \nRegistration: Registration isn’t required. \nMore information on Chapman’s Brewing Company can be found here.
URL:https://fortwayneelectricworks.com/event/hellcat-trivia-at-chapmans-brewing-company/2026-01-21/
LOCATION:Chapman’s Brewing Company\, 1660 Broadway\, Fort Wayne\, IN\, 46802\, United States
CATEGORIES:Games & Trivia
ATTACH;FMTTYPE=image/jpeg:https://fortwayneelectricworks.com/wp-content/uploads/2024/09/Copy-of-earthworks-earth-day-market-900-×-600-px-77.jpg
END:VEVENT
BEGIN:VEVENT
DTSTART;TZID=America/Indiana/Indianapolis:20260122T180000
DTEND;TZID=America/Indiana/Indianapolis:20260122T200000
DTSTAMP:20260419T094348
CREATED:20251209T145620Z
LAST-MODIFIED:20251209T145620Z
UID:10002607-1769104800-1769112000@fortwayneelectricworks.com
SUMMARY:BINGO | CHAPMANS BREWING COMPANY
DESCRIPTION:Shout “BINGO!” & win some prizes at Chapman’s Brewery Bingo! Join the fun every Thursday for this lively\, engaging night. Grab a brew\, mark your card\, & enjoy a casual & competitive atmosphere with friends! \nDate of Event: Every Thursday\nTime of Event: 6:00 p.m.\nLocation of Event: Chapman’s Brewing Co. \nNo registration is needed. \nEvent Organizer: Chapman’s Brewing Co.. Find more information on the Chapman’s Brewing Co. website or social media channels.
URL:https://fortwayneelectricworks.com/event/bingo-chapmans-brewing-company/2026-01-22/
LOCATION:IN
CATEGORIES:Games & Trivia
ATTACH;FMTTYPE=image/jpeg:https://fortwayneelectricworks.com/wp-content/uploads/2025/12/586737942_792151940488067_8036493247092611363_n.jpg
END:VEVENT
BEGIN:VEVENT
DTSTART;TZID=America/Indiana/Indianapolis:20260124T090000
DTEND;TZID=America/Indiana/Indianapolis:20260124T130000
DTSTAMP:20260419T094348
CREATED:20250108T160038Z
LAST-MODIFIED:20260106T213254Z
UID:10001752-1769245200-1769259600@fortwayneelectricworks.com
SUMMARY:SUMMIT CITY FARMERS MARKET AT UNION STREET MARKET
DESCRIPTION:Summit City Farmers Market will kick off the 2026 indoor market season inside Union Street Market—happening every Saturday from 9am to 1pm. Support local farmers\, food producers\, and artisans and check out the Electric Works campus!
URL:https://fortwayneelectricworks.com/event/ft-waynes-farmers-market-at-union-street-market/2026-01-24/
LOCATION:IN
CATEGORIES:Arts & Culture,Shopping
ATTACH;FMTTYPE=image/jpeg:https://fortwayneelectricworks.com/wp-content/uploads/2025/01/DSC02237.jpg
END:VEVENT
BEGIN:VEVENT
DTSTART;TZID=America/Indiana/Indianapolis:20260128T180000
DTEND;TZID=America/Indiana/Indianapolis:20260128T210000
DTSTAMP:20260419T094348
CREATED:20240906T164815Z
LAST-MODIFIED:20250306T023730Z
UID:10001453-1769623200-1769634000@fortwayneelectricworks.com
SUMMARY:HELLCAT TRIVIA | CHAPMANS BREWING COMPANY
DESCRIPTION:Head to Chapman’s Brewing for an all-ages trivia night—every Wednesday! Hellcat Trivia hosts 2 games a night from 6-7pm and 8-9pm! Trivia is free to play with special prizes for winners! \nDate: Every Wednesday\nTime: 6 – 9 PM\nLocation: Chapman’s Brewing Company\, Electric Works \nRegistration: Registration isn’t required. \nMore information on Chapman’s Brewing Company can be found here.
URL:https://fortwayneelectricworks.com/event/hellcat-trivia-at-chapmans-brewing-company/2026-01-28/
LOCATION:Chapman’s Brewing Company\, 1660 Broadway\, Fort Wayne\, IN\, 46802\, United States
CATEGORIES:Games & Trivia
ATTACH;FMTTYPE=image/jpeg:https://fortwayneelectricworks.com/wp-content/uploads/2024/09/Copy-of-earthworks-earth-day-market-900-×-600-px-77.jpg
END:VEVENT
BEGIN:VEVENT
DTSTART;TZID=America/Indiana/Indianapolis:20260129T180000
DTEND;TZID=America/Indiana/Indianapolis:20260129T200000
DTSTAMP:20260419T094348
CREATED:20251209T145620Z
LAST-MODIFIED:20251209T145620Z
UID:10002608-1769709600-1769716800@fortwayneelectricworks.com
SUMMARY:BINGO | CHAPMANS BREWING COMPANY
DESCRIPTION:Shout “BINGO!” & win some prizes at Chapman’s Brewery Bingo! Join the fun every Thursday for this lively\, engaging night. Grab a brew\, mark your card\, & enjoy a casual & competitive atmosphere with friends! \nDate of Event: Every Thursday\nTime of Event: 6:00 p.m.\nLocation of Event: Chapman’s Brewing Co. \nNo registration is needed. \nEvent Organizer: Chapman’s Brewing Co.. Find more information on the Chapman’s Brewing Co. website or social media channels.
URL:https://fortwayneelectricworks.com/event/bingo-chapmans-brewing-company/2026-01-29/
LOCATION:IN
CATEGORIES:Games & Trivia
ATTACH;FMTTYPE=image/jpeg:https://fortwayneelectricworks.com/wp-content/uploads/2025/12/586737942_792151940488067_8036493247092611363_n.jpg
END:VEVENT
BEGIN:VEVENT
DTSTART;TZID=America/Indiana/Indianapolis:20260131T090000
DTEND;TZID=America/Indiana/Indianapolis:20260131T130000
DTSTAMP:20260419T094348
CREATED:20250108T160038Z
LAST-MODIFIED:20260106T213254Z
UID:10001753-1769850000-1769864400@fortwayneelectricworks.com
SUMMARY:SUMMIT CITY FARMERS MARKET AT UNION STREET MARKET
DESCRIPTION:Summit City Farmers Market will kick off the 2026 indoor market season inside Union Street Market—happening every Saturday from 9am to 1pm. Support local farmers\, food producers\, and artisans and check out the Electric Works campus!
URL:https://fortwayneelectricworks.com/event/ft-waynes-farmers-market-at-union-street-market/2026-01-31/
LOCATION:IN
CATEGORIES:Arts & Culture,Shopping
ATTACH;FMTTYPE=image/jpeg:https://fortwayneelectricworks.com/wp-content/uploads/2025/01/DSC02237.jpg
END:VEVENT
END:VCALENDAR