BEGIN:VCALENDAR
VERSION:2.0
PRODID:-//Fort Wayne Electric Works - ECPv6.6.3//NONSGML v1.0//EN
CALSCALE:GREGORIAN
METHOD:PUBLISH
X-WR-CALNAME:Fort Wayne Electric Works
X-ORIGINAL-URL:https://fortwayneelectricworks.com
X-WR-CALDESC:Events for Fort Wayne Electric Works
REFRESH-INTERVAL;VALUE=DURATION:PT1H
X-Robots-Tag:noindex
X-PUBLISHED-TTL:PT1H
BEGIN:VTIMEZONE
TZID:America/Indiana/Indianapolis
BEGIN:DAYLIGHT
TZOFFSETFROM:-0500
TZOFFSETTO:-0400
TZNAME:EDT
DTSTART:20240310T070000
END:DAYLIGHT
BEGIN:STANDARD
TZOFFSETFROM:-0400
TZOFFSETTO:-0500
TZNAME:EST
DTSTART:20241103T060000
END:STANDARD
END:VTIMEZONE
BEGIN:VEVENT
DTSTART;TZID=America/Indiana/Indianapolis:20241204T180000
DTEND;TZID=America/Indiana/Indianapolis:20241204T210000
DTSTAMP:20260425T120721
CREATED:20240906T164815Z
LAST-MODIFIED:20250306T023730Z
UID:10001393-1733335200-1733346000@fortwayneelectricworks.com
SUMMARY:HELLCAT TRIVIA | CHAPMANS BREWING COMPANY
DESCRIPTION:Head to Chapman’s Brewing for an all-ages trivia night—every Wednesday! Hellcat Trivia hosts 2 games a night from 6-7pm and 8-9pm! Trivia is free to play with special prizes for winners! \nDate: Every Wednesday\nTime: 6 – 9 PM\nLocation: Chapman’s Brewing Company\, Electric Works \nRegistration: Registration isn’t required. \nMore information on Chapman’s Brewing Company can be found here.
URL:https://fortwayneelectricworks.com/event/hellcat-trivia-at-chapmans-brewing-company/2024-12-04/
LOCATION:Chapman’s Brewing Company\, 1660 Broadway\, Fort Wayne\, IN\, 46802\, United States
CATEGORIES:Games & Trivia
ATTACH;FMTTYPE=image/jpeg:https://fortwayneelectricworks.com/wp-content/uploads/2024/09/Copy-of-earthworks-earth-day-market-900-×-600-px-77.jpg
END:VEVENT
BEGIN:VEVENT
DTSTART;TZID=America/Indiana/Indianapolis:20241206T170000
DTEND;TZID=America/Indiana/Indianapolis:20241206T200000
DTSTAMP:20260425T120721
CREATED:20240906T191034Z
LAST-MODIFIED:20240906T191117Z
UID:10001654-1733504400-1733515200@fortwayneelectricworks.com
SUMMARY:FIRST FRIDAYS: Broadway Arts District
DESCRIPTION:Join the Broadway Arts District as we celebrate FIRST FRIDAYS along the Broadway corridor and beyond! \nParticipating businesses along Broadway will feature special\, art-centric First Fridays happenings within their venue. Follow the Broadway Arts District FW page to see what you can expect and who is participating each month! \nAt Electric Works\, you can check out our public art found in Union Street Market and Chapman’s Brewing Company rotating art exhibit. Grab a cocktail and stroll around campus looking at art (thanks for DORA). \nLocations: Union Street Market and Chapman’s + all other participating businesses in the Broadway Arts District
URL:https://fortwayneelectricworks.com/event/first-fridays-broadway-arts-district/2024-12-06/
LOCATION:IN
CATEGORIES:Arts & Culture
ATTACH;FMTTYPE=image/jpeg:https://fortwayneelectricworks.com/wp-content/uploads/2024/09/457386066_1032647585317414_1760350614502108892_n.jpg
END:VEVENT
BEGIN:VEVENT
DTSTART;TZID=America/Indiana/Indianapolis:20241211T180000
DTEND;TZID=America/Indiana/Indianapolis:20241211T210000
DTSTAMP:20260425T120721
CREATED:20240906T164815Z
LAST-MODIFIED:20250306T023730Z
UID:10001394-1733940000-1733950800@fortwayneelectricworks.com
SUMMARY:HELLCAT TRIVIA | CHAPMANS BREWING COMPANY
DESCRIPTION:Head to Chapman’s Brewing for an all-ages trivia night—every Wednesday! Hellcat Trivia hosts 2 games a night from 6-7pm and 8-9pm! Trivia is free to play with special prizes for winners! \nDate: Every Wednesday\nTime: 6 – 9 PM\nLocation: Chapman’s Brewing Company\, Electric Works \nRegistration: Registration isn’t required. \nMore information on Chapman’s Brewing Company can be found here.
URL:https://fortwayneelectricworks.com/event/hellcat-trivia-at-chapmans-brewing-company/2024-12-11/
LOCATION:Chapman’s Brewing Company\, 1660 Broadway\, Fort Wayne\, IN\, 46802\, United States
CATEGORIES:Games & Trivia
ATTACH;FMTTYPE=image/jpeg:https://fortwayneelectricworks.com/wp-content/uploads/2024/09/Copy-of-earthworks-earth-day-market-900-×-600-px-77.jpg
END:VEVENT
BEGIN:VEVENT
DTSTART;TZID=America/Indiana/Indianapolis:20241211T190000
DTEND;TZID=America/Indiana/Indianapolis:20241211T200000
DTSTAMP:20260425T120721
CREATED:20240329T220521Z
LAST-MODIFIED:20240329T220521Z
UID:10001315-1733943600-1733947200@fortwayneelectricworks.com
SUMMARY:Cooking For Kidney Health by the National Kidney Foundation of Indiana
DESCRIPTION:Do you have a hard time figuring out what you can eat that is kidney friendly and still tastes good? Does it feel like an impossible task? \nJoin the Kidney Foundation on the second Wednesday of the month from 7-8pm at the Teaching Kitchen (inside Union Street Market on the West Hall’s mezzanine) for their brand new cooking class program: “Cooking For Kidney Health!” \nThis monthly class will feature local chefs from area restaurants showing you how to make delicious\, kidney friendly meals in your very own kitchen! As an added bonus\, the first 30 adults (ages 18 and over) who attend the class will receive a FREE $25 Kroger gift card! \nWhere: The Teaching Kitchen inside Union Street Market at Electric Works \nLearn more here.
URL:https://fortwayneelectricworks.com/event/cooking-for-kidney-health-by-the-national-kidney-foundation-of-indiana-10/
LOCATION:IN
ATTACH;FMTTYPE=image/jpeg:https://fortwayneelectricworks.com/wp-content/uploads/2023/09/CookingShowPostcardFront-Brandon-Spice-1.jpg
END:VEVENT
BEGIN:VEVENT
DTSTART;TZID=America/Indiana/Indianapolis:20241213T180000
DTEND;TZID=America/Indiana/Indianapolis:20241213T200000
DTSTAMP:20260425T120721
CREATED:20241115T172325Z
LAST-MODIFIED:20241115T172328Z
UID:10001665-1734112800-1734120000@fortwayneelectricworks.com
SUMMARY:Tincture of Trivia at Union Street Market
DESCRIPTION:Join Tincture of Trivia for themed\, free trivia at Union Street Market—every 2nd and 4th Friday of the month! \nGet a team together and play to win a special prize! \nJoin the fun and check out our upcoming trivia themes: \n\nJuly 12: All Sports\nJuly 26: Justin Bieber\nAugust 9: Nickelodeon\nAugust 23: Travel & Adventure\nSeptember 13: The Simpsons\nSeptember 27: Seinfeld\nOctober 11: Grey’s Anatomy\nOctober 25: Scary Movie\nNovember 8: Stranger Things\nNovember 22: General Knowledge\nDecember 13: Christmas Movie\nDecember 27: 21st Century Pop Culture
URL:https://fortwayneelectricworks.com/event/tincture-of-trivia-at-union-street-market-2/2024-12-13/
LOCATION:IN
CATEGORIES:Games & Trivia
ATTACH;FMTTYPE=image/jpeg:https://fortwayneelectricworks.com/wp-content/uploads/2023/12/Copy-of-earthworks-earth-day-market-900-×-600-px-51.jpg
END:VEVENT
BEGIN:VEVENT
DTSTART;TZID=America/Indiana/Indianapolis:20241217T100000
DTEND;TZID=America/Indiana/Indianapolis:20241217T110000
DTSTAMP:20260425T120721
CREATED:20241115T171949Z
LAST-MODIFIED:20241115T171951Z
UID:10001646-1734429600-1734433200@fortwayneelectricworks.com
SUMMARY:TOTS by Science Central (Ages 3-6) at Union Street Market
DESCRIPTION:TOTS\, short for “Today’s Observers\, Tomorrow’s Scientists\,” is Science Central’s program for children ages 3 to 6. Each session features engaging\, age-appropriate activities designed to introduce young learners to the world of STEM. Each month there is a story time and activity related to a different science theme. Learn more about each program’s theme or register here. \nLocation: The Mezzanine at Union Street Market \nSign-in starts at 9:30AM \nThis event is hosted by Science Central. Registration is encouraged. Register Here.\nPlease contact Science Central for any questions.
URL:https://fortwayneelectricworks.com/event/tots-by-science-central-ages-3-6-2/2024-12-17/
LOCATION:IN
CATEGORIES:Education,Kids & Family
ATTACH;FMTTYPE=image/png:https://fortwayneelectricworks.com/wp-content/uploads/2024/09/Copy-of-earthworks-earth-day-market-900-×-600-px-81.png
END:VEVENT
BEGIN:VEVENT
DTSTART;TZID=America/Indiana/Indianapolis:20241218T180000
DTEND;TZID=America/Indiana/Indianapolis:20241218T210000
DTSTAMP:20260425T120721
CREATED:20240906T164815Z
LAST-MODIFIED:20250306T023730Z
UID:10001395-1734544800-1734555600@fortwayneelectricworks.com
SUMMARY:HELLCAT TRIVIA | CHAPMANS BREWING COMPANY
DESCRIPTION:Head to Chapman’s Brewing for an all-ages trivia night—every Wednesday! Hellcat Trivia hosts 2 games a night from 6-7pm and 8-9pm! Trivia is free to play with special prizes for winners! \nDate: Every Wednesday\nTime: 6 – 9 PM\nLocation: Chapman’s Brewing Company\, Electric Works \nRegistration: Registration isn’t required. \nMore information on Chapman’s Brewing Company can be found here.
URL:https://fortwayneelectricworks.com/event/hellcat-trivia-at-chapmans-brewing-company/2024-12-18/
LOCATION:Chapman’s Brewing Company\, 1660 Broadway\, Fort Wayne\, IN\, 46802\, United States
CATEGORIES:Games & Trivia
ATTACH;FMTTYPE=image/jpeg:https://fortwayneelectricworks.com/wp-content/uploads/2024/09/Copy-of-earthworks-earth-day-market-900-×-600-px-77.jpg
END:VEVENT
BEGIN:VEVENT
DTSTART;VALUE=DATE:20241219
DTEND;VALUE=DATE:20241222
DTSTAMP:20260425T120721
CREATED:20241219T184032Z
LAST-MODIFIED:20241219T184153Z
UID:10001679-1734566400-1734825599@fortwayneelectricworks.com
SUMMARY:FWFM 2024 Holiday Silent Auction
DESCRIPTION:Help Electric Works & Ft Wayne’s Farmers Market raise funds for A Mother’s Hope through this year’s Market Silent Auction. \nA Mother’s Hope Mission: “A Mother’s Hope shelters pregnant women who are experiencing homelessness and provides life-changes opportunities for growth.” \nAuctions Rules & Schedule:\n1. Bidding is currently live. Bid on 1 of 13 great baskets with amazing goods provided by our market vendors. Click on links below\, bid in the comments of each basket post. The last comment posted before Friday\, Dec. 20th is considered the winning bid.\n2. After bidding has closed at 12pm on Dec. 20th\, winners will receive an email from market staff to confirm that they have won that basket.\n3. Baskets will be available for pick-up at Saturday’s market between 9am – 1pm at Union Street Market at Electric Works. \nQuick Links to Silent Auction Baskets:\n\nBasket #1 – Multi Vendor Basket: Mini Apple Pie\, Loaf of Banana Bread\, 3 bags of Buckeyes\, 1 Billionaire Bar (value: $49)\nDutch Acres\, Good Riddance Gluten-free Bakery\, Etta’s Gooey Goodey’s \nBasket 2# – Multi Vendor Basket: Bath Crumble\, Chapstick\, Gift Certificate to Young’s Greenhouse\, Neysi’s Musings Earrings\, Air Plant from Young’s (value: $70)\nHyssop and Myrrh\, Nagel’s Gardenhouse\, Neysi’s Musings\, and Young’s Greenhouse \nBasket #3 – Multi Vendor Basket: Deer Antler Pen\, Bundle of Wooden ornaments\, Earrings from Fritz Studios\, Knight’s Apothecary Whipped Tallow Cream (value: $115)\nHandywork by Dave\, Fritz Studio\, and Knights Apothecary \nBasket #4 – Multi Vendor Basket: 3 dozen Eggs\, Hoffman Certified Organic Gift Certificate\, Hodge Family Farm Gift Certificate\, Grow Your Own Mushroom Kit\, Beeswax Wrap\, Bottle of Honey (value: $150)\nElderberry Farms\, Hoffmans\, Hyssop and Myrrh\, Myzel Risin’\, and Wholesome Meadows \nBasket #5 – Multi Vendor Basket: 3 Summer Sausages\, 3 Blocks of Cheese\, Crackers (value: $53)\nFruited Plain Seed\, and Hufford Family Dairy \nBasket #6 – Multi Vendor Basket: Radishes\, Beets\, Carrots\, Salad Greens\, Sweet Potatoes\, Garlic\, 2 cans of Chunked Beef (value: $60)\nBerry Hill Farm and Doctor Family Farms \nTeajutsu Basket – Assortment of teas\, holiday mug\, infuser\, and Walker shortbread cookies (value: $75)\nTeajutsu \nCallen Till Basket – Book\, Journal\, Stickers\, and Bookmark (value: $33)\nCallen Till \nGolden Green Basket – 4 bars of soap\, 2 soap savers\, 1 bottle of lotion\, and 1 facemask (value: $53)\nGolden Green Soap Co. \nMcCombee’s Apiaries Basket: Jar of Creamed Honey\, Jar of Cinnamon Creamed Honey\, 1/2 Square Honey Comb\, 1/2 lb. Jar Honey\, & Beeswax tea light candles (value: $40)\nMcCombee’s Apiaries \nThe Olde Farmhouse Basket: 1 Whole Chicken\, 1 Bag of Potatoes\, 1 Bag of Onions\, 1 Spaghetti Squash\, & 1 Cabbage (value: $32)\nThe Olde Farmhouse \nBig Sister Salsa Basket: 1 Jar of Salsa\, 1 Jar of Jam\, 1 Bag of Nuts\, 1 Bag of Granola (value: $36)\nBig Sister Salsa \nRed Barn Soap Basket: 1 Large Basket\, 2 Hand Towels\, 2 Wash Cloths\, 1 Large Ornament\, 1 Bar of Soap\, 1 Santa Bear Ornament (value: $30)\nRed Barn Soap \nThis year’s auction wouldn’t be possible without the support of: Berry Hill Farm\, Big Sister Salsa\, Callen Till \, Dr. Family Farm\, Dutch Acres\, Etta’s Gooey Goodies\, Elderberry Farms\, Fritz Studio\, Fruited Plain Seed\, Golden Green Soap Co.\, Good Riddance Gluten-free Bakery\, Handywork by Dave\, Hodge Family Farm\, Hoffman’s\, Huffed Family Dairy\, Hyssop and Myrrh\, Knights Apothecary\, McCombee’s Apiaries\, Myzel Risin’\, Nagel’s Gardenhouse\, Neysi’s Musings\, Red Barn Soap\, Teajutsu\, The Olde Farmhouse\, Wholesome Meadows\, and Young’s Greenhouse
URL:https://fortwayneelectricworks.com/event/fwfm-2024-holiday-silent-auction/
LOCATION:The Arcade at Union Street Market\, 1030 Swinney Ave\, Fort Wayne\, IN\, 46802\, United States
CATEGORIES:Food
ATTACH;FMTTYPE=image/jpeg:https://fortwayneelectricworks.com/wp-content/uploads/2024/12/Silent-Auction-FB-Event-Cover.jpg
END:VEVENT
BEGIN:VEVENT
DTSTART;TZID=America/Indiana/Indianapolis:20241225T180000
DTEND;TZID=America/Indiana/Indianapolis:20241225T210000
DTSTAMP:20260425T120721
CREATED:20240906T164815Z
LAST-MODIFIED:20250306T023730Z
UID:10001396-1735149600-1735160400@fortwayneelectricworks.com
SUMMARY:HELLCAT TRIVIA | CHAPMANS BREWING COMPANY
DESCRIPTION:Head to Chapman’s Brewing for an all-ages trivia night—every Wednesday! Hellcat Trivia hosts 2 games a night from 6-7pm and 8-9pm! Trivia is free to play with special prizes for winners! \nDate: Every Wednesday\nTime: 6 – 9 PM\nLocation: Chapman’s Brewing Company\, Electric Works \nRegistration: Registration isn’t required. \nMore information on Chapman’s Brewing Company can be found here.
URL:https://fortwayneelectricworks.com/event/hellcat-trivia-at-chapmans-brewing-company/2024-12-25/
LOCATION:Chapman’s Brewing Company\, 1660 Broadway\, Fort Wayne\, IN\, 46802\, United States
CATEGORIES:Games & Trivia
ATTACH;FMTTYPE=image/jpeg:https://fortwayneelectricworks.com/wp-content/uploads/2024/09/Copy-of-earthworks-earth-day-market-900-×-600-px-77.jpg
END:VEVENT
BEGIN:VEVENT
DTSTART;TZID=America/Indiana/Indianapolis:20241227T180000
DTEND;TZID=America/Indiana/Indianapolis:20241227T200000
DTSTAMP:20260425T120721
CREATED:20241115T172325Z
LAST-MODIFIED:20241115T172328Z
UID:10001666-1735322400-1735329600@fortwayneelectricworks.com
SUMMARY:Tincture of Trivia at Union Street Market
DESCRIPTION:Join Tincture of Trivia for themed\, free trivia at Union Street Market—every 2nd and 4th Friday of the month! \nGet a team together and play to win a special prize! \nJoin the fun and check out our upcoming trivia themes: \n\nJuly 12: All Sports\nJuly 26: Justin Bieber\nAugust 9: Nickelodeon\nAugust 23: Travel & Adventure\nSeptember 13: The Simpsons\nSeptember 27: Seinfeld\nOctober 11: Grey’s Anatomy\nOctober 25: Scary Movie\nNovember 8: Stranger Things\nNovember 22: General Knowledge\nDecember 13: Christmas Movie\nDecember 27: 21st Century Pop Culture
URL:https://fortwayneelectricworks.com/event/tincture-of-trivia-at-union-street-market-2/2024-12-27/
LOCATION:IN
CATEGORIES:Games & Trivia
ATTACH;FMTTYPE=image/jpeg:https://fortwayneelectricworks.com/wp-content/uploads/2023/12/Copy-of-earthworks-earth-day-market-900-×-600-px-51.jpg
END:VEVENT
END:VCALENDAR