BEGIN:VCALENDAR
VERSION:2.0
PRODID:-//Fort Wayne Electric Works - ECPv6.6.3//NONSGML v1.0//EN
CALSCALE:GREGORIAN
METHOD:PUBLISH
X-ORIGINAL-URL:https://fortwayneelectricworks.com
X-WR-CALDESC:Events for Fort Wayne Electric Works
REFRESH-INTERVAL;VALUE=DURATION:PT1H
X-Robots-Tag:noindex
X-PUBLISHED-TTL:PT1H
BEGIN:VTIMEZONE
TZID:America/Indiana/Indianapolis
BEGIN:DAYLIGHT
TZOFFSETFROM:-0500
TZOFFSETTO:-0400
TZNAME:EDT
DTSTART:20300310T070000
END:DAYLIGHT
BEGIN:STANDARD
TZOFFSETFROM:-0400
TZOFFSETTO:-0500
TZNAME:EST
DTSTART:20301103T060000
END:STANDARD
END:VTIMEZONE
BEGIN:VEVENT
DTSTART;TZID=America/Indiana/Indianapolis:20300713T090000
DTEND;TZID=America/Indiana/Indianapolis:20300713T130000
DTSTAMP:20260420T140343
CREATED:20250108T160038Z
LAST-MODIFIED:20260106T213254Z
UID:10002530-1910163600-1910178000@fortwayneelectricworks.com
SUMMARY:SUMMIT CITY FARMERS MARKET AT UNION STREET MARKET
DESCRIPTION:Summit City Farmers Market will kick off the 2026 indoor market season inside Union Street Market—happening every Saturday from 9am to 1pm. Support local farmers\, food producers\, and artisans and check out the Electric Works campus!
URL:https://fortwayneelectricworks.com/event/ft-waynes-farmers-market-at-union-street-market/2030-07-13/
CATEGORIES:Arts & Culture,Shopping
ATTACH;FMTTYPE=image/jpeg:https://fortwayneelectricworks.com/wp-content/uploads/2025/01/DSC02237.jpg
END:VEVENT
BEGIN:VEVENT
DTSTART;TZID=America/Indiana/Indianapolis:20300718T180000
DTEND;TZID=America/Indiana/Indianapolis:20300718T200000
DTSTAMP:20260420T140343
CREATED:20251209T145620Z
LAST-MODIFIED:20251209T145620Z
UID:10002841-1910628000-1910635200@fortwayneelectricworks.com
SUMMARY:BINGO | CHAPMANS BREWING COMPANY
DESCRIPTION:Shout “BINGO!” & win some prizes at Chapman’s Brewery Bingo! Join the fun every Thursday for this lively\, engaging night. Grab a brew\, mark your card\, & enjoy a casual & competitive atmosphere with friends! \nDate of Event: Every Thursday\nTime of Event: 6:00 p.m.\nLocation of Event: Chapman’s Brewing Co. \nNo registration is needed. \nEvent Organizer: Chapman’s Brewing Co.. Find more information on the Chapman’s Brewing Co. website or social media channels.
URL:https://fortwayneelectricworks.com/event/bingo-chapmans-brewing-company/2030-07-18/
CATEGORIES:Games & Trivia
ATTACH;FMTTYPE=image/jpeg:https://fortwayneelectricworks.com/wp-content/uploads/2025/12/586737942_792151940488067_8036493247092611363_n.jpg
END:VEVENT
BEGIN:VEVENT
DTSTART;TZID=America/Indiana/Indianapolis:20300720T090000
DTEND;TZID=America/Indiana/Indianapolis:20300720T130000
DTSTAMP:20260420T140343
CREATED:20250108T160038Z
LAST-MODIFIED:20260106T213254Z
UID:10002531-1910768400-1910782800@fortwayneelectricworks.com
SUMMARY:SUMMIT CITY FARMERS MARKET AT UNION STREET MARKET
DESCRIPTION:Summit City Farmers Market will kick off the 2026 indoor market season inside Union Street Market—happening every Saturday from 9am to 1pm. Support local farmers\, food producers\, and artisans and check out the Electric Works campus!
URL:https://fortwayneelectricworks.com/event/ft-waynes-farmers-market-at-union-street-market/2030-07-20/
CATEGORIES:Arts & Culture,Shopping
ATTACH;FMTTYPE=image/jpeg:https://fortwayneelectricworks.com/wp-content/uploads/2025/01/DSC02237.jpg
END:VEVENT
BEGIN:VEVENT
DTSTART;TZID=America/Indiana/Indianapolis:20300725T180000
DTEND;TZID=America/Indiana/Indianapolis:20300725T200000
DTSTAMP:20260420T140343
CREATED:20251209T145620Z
LAST-MODIFIED:20251209T145620Z
UID:10002842-1911232800-1911240000@fortwayneelectricworks.com
SUMMARY:BINGO | CHAPMANS BREWING COMPANY
DESCRIPTION:Shout “BINGO!” & win some prizes at Chapman’s Brewery Bingo! Join the fun every Thursday for this lively\, engaging night. Grab a brew\, mark your card\, & enjoy a casual & competitive atmosphere with friends! \nDate of Event: Every Thursday\nTime of Event: 6:00 p.m.\nLocation of Event: Chapman’s Brewing Co. \nNo registration is needed. \nEvent Organizer: Chapman’s Brewing Co.. Find more information on the Chapman’s Brewing Co. website or social media channels.
URL:https://fortwayneelectricworks.com/event/bingo-chapmans-brewing-company/2030-07-25/
CATEGORIES:Games & Trivia
ATTACH;FMTTYPE=image/jpeg:https://fortwayneelectricworks.com/wp-content/uploads/2025/12/586737942_792151940488067_8036493247092611363_n.jpg
END:VEVENT
BEGIN:VEVENT
DTSTART;TZID=America/Indiana/Indianapolis:20300727T090000
DTEND;TZID=America/Indiana/Indianapolis:20300727T130000
DTSTAMP:20260420T140343
CREATED:20250108T160038Z
LAST-MODIFIED:20260106T213254Z
UID:10002532-1911373200-1911387600@fortwayneelectricworks.com
SUMMARY:SUMMIT CITY FARMERS MARKET AT UNION STREET MARKET
DESCRIPTION:Summit City Farmers Market will kick off the 2026 indoor market season inside Union Street Market—happening every Saturday from 9am to 1pm. Support local farmers\, food producers\, and artisans and check out the Electric Works campus!
URL:https://fortwayneelectricworks.com/event/ft-waynes-farmers-market-at-union-street-market/2030-07-27/
CATEGORIES:Arts & Culture,Shopping
ATTACH;FMTTYPE=image/jpeg:https://fortwayneelectricworks.com/wp-content/uploads/2025/01/DSC02237.jpg
END:VEVENT
BEGIN:VEVENT
DTSTART;TZID=America/Indiana/Indianapolis:20300801T180000
DTEND;TZID=America/Indiana/Indianapolis:20300801T200000
DTSTAMP:20260420T140343
CREATED:20251209T145620Z
LAST-MODIFIED:20251209T145620Z
UID:10002843-1911837600-1911844800@fortwayneelectricworks.com
SUMMARY:BINGO | CHAPMANS BREWING COMPANY
DESCRIPTION:Shout “BINGO!” & win some prizes at Chapman’s Brewery Bingo! Join the fun every Thursday for this lively\, engaging night. Grab a brew\, mark your card\, & enjoy a casual & competitive atmosphere with friends! \nDate of Event: Every Thursday\nTime of Event: 6:00 p.m.\nLocation of Event: Chapman’s Brewing Co. \nNo registration is needed. \nEvent Organizer: Chapman’s Brewing Co.. Find more information on the Chapman’s Brewing Co. website or social media channels.
URL:https://fortwayneelectricworks.com/event/bingo-chapmans-brewing-company/2030-08-01/
CATEGORIES:Games & Trivia
ATTACH;FMTTYPE=image/jpeg:https://fortwayneelectricworks.com/wp-content/uploads/2025/12/586737942_792151940488067_8036493247092611363_n.jpg
END:VEVENT
BEGIN:VEVENT
DTSTART;TZID=America/Indiana/Indianapolis:20300803T090000
DTEND;TZID=America/Indiana/Indianapolis:20300803T130000
DTSTAMP:20260420T140343
CREATED:20250108T160038Z
LAST-MODIFIED:20260106T213254Z
UID:10002533-1911978000-1911992400@fortwayneelectricworks.com
SUMMARY:SUMMIT CITY FARMERS MARKET AT UNION STREET MARKET
DESCRIPTION:Summit City Farmers Market will kick off the 2026 indoor market season inside Union Street Market—happening every Saturday from 9am to 1pm. Support local farmers\, food producers\, and artisans and check out the Electric Works campus!
URL:https://fortwayneelectricworks.com/event/ft-waynes-farmers-market-at-union-street-market/2030-08-03/
CATEGORIES:Arts & Culture,Shopping
ATTACH;FMTTYPE=image/jpeg:https://fortwayneelectricworks.com/wp-content/uploads/2025/01/DSC02237.jpg
END:VEVENT
BEGIN:VEVENT
DTSTART;TZID=America/Indiana/Indianapolis:20300808T180000
DTEND;TZID=America/Indiana/Indianapolis:20300808T200000
DTSTAMP:20260420T140343
CREATED:20251209T145620Z
LAST-MODIFIED:20251209T145620Z
UID:10002844-1912442400-1912449600@fortwayneelectricworks.com
SUMMARY:BINGO | CHAPMANS BREWING COMPANY
DESCRIPTION:Shout “BINGO!” & win some prizes at Chapman’s Brewery Bingo! Join the fun every Thursday for this lively\, engaging night. Grab a brew\, mark your card\, & enjoy a casual & competitive atmosphere with friends! \nDate of Event: Every Thursday\nTime of Event: 6:00 p.m.\nLocation of Event: Chapman’s Brewing Co. \nNo registration is needed. \nEvent Organizer: Chapman’s Brewing Co.. Find more information on the Chapman’s Brewing Co. website or social media channels.
URL:https://fortwayneelectricworks.com/event/bingo-chapmans-brewing-company/2030-08-08/
CATEGORIES:Games & Trivia
ATTACH;FMTTYPE=image/jpeg:https://fortwayneelectricworks.com/wp-content/uploads/2025/12/586737942_792151940488067_8036493247092611363_n.jpg
END:VEVENT
BEGIN:VEVENT
DTSTART;TZID=America/Indiana/Indianapolis:20300810T090000
DTEND;TZID=America/Indiana/Indianapolis:20300810T130000
DTSTAMP:20260420T140343
CREATED:20250108T160038Z
LAST-MODIFIED:20260106T213254Z
UID:10002534-1912582800-1912597200@fortwayneelectricworks.com
SUMMARY:SUMMIT CITY FARMERS MARKET AT UNION STREET MARKET
DESCRIPTION:Summit City Farmers Market will kick off the 2026 indoor market season inside Union Street Market—happening every Saturday from 9am to 1pm. Support local farmers\, food producers\, and artisans and check out the Electric Works campus!
URL:https://fortwayneelectricworks.com/event/ft-waynes-farmers-market-at-union-street-market/2030-08-10/
CATEGORIES:Arts & Culture,Shopping
ATTACH;FMTTYPE=image/jpeg:https://fortwayneelectricworks.com/wp-content/uploads/2025/01/DSC02237.jpg
END:VEVENT
BEGIN:VEVENT
DTSTART;TZID=America/Indiana/Indianapolis:20300815T180000
DTEND;TZID=America/Indiana/Indianapolis:20300815T200000
DTSTAMP:20260420T140343
CREATED:20251209T145620Z
LAST-MODIFIED:20251209T145620Z
UID:10002845-1913047200-1913054400@fortwayneelectricworks.com
SUMMARY:BINGO | CHAPMANS BREWING COMPANY
DESCRIPTION:Shout “BINGO!” & win some prizes at Chapman’s Brewery Bingo! Join the fun every Thursday for this lively\, engaging night. Grab a brew\, mark your card\, & enjoy a casual & competitive atmosphere with friends! \nDate of Event: Every Thursday\nTime of Event: 6:00 p.m.\nLocation of Event: Chapman’s Brewing Co. \nNo registration is needed. \nEvent Organizer: Chapman’s Brewing Co.. Find more information on the Chapman’s Brewing Co. website or social media channels.
URL:https://fortwayneelectricworks.com/event/bingo-chapmans-brewing-company/2030-08-15/
CATEGORIES:Games & Trivia
ATTACH;FMTTYPE=image/jpeg:https://fortwayneelectricworks.com/wp-content/uploads/2025/12/586737942_792151940488067_8036493247092611363_n.jpg
END:VEVENT
BEGIN:VEVENT
DTSTART;TZID=America/Indiana/Indianapolis:20300817T090000
DTEND;TZID=America/Indiana/Indianapolis:20300817T130000
DTSTAMP:20260420T140343
CREATED:20250108T160038Z
LAST-MODIFIED:20260106T213254Z
UID:10002535-1913187600-1913202000@fortwayneelectricworks.com
SUMMARY:SUMMIT CITY FARMERS MARKET AT UNION STREET MARKET
DESCRIPTION:Summit City Farmers Market will kick off the 2026 indoor market season inside Union Street Market—happening every Saturday from 9am to 1pm. Support local farmers\, food producers\, and artisans and check out the Electric Works campus!
URL:https://fortwayneelectricworks.com/event/ft-waynes-farmers-market-at-union-street-market/2030-08-17/
CATEGORIES:Arts & Culture,Shopping
ATTACH;FMTTYPE=image/jpeg:https://fortwayneelectricworks.com/wp-content/uploads/2025/01/DSC02237.jpg
END:VEVENT
BEGIN:VEVENT
DTSTART;TZID=America/Indiana/Indianapolis:20300822T180000
DTEND;TZID=America/Indiana/Indianapolis:20300822T200000
DTSTAMP:20260420T140343
CREATED:20251209T145620Z
LAST-MODIFIED:20251209T145620Z
UID:10002846-1913652000-1913659200@fortwayneelectricworks.com
SUMMARY:BINGO | CHAPMANS BREWING COMPANY
DESCRIPTION:Shout “BINGO!” & win some prizes at Chapman’s Brewery Bingo! Join the fun every Thursday for this lively\, engaging night. Grab a brew\, mark your card\, & enjoy a casual & competitive atmosphere with friends! \nDate of Event: Every Thursday\nTime of Event: 6:00 p.m.\nLocation of Event: Chapman’s Brewing Co. \nNo registration is needed. \nEvent Organizer: Chapman’s Brewing Co.. Find more information on the Chapman’s Brewing Co. website or social media channels.
URL:https://fortwayneelectricworks.com/event/bingo-chapmans-brewing-company/2030-08-22/
CATEGORIES:Games & Trivia
ATTACH;FMTTYPE=image/jpeg:https://fortwayneelectricworks.com/wp-content/uploads/2025/12/586737942_792151940488067_8036493247092611363_n.jpg
END:VEVENT
BEGIN:VEVENT
DTSTART;TZID=America/Indiana/Indianapolis:20300824T090000
DTEND;TZID=America/Indiana/Indianapolis:20300824T130000
DTSTAMP:20260420T140343
CREATED:20250108T160038Z
LAST-MODIFIED:20260106T213254Z
UID:10002536-1913792400-1913806800@fortwayneelectricworks.com
SUMMARY:SUMMIT CITY FARMERS MARKET AT UNION STREET MARKET
DESCRIPTION:Summit City Farmers Market will kick off the 2026 indoor market season inside Union Street Market—happening every Saturday from 9am to 1pm. Support local farmers\, food producers\, and artisans and check out the Electric Works campus!
URL:https://fortwayneelectricworks.com/event/ft-waynes-farmers-market-at-union-street-market/2030-08-24/
CATEGORIES:Arts & Culture,Shopping
ATTACH;FMTTYPE=image/jpeg:https://fortwayneelectricworks.com/wp-content/uploads/2025/01/DSC02237.jpg
END:VEVENT
BEGIN:VEVENT
DTSTART;TZID=America/Indiana/Indianapolis:20300829T180000
DTEND;TZID=America/Indiana/Indianapolis:20300829T200000
DTSTAMP:20260420T140343
CREATED:20251209T145620Z
LAST-MODIFIED:20251209T145620Z
UID:10002847-1914256800-1914264000@fortwayneelectricworks.com
SUMMARY:BINGO | CHAPMANS BREWING COMPANY
DESCRIPTION:Shout “BINGO!” & win some prizes at Chapman’s Brewery Bingo! Join the fun every Thursday for this lively\, engaging night. Grab a brew\, mark your card\, & enjoy a casual & competitive atmosphere with friends! \nDate of Event: Every Thursday\nTime of Event: 6:00 p.m.\nLocation of Event: Chapman’s Brewing Co. \nNo registration is needed. \nEvent Organizer: Chapman’s Brewing Co.. Find more information on the Chapman’s Brewing Co. website or social media channels.
URL:https://fortwayneelectricworks.com/event/bingo-chapmans-brewing-company/2030-08-29/
CATEGORIES:Games & Trivia
ATTACH;FMTTYPE=image/jpeg:https://fortwayneelectricworks.com/wp-content/uploads/2025/12/586737942_792151940488067_8036493247092611363_n.jpg
END:VEVENT
BEGIN:VEVENT
DTSTART;TZID=America/Indiana/Indianapolis:20300831T090000
DTEND;TZID=America/Indiana/Indianapolis:20300831T130000
DTSTAMP:20260420T140343
CREATED:20250108T160038Z
LAST-MODIFIED:20260106T213254Z
UID:10002872-1914397200-1914411600@fortwayneelectricworks.com
SUMMARY:SUMMIT CITY FARMERS MARKET AT UNION STREET MARKET
DESCRIPTION:Summit City Farmers Market will kick off the 2026 indoor market season inside Union Street Market—happening every Saturday from 9am to 1pm. Support local farmers\, food producers\, and artisans and check out the Electric Works campus!
URL:https://fortwayneelectricworks.com/event/ft-waynes-farmers-market-at-union-street-market/2030-08-31/
CATEGORIES:Arts & Culture,Shopping
ATTACH;FMTTYPE=image/jpeg:https://fortwayneelectricworks.com/wp-content/uploads/2025/01/DSC02237.jpg
END:VEVENT
BEGIN:VEVENT
DTSTART;TZID=America/Indiana/Indianapolis:20300905T180000
DTEND;TZID=America/Indiana/Indianapolis:20300905T200000
DTSTAMP:20260420T140343
CREATED:20251209T145620Z
LAST-MODIFIED:20251209T145620Z
UID:10002848-1914861600-1914868800@fortwayneelectricworks.com
SUMMARY:BINGO | CHAPMANS BREWING COMPANY
DESCRIPTION:Shout “BINGO!” & win some prizes at Chapman’s Brewery Bingo! Join the fun every Thursday for this lively\, engaging night. Grab a brew\, mark your card\, & enjoy a casual & competitive atmosphere with friends! \nDate of Event: Every Thursday\nTime of Event: 6:00 p.m.\nLocation of Event: Chapman’s Brewing Co. \nNo registration is needed. \nEvent Organizer: Chapman’s Brewing Co.. Find more information on the Chapman’s Brewing Co. website or social media channels.
URL:https://fortwayneelectricworks.com/event/bingo-chapmans-brewing-company/2030-09-05/
CATEGORIES:Games & Trivia
ATTACH;FMTTYPE=image/jpeg:https://fortwayneelectricworks.com/wp-content/uploads/2025/12/586737942_792151940488067_8036493247092611363_n.jpg
END:VEVENT
BEGIN:VEVENT
DTSTART;TZID=America/Indiana/Indianapolis:20300907T090000
DTEND;TZID=America/Indiana/Indianapolis:20300907T130000
DTSTAMP:20260420T140343
CREATED:20250108T160038Z
LAST-MODIFIED:20260106T213254Z
UID:10002873-1915002000-1915016400@fortwayneelectricworks.com
SUMMARY:SUMMIT CITY FARMERS MARKET AT UNION STREET MARKET
DESCRIPTION:Summit City Farmers Market will kick off the 2026 indoor market season inside Union Street Market—happening every Saturday from 9am to 1pm. Support local farmers\, food producers\, and artisans and check out the Electric Works campus!
URL:https://fortwayneelectricworks.com/event/ft-waynes-farmers-market-at-union-street-market/2030-09-07/
CATEGORIES:Arts & Culture,Shopping
ATTACH;FMTTYPE=image/jpeg:https://fortwayneelectricworks.com/wp-content/uploads/2025/01/DSC02237.jpg
END:VEVENT
BEGIN:VEVENT
DTSTART;TZID=America/Indiana/Indianapolis:20300912T180000
DTEND;TZID=America/Indiana/Indianapolis:20300912T200000
DTSTAMP:20260420T140343
CREATED:20251209T145620Z
LAST-MODIFIED:20251209T145620Z
UID:10002849-1915466400-1915473600@fortwayneelectricworks.com
SUMMARY:BINGO | CHAPMANS BREWING COMPANY
DESCRIPTION:Shout “BINGO!” & win some prizes at Chapman’s Brewery Bingo! Join the fun every Thursday for this lively\, engaging night. Grab a brew\, mark your card\, & enjoy a casual & competitive atmosphere with friends! \nDate of Event: Every Thursday\nTime of Event: 6:00 p.m.\nLocation of Event: Chapman’s Brewing Co. \nNo registration is needed. \nEvent Organizer: Chapman’s Brewing Co.. Find more information on the Chapman’s Brewing Co. website or social media channels.
URL:https://fortwayneelectricworks.com/event/bingo-chapmans-brewing-company/2030-09-12/
CATEGORIES:Games & Trivia
ATTACH;FMTTYPE=image/jpeg:https://fortwayneelectricworks.com/wp-content/uploads/2025/12/586737942_792151940488067_8036493247092611363_n.jpg
END:VEVENT
BEGIN:VEVENT
DTSTART;TZID=America/Indiana/Indianapolis:20300914T090000
DTEND;TZID=America/Indiana/Indianapolis:20300914T130000
DTSTAMP:20260420T140343
CREATED:20250108T160038Z
LAST-MODIFIED:20260106T213254Z
UID:10002874-1915606800-1915621200@fortwayneelectricworks.com
SUMMARY:SUMMIT CITY FARMERS MARKET AT UNION STREET MARKET
DESCRIPTION:Summit City Farmers Market will kick off the 2026 indoor market season inside Union Street Market—happening every Saturday from 9am to 1pm. Support local farmers\, food producers\, and artisans and check out the Electric Works campus!
URL:https://fortwayneelectricworks.com/event/ft-waynes-farmers-market-at-union-street-market/2030-09-14/
CATEGORIES:Arts & Culture,Shopping
ATTACH;FMTTYPE=image/jpeg:https://fortwayneelectricworks.com/wp-content/uploads/2025/01/DSC02237.jpg
END:VEVENT
BEGIN:VEVENT
DTSTART;TZID=America/Indiana/Indianapolis:20300919T180000
DTEND;TZID=America/Indiana/Indianapolis:20300919T200000
DTSTAMP:20260420T140343
CREATED:20251209T145620Z
LAST-MODIFIED:20251209T145620Z
UID:10002850-1916071200-1916078400@fortwayneelectricworks.com
SUMMARY:BINGO | CHAPMANS BREWING COMPANY
DESCRIPTION:Shout “BINGO!” & win some prizes at Chapman’s Brewery Bingo! Join the fun every Thursday for this lively\, engaging night. Grab a brew\, mark your card\, & enjoy a casual & competitive atmosphere with friends! \nDate of Event: Every Thursday\nTime of Event: 6:00 p.m.\nLocation of Event: Chapman’s Brewing Co. \nNo registration is needed. \nEvent Organizer: Chapman’s Brewing Co.. Find more information on the Chapman’s Brewing Co. website or social media channels.
URL:https://fortwayneelectricworks.com/event/bingo-chapmans-brewing-company/2030-09-19/
CATEGORIES:Games & Trivia
ATTACH;FMTTYPE=image/jpeg:https://fortwayneelectricworks.com/wp-content/uploads/2025/12/586737942_792151940488067_8036493247092611363_n.jpg
END:VEVENT
BEGIN:VEVENT
DTSTART;TZID=America/Indiana/Indianapolis:20300921T090000
DTEND;TZID=America/Indiana/Indianapolis:20300921T130000
DTSTAMP:20260420T140343
CREATED:20250108T160038Z
LAST-MODIFIED:20260106T213254Z
UID:10002875-1916211600-1916226000@fortwayneelectricworks.com
SUMMARY:SUMMIT CITY FARMERS MARKET AT UNION STREET MARKET
DESCRIPTION:Summit City Farmers Market will kick off the 2026 indoor market season inside Union Street Market—happening every Saturday from 9am to 1pm. Support local farmers\, food producers\, and artisans and check out the Electric Works campus!
URL:https://fortwayneelectricworks.com/event/ft-waynes-farmers-market-at-union-street-market/2030-09-21/
CATEGORIES:Arts & Culture,Shopping
ATTACH;FMTTYPE=image/jpeg:https://fortwayneelectricworks.com/wp-content/uploads/2025/01/DSC02237.jpg
END:VEVENT
BEGIN:VEVENT
DTSTART;TZID=America/Indiana/Indianapolis:20300926T180000
DTEND;TZID=America/Indiana/Indianapolis:20300926T200000
DTSTAMP:20260420T140343
CREATED:20251209T145620Z
LAST-MODIFIED:20251209T145620Z
UID:10002851-1916676000-1916683200@fortwayneelectricworks.com
SUMMARY:BINGO | CHAPMANS BREWING COMPANY
DESCRIPTION:Shout “BINGO!” & win some prizes at Chapman’s Brewery Bingo! Join the fun every Thursday for this lively\, engaging night. Grab a brew\, mark your card\, & enjoy a casual & competitive atmosphere with friends! \nDate of Event: Every Thursday\nTime of Event: 6:00 p.m.\nLocation of Event: Chapman’s Brewing Co. \nNo registration is needed. \nEvent Organizer: Chapman’s Brewing Co.. Find more information on the Chapman’s Brewing Co. website or social media channels.
URL:https://fortwayneelectricworks.com/event/bingo-chapmans-brewing-company/2030-09-26/
CATEGORIES:Games & Trivia
ATTACH;FMTTYPE=image/jpeg:https://fortwayneelectricworks.com/wp-content/uploads/2025/12/586737942_792151940488067_8036493247092611363_n.jpg
END:VEVENT
BEGIN:VEVENT
DTSTART;TZID=America/Indiana/Indianapolis:20300928T090000
DTEND;TZID=America/Indiana/Indianapolis:20300928T130000
DTSTAMP:20260420T140343
CREATED:20250108T160038Z
LAST-MODIFIED:20260106T213254Z
UID:10002876-1916816400-1916830800@fortwayneelectricworks.com
SUMMARY:SUMMIT CITY FARMERS MARKET AT UNION STREET MARKET
DESCRIPTION:Summit City Farmers Market will kick off the 2026 indoor market season inside Union Street Market—happening every Saturday from 9am to 1pm. Support local farmers\, food producers\, and artisans and check out the Electric Works campus!
URL:https://fortwayneelectricworks.com/event/ft-waynes-farmers-market-at-union-street-market/2030-09-28/
CATEGORIES:Arts & Culture,Shopping
ATTACH;FMTTYPE=image/jpeg:https://fortwayneelectricworks.com/wp-content/uploads/2025/01/DSC02237.jpg
END:VEVENT
BEGIN:VEVENT
DTSTART;TZID=America/Indiana/Indianapolis:20301003T180000
DTEND;TZID=America/Indiana/Indianapolis:20301003T200000
DTSTAMP:20260420T140343
CREATED:20251209T145620Z
LAST-MODIFIED:20251209T145620Z
UID:10002852-1917280800-1917288000@fortwayneelectricworks.com
SUMMARY:BINGO | CHAPMANS BREWING COMPANY
DESCRIPTION:Shout “BINGO!” & win some prizes at Chapman’s Brewery Bingo! Join the fun every Thursday for this lively\, engaging night. Grab a brew\, mark your card\, & enjoy a casual & competitive atmosphere with friends! \nDate of Event: Every Thursday\nTime of Event: 6:00 p.m.\nLocation of Event: Chapman’s Brewing Co. \nNo registration is needed. \nEvent Organizer: Chapman’s Brewing Co.. Find more information on the Chapman’s Brewing Co. website or social media channels.
URL:https://fortwayneelectricworks.com/event/bingo-chapmans-brewing-company/2030-10-03/
CATEGORIES:Games & Trivia
ATTACH;FMTTYPE=image/jpeg:https://fortwayneelectricworks.com/wp-content/uploads/2025/12/586737942_792151940488067_8036493247092611363_n.jpg
END:VEVENT
BEGIN:VEVENT
DTSTART;TZID=America/Indiana/Indianapolis:20301005T090000
DTEND;TZID=America/Indiana/Indianapolis:20301005T130000
DTSTAMP:20260420T140343
CREATED:20250108T160038Z
LAST-MODIFIED:20260106T213254Z
UID:10002877-1917421200-1917435600@fortwayneelectricworks.com
SUMMARY:SUMMIT CITY FARMERS MARKET AT UNION STREET MARKET
DESCRIPTION:Summit City Farmers Market will kick off the 2026 indoor market season inside Union Street Market—happening every Saturday from 9am to 1pm. Support local farmers\, food producers\, and artisans and check out the Electric Works campus!
URL:https://fortwayneelectricworks.com/event/ft-waynes-farmers-market-at-union-street-market/2030-10-05/
CATEGORIES:Arts & Culture,Shopping
ATTACH;FMTTYPE=image/jpeg:https://fortwayneelectricworks.com/wp-content/uploads/2025/01/DSC02237.jpg
END:VEVENT
BEGIN:VEVENT
DTSTART;TZID=America/Indiana/Indianapolis:20301010T180000
DTEND;TZID=America/Indiana/Indianapolis:20301010T200000
DTSTAMP:20260420T140343
CREATED:20251209T145620Z
LAST-MODIFIED:20251209T145620Z
UID:10002853-1917885600-1917892800@fortwayneelectricworks.com
SUMMARY:BINGO | CHAPMANS BREWING COMPANY
DESCRIPTION:Shout “BINGO!” & win some prizes at Chapman’s Brewery Bingo! Join the fun every Thursday for this lively\, engaging night. Grab a brew\, mark your card\, & enjoy a casual & competitive atmosphere with friends! \nDate of Event: Every Thursday\nTime of Event: 6:00 p.m.\nLocation of Event: Chapman’s Brewing Co. \nNo registration is needed. \nEvent Organizer: Chapman’s Brewing Co.. Find more information on the Chapman’s Brewing Co. website or social media channels.
URL:https://fortwayneelectricworks.com/event/bingo-chapmans-brewing-company/2030-10-10/
CATEGORIES:Games & Trivia
ATTACH;FMTTYPE=image/jpeg:https://fortwayneelectricworks.com/wp-content/uploads/2025/12/586737942_792151940488067_8036493247092611363_n.jpg
END:VEVENT
BEGIN:VEVENT
DTSTART;TZID=America/Indiana/Indianapolis:20301012T090000
DTEND;TZID=America/Indiana/Indianapolis:20301012T130000
DTSTAMP:20260420T140343
CREATED:20250108T160038Z
LAST-MODIFIED:20260106T213254Z
UID:10002878-1918026000-1918040400@fortwayneelectricworks.com
SUMMARY:SUMMIT CITY FARMERS MARKET AT UNION STREET MARKET
DESCRIPTION:Summit City Farmers Market will kick off the 2026 indoor market season inside Union Street Market—happening every Saturday from 9am to 1pm. Support local farmers\, food producers\, and artisans and check out the Electric Works campus!
URL:https://fortwayneelectricworks.com/event/ft-waynes-farmers-market-at-union-street-market/2030-10-12/
CATEGORIES:Arts & Culture,Shopping
ATTACH;FMTTYPE=image/jpeg:https://fortwayneelectricworks.com/wp-content/uploads/2025/01/DSC02237.jpg
END:VEVENT
BEGIN:VEVENT
DTSTART;TZID=America/Indiana/Indianapolis:20301017T180000
DTEND;TZID=America/Indiana/Indianapolis:20301017T200000
DTSTAMP:20260420T140343
CREATED:20251209T145620Z
LAST-MODIFIED:20251209T145620Z
UID:10002854-1918490400-1918497600@fortwayneelectricworks.com
SUMMARY:BINGO | CHAPMANS BREWING COMPANY
DESCRIPTION:Shout “BINGO!” & win some prizes at Chapman’s Brewery Bingo! Join the fun every Thursday for this lively\, engaging night. Grab a brew\, mark your card\, & enjoy a casual & competitive atmosphere with friends! \nDate of Event: Every Thursday\nTime of Event: 6:00 p.m.\nLocation of Event: Chapman’s Brewing Co. \nNo registration is needed. \nEvent Organizer: Chapman’s Brewing Co.. Find more information on the Chapman’s Brewing Co. website or social media channels.
URL:https://fortwayneelectricworks.com/event/bingo-chapmans-brewing-company/2030-10-17/
CATEGORIES:Games & Trivia
ATTACH;FMTTYPE=image/jpeg:https://fortwayneelectricworks.com/wp-content/uploads/2025/12/586737942_792151940488067_8036493247092611363_n.jpg
END:VEVENT
BEGIN:VEVENT
DTSTART;TZID=America/Indiana/Indianapolis:20301019T090000
DTEND;TZID=America/Indiana/Indianapolis:20301019T130000
DTSTAMP:20260420T140343
CREATED:20250108T160038Z
LAST-MODIFIED:20260106T213254Z
UID:10002879-1918630800-1918645200@fortwayneelectricworks.com
SUMMARY:SUMMIT CITY FARMERS MARKET AT UNION STREET MARKET
DESCRIPTION:Summit City Farmers Market will kick off the 2026 indoor market season inside Union Street Market—happening every Saturday from 9am to 1pm. Support local farmers\, food producers\, and artisans and check out the Electric Works campus!
URL:https://fortwayneelectricworks.com/event/ft-waynes-farmers-market-at-union-street-market/2030-10-19/
CATEGORIES:Arts & Culture,Shopping
ATTACH;FMTTYPE=image/jpeg:https://fortwayneelectricworks.com/wp-content/uploads/2025/01/DSC02237.jpg
END:VEVENT
BEGIN:VEVENT
DTSTART;TZID=America/Indiana/Indianapolis:20301024T180000
DTEND;TZID=America/Indiana/Indianapolis:20301024T200000
DTSTAMP:20260420T140343
CREATED:20251209T145620Z
LAST-MODIFIED:20251209T145620Z
UID:10002855-1919095200-1919102400@fortwayneelectricworks.com
SUMMARY:BINGO | CHAPMANS BREWING COMPANY
DESCRIPTION:Shout “BINGO!” & win some prizes at Chapman’s Brewery Bingo! Join the fun every Thursday for this lively\, engaging night. Grab a brew\, mark your card\, & enjoy a casual & competitive atmosphere with friends! \nDate of Event: Every Thursday\nTime of Event: 6:00 p.m.\nLocation of Event: Chapman’s Brewing Co. \nNo registration is needed. \nEvent Organizer: Chapman’s Brewing Co.. Find more information on the Chapman’s Brewing Co. website or social media channels.
URL:https://fortwayneelectricworks.com/event/bingo-chapmans-brewing-company/2030-10-24/
CATEGORIES:Games & Trivia
ATTACH;FMTTYPE=image/jpeg:https://fortwayneelectricworks.com/wp-content/uploads/2025/12/586737942_792151940488067_8036493247092611363_n.jpg
END:VEVENT
END:VCALENDAR