BEGIN:VCALENDAR
VERSION:2.0
PRODID:-//Fort Wayne Electric Works - ECPv6.6.3//NONSGML v1.0//EN
CALSCALE:GREGORIAN
METHOD:PUBLISH
X-WR-CALNAME:Fort Wayne Electric Works
X-ORIGINAL-URL:https://fortwayneelectricworks.com
X-WR-CALDESC:Events for Fort Wayne Electric Works
REFRESH-INTERVAL;VALUE=DURATION:PT1H
X-Robots-Tag:noindex
X-PUBLISHED-TTL:PT1H
BEGIN:VTIMEZONE
TZID:America/Indiana/Indianapolis
BEGIN:DAYLIGHT
TZOFFSETFROM:-0500
TZOFFSETTO:-0400
TZNAME:EDT
DTSTART:20300310T070000
END:DAYLIGHT
BEGIN:STANDARD
TZOFFSETFROM:-0400
TZOFFSETTO:-0500
TZNAME:EST
DTSTART:20301103T060000
END:STANDARD
END:VTIMEZONE
BEGIN:VEVENT
DTSTART;TZID=America/Indiana/Indianapolis:20300420T090000
DTEND;TZID=America/Indiana/Indianapolis:20300420T130000
DTSTAMP:20260420T104701
CREATED:20250108T160038Z
LAST-MODIFIED:20260106T213254Z
UID:10002377-1902906000-1902920400@fortwayneelectricworks.com
SUMMARY:SUMMIT CITY FARMERS MARKET AT UNION STREET MARKET
DESCRIPTION:Summit City Farmers Market will kick off the 2026 indoor market season inside Union Street Market—happening every Saturday from 9am to 1pm. Support local farmers\, food producers\, and artisans and check out the Electric Works campus!
URL:https://fortwayneelectricworks.com/event/ft-waynes-farmers-market-at-union-street-market/2030-04-20/
CATEGORIES:Arts & Culture,Shopping
ATTACH;FMTTYPE=image/jpeg:https://fortwayneelectricworks.com/wp-content/uploads/2025/01/DSC02237.jpg
END:VEVENT
BEGIN:VEVENT
DTSTART;TZID=America/Indiana/Indianapolis:20300425T180000
DTEND;TZID=America/Indiana/Indianapolis:20300425T200000
DTSTAMP:20260420T104701
CREATED:20251209T145620Z
LAST-MODIFIED:20251209T145620Z
UID:10002829-1903370400-1903377600@fortwayneelectricworks.com
SUMMARY:BINGO | CHAPMANS BREWING COMPANY
DESCRIPTION:Shout “BINGO!” & win some prizes at Chapman’s Brewery Bingo! Join the fun every Thursday for this lively\, engaging night. Grab a brew\, mark your card\, & enjoy a casual & competitive atmosphere with friends! \nDate of Event: Every Thursday\nTime of Event: 6:00 p.m.\nLocation of Event: Chapman’s Brewing Co. \nNo registration is needed. \nEvent Organizer: Chapman’s Brewing Co.. Find more information on the Chapman’s Brewing Co. website or social media channels.
URL:https://fortwayneelectricworks.com/event/bingo-chapmans-brewing-company/2030-04-25/
CATEGORIES:Games & Trivia
ATTACH;FMTTYPE=image/jpeg:https://fortwayneelectricworks.com/wp-content/uploads/2025/12/586737942_792151940488067_8036493247092611363_n.jpg
END:VEVENT
BEGIN:VEVENT
DTSTART;TZID=America/Indiana/Indianapolis:20300427T090000
DTEND;TZID=America/Indiana/Indianapolis:20300427T130000
DTSTAMP:20260420T104701
CREATED:20250108T160038Z
LAST-MODIFIED:20260106T213254Z
UID:10002519-1903510800-1903525200@fortwayneelectricworks.com
SUMMARY:SUMMIT CITY FARMERS MARKET AT UNION STREET MARKET
DESCRIPTION:Summit City Farmers Market will kick off the 2026 indoor market season inside Union Street Market—happening every Saturday from 9am to 1pm. Support local farmers\, food producers\, and artisans and check out the Electric Works campus!
URL:https://fortwayneelectricworks.com/event/ft-waynes-farmers-market-at-union-street-market/2030-04-27/
CATEGORIES:Arts & Culture,Shopping
ATTACH;FMTTYPE=image/jpeg:https://fortwayneelectricworks.com/wp-content/uploads/2025/01/DSC02237.jpg
END:VEVENT
BEGIN:VEVENT
DTSTART;TZID=America/Indiana/Indianapolis:20300502T180000
DTEND;TZID=America/Indiana/Indianapolis:20300502T200000
DTSTAMP:20260420T104701
CREATED:20251209T145620Z
LAST-MODIFIED:20251209T145620Z
UID:10002830-1903975200-1903982400@fortwayneelectricworks.com
SUMMARY:BINGO | CHAPMANS BREWING COMPANY
DESCRIPTION:Shout “BINGO!” & win some prizes at Chapman’s Brewery Bingo! Join the fun every Thursday for this lively\, engaging night. Grab a brew\, mark your card\, & enjoy a casual & competitive atmosphere with friends! \nDate of Event: Every Thursday\nTime of Event: 6:00 p.m.\nLocation of Event: Chapman’s Brewing Co. \nNo registration is needed. \nEvent Organizer: Chapman’s Brewing Co.. Find more information on the Chapman’s Brewing Co. website or social media channels.
URL:https://fortwayneelectricworks.com/event/bingo-chapmans-brewing-company/2030-05-02/
CATEGORIES:Games & Trivia
ATTACH;FMTTYPE=image/jpeg:https://fortwayneelectricworks.com/wp-content/uploads/2025/12/586737942_792151940488067_8036493247092611363_n.jpg
END:VEVENT
BEGIN:VEVENT
DTSTART;TZID=America/Indiana/Indianapolis:20300504T090000
DTEND;TZID=America/Indiana/Indianapolis:20300504T130000
DTSTAMP:20260420T104701
CREATED:20250108T160038Z
LAST-MODIFIED:20260106T213254Z
UID:10002520-1904115600-1904130000@fortwayneelectricworks.com
SUMMARY:SUMMIT CITY FARMERS MARKET AT UNION STREET MARKET
DESCRIPTION:Summit City Farmers Market will kick off the 2026 indoor market season inside Union Street Market—happening every Saturday from 9am to 1pm. Support local farmers\, food producers\, and artisans and check out the Electric Works campus!
URL:https://fortwayneelectricworks.com/event/ft-waynes-farmers-market-at-union-street-market/2030-05-04/
CATEGORIES:Arts & Culture,Shopping
ATTACH;FMTTYPE=image/jpeg:https://fortwayneelectricworks.com/wp-content/uploads/2025/01/DSC02237.jpg
END:VEVENT
BEGIN:VEVENT
DTSTART;TZID=America/Indiana/Indianapolis:20300509T180000
DTEND;TZID=America/Indiana/Indianapolis:20300509T200000
DTSTAMP:20260420T104701
CREATED:20251209T145620Z
LAST-MODIFIED:20251209T145620Z
UID:10002831-1904580000-1904587200@fortwayneelectricworks.com
SUMMARY:BINGO | CHAPMANS BREWING COMPANY
DESCRIPTION:Shout “BINGO!” & win some prizes at Chapman’s Brewery Bingo! Join the fun every Thursday for this lively\, engaging night. Grab a brew\, mark your card\, & enjoy a casual & competitive atmosphere with friends! \nDate of Event: Every Thursday\nTime of Event: 6:00 p.m.\nLocation of Event: Chapman’s Brewing Co. \nNo registration is needed. \nEvent Organizer: Chapman’s Brewing Co.. Find more information on the Chapman’s Brewing Co. website or social media channels.
URL:https://fortwayneelectricworks.com/event/bingo-chapmans-brewing-company/2030-05-09/
CATEGORIES:Games & Trivia
ATTACH;FMTTYPE=image/jpeg:https://fortwayneelectricworks.com/wp-content/uploads/2025/12/586737942_792151940488067_8036493247092611363_n.jpg
END:VEVENT
BEGIN:VEVENT
DTSTART;TZID=America/Indiana/Indianapolis:20300511T090000
DTEND;TZID=America/Indiana/Indianapolis:20300511T130000
DTSTAMP:20260420T104701
CREATED:20250108T160038Z
LAST-MODIFIED:20260106T213254Z
UID:10002521-1904720400-1904734800@fortwayneelectricworks.com
SUMMARY:SUMMIT CITY FARMERS MARKET AT UNION STREET MARKET
DESCRIPTION:Summit City Farmers Market will kick off the 2026 indoor market season inside Union Street Market—happening every Saturday from 9am to 1pm. Support local farmers\, food producers\, and artisans and check out the Electric Works campus!
URL:https://fortwayneelectricworks.com/event/ft-waynes-farmers-market-at-union-street-market/2030-05-11/
CATEGORIES:Arts & Culture,Shopping
ATTACH;FMTTYPE=image/jpeg:https://fortwayneelectricworks.com/wp-content/uploads/2025/01/DSC02237.jpg
END:VEVENT
BEGIN:VEVENT
DTSTART;TZID=America/Indiana/Indianapolis:20300516T180000
DTEND;TZID=America/Indiana/Indianapolis:20300516T200000
DTSTAMP:20260420T104701
CREATED:20251209T145620Z
LAST-MODIFIED:20251209T145620Z
UID:10002832-1905184800-1905192000@fortwayneelectricworks.com
SUMMARY:BINGO | CHAPMANS BREWING COMPANY
DESCRIPTION:Shout “BINGO!” & win some prizes at Chapman’s Brewery Bingo! Join the fun every Thursday for this lively\, engaging night. Grab a brew\, mark your card\, & enjoy a casual & competitive atmosphere with friends! \nDate of Event: Every Thursday\nTime of Event: 6:00 p.m.\nLocation of Event: Chapman’s Brewing Co. \nNo registration is needed. \nEvent Organizer: Chapman’s Brewing Co.. Find more information on the Chapman’s Brewing Co. website or social media channels.
URL:https://fortwayneelectricworks.com/event/bingo-chapmans-brewing-company/2030-05-16/
CATEGORIES:Games & Trivia
ATTACH;FMTTYPE=image/jpeg:https://fortwayneelectricworks.com/wp-content/uploads/2025/12/586737942_792151940488067_8036493247092611363_n.jpg
END:VEVENT
BEGIN:VEVENT
DTSTART;TZID=America/Indiana/Indianapolis:20300518T090000
DTEND;TZID=America/Indiana/Indianapolis:20300518T130000
DTSTAMP:20260420T104701
CREATED:20250108T160038Z
LAST-MODIFIED:20260106T213254Z
UID:10002522-1905325200-1905339600@fortwayneelectricworks.com
SUMMARY:SUMMIT CITY FARMERS MARKET AT UNION STREET MARKET
DESCRIPTION:Summit City Farmers Market will kick off the 2026 indoor market season inside Union Street Market—happening every Saturday from 9am to 1pm. Support local farmers\, food producers\, and artisans and check out the Electric Works campus!
URL:https://fortwayneelectricworks.com/event/ft-waynes-farmers-market-at-union-street-market/2030-05-18/
CATEGORIES:Arts & Culture,Shopping
ATTACH;FMTTYPE=image/jpeg:https://fortwayneelectricworks.com/wp-content/uploads/2025/01/DSC02237.jpg
END:VEVENT
BEGIN:VEVENT
DTSTART;TZID=America/Indiana/Indianapolis:20300523T180000
DTEND;TZID=America/Indiana/Indianapolis:20300523T200000
DTSTAMP:20260420T104701
CREATED:20251209T145620Z
LAST-MODIFIED:20251209T145620Z
UID:10002833-1905789600-1905796800@fortwayneelectricworks.com
SUMMARY:BINGO | CHAPMANS BREWING COMPANY
DESCRIPTION:Shout “BINGO!” & win some prizes at Chapman’s Brewery Bingo! Join the fun every Thursday for this lively\, engaging night. Grab a brew\, mark your card\, & enjoy a casual & competitive atmosphere with friends! \nDate of Event: Every Thursday\nTime of Event: 6:00 p.m.\nLocation of Event: Chapman’s Brewing Co. \nNo registration is needed. \nEvent Organizer: Chapman’s Brewing Co.. Find more information on the Chapman’s Brewing Co. website or social media channels.
URL:https://fortwayneelectricworks.com/event/bingo-chapmans-brewing-company/2030-05-23/
CATEGORIES:Games & Trivia
ATTACH;FMTTYPE=image/jpeg:https://fortwayneelectricworks.com/wp-content/uploads/2025/12/586737942_792151940488067_8036493247092611363_n.jpg
END:VEVENT
BEGIN:VEVENT
DTSTART;TZID=America/Indiana/Indianapolis:20300525T090000
DTEND;TZID=America/Indiana/Indianapolis:20300525T130000
DTSTAMP:20260420T104701
CREATED:20250108T160038Z
LAST-MODIFIED:20260106T213254Z
UID:10002523-1905930000-1905944400@fortwayneelectricworks.com
SUMMARY:SUMMIT CITY FARMERS MARKET AT UNION STREET MARKET
DESCRIPTION:Summit City Farmers Market will kick off the 2026 indoor market season inside Union Street Market—happening every Saturday from 9am to 1pm. Support local farmers\, food producers\, and artisans and check out the Electric Works campus!
URL:https://fortwayneelectricworks.com/event/ft-waynes-farmers-market-at-union-street-market/2030-05-25/
CATEGORIES:Arts & Culture,Shopping
ATTACH;FMTTYPE=image/jpeg:https://fortwayneelectricworks.com/wp-content/uploads/2025/01/DSC02237.jpg
END:VEVENT
BEGIN:VEVENT
DTSTART;TZID=America/Indiana/Indianapolis:20300530T180000
DTEND;TZID=America/Indiana/Indianapolis:20300530T200000
DTSTAMP:20260420T104701
CREATED:20251209T145620Z
LAST-MODIFIED:20251209T145620Z
UID:10002834-1906394400-1906401600@fortwayneelectricworks.com
SUMMARY:BINGO | CHAPMANS BREWING COMPANY
DESCRIPTION:Shout “BINGO!” & win some prizes at Chapman’s Brewery Bingo! Join the fun every Thursday for this lively\, engaging night. Grab a brew\, mark your card\, & enjoy a casual & competitive atmosphere with friends! \nDate of Event: Every Thursday\nTime of Event: 6:00 p.m.\nLocation of Event: Chapman’s Brewing Co. \nNo registration is needed. \nEvent Organizer: Chapman’s Brewing Co.. Find more information on the Chapman’s Brewing Co. website or social media channels.
URL:https://fortwayneelectricworks.com/event/bingo-chapmans-brewing-company/2030-05-30/
CATEGORIES:Games & Trivia
ATTACH;FMTTYPE=image/jpeg:https://fortwayneelectricworks.com/wp-content/uploads/2025/12/586737942_792151940488067_8036493247092611363_n.jpg
END:VEVENT
BEGIN:VEVENT
DTSTART;TZID=America/Indiana/Indianapolis:20300601T090000
DTEND;TZID=America/Indiana/Indianapolis:20300601T130000
DTSTAMP:20260420T104701
CREATED:20250108T160038Z
LAST-MODIFIED:20260106T213254Z
UID:10002524-1906534800-1906549200@fortwayneelectricworks.com
SUMMARY:SUMMIT CITY FARMERS MARKET AT UNION STREET MARKET
DESCRIPTION:Summit City Farmers Market will kick off the 2026 indoor market season inside Union Street Market—happening every Saturday from 9am to 1pm. Support local farmers\, food producers\, and artisans and check out the Electric Works campus!
URL:https://fortwayneelectricworks.com/event/ft-waynes-farmers-market-at-union-street-market/2030-06-01/
CATEGORIES:Arts & Culture,Shopping
ATTACH;FMTTYPE=image/jpeg:https://fortwayneelectricworks.com/wp-content/uploads/2025/01/DSC02237.jpg
END:VEVENT
BEGIN:VEVENT
DTSTART;TZID=America/Indiana/Indianapolis:20300606T180000
DTEND;TZID=America/Indiana/Indianapolis:20300606T200000
DTSTAMP:20260420T104701
CREATED:20251209T145620Z
LAST-MODIFIED:20251209T145620Z
UID:10002835-1906999200-1907006400@fortwayneelectricworks.com
SUMMARY:BINGO | CHAPMANS BREWING COMPANY
DESCRIPTION:Shout “BINGO!” & win some prizes at Chapman’s Brewery Bingo! Join the fun every Thursday for this lively\, engaging night. Grab a brew\, mark your card\, & enjoy a casual & competitive atmosphere with friends! \nDate of Event: Every Thursday\nTime of Event: 6:00 p.m.\nLocation of Event: Chapman’s Brewing Co. \nNo registration is needed. \nEvent Organizer: Chapman’s Brewing Co.. Find more information on the Chapman’s Brewing Co. website or social media channels.
URL:https://fortwayneelectricworks.com/event/bingo-chapmans-brewing-company/2030-06-06/
CATEGORIES:Games & Trivia
ATTACH;FMTTYPE=image/jpeg:https://fortwayneelectricworks.com/wp-content/uploads/2025/12/586737942_792151940488067_8036493247092611363_n.jpg
END:VEVENT
BEGIN:VEVENT
DTSTART;TZID=America/Indiana/Indianapolis:20300608T090000
DTEND;TZID=America/Indiana/Indianapolis:20300608T130000
DTSTAMP:20260420T104701
CREATED:20250108T160038Z
LAST-MODIFIED:20260106T213254Z
UID:10002525-1907139600-1907154000@fortwayneelectricworks.com
SUMMARY:SUMMIT CITY FARMERS MARKET AT UNION STREET MARKET
DESCRIPTION:Summit City Farmers Market will kick off the 2026 indoor market season inside Union Street Market—happening every Saturday from 9am to 1pm. Support local farmers\, food producers\, and artisans and check out the Electric Works campus!
URL:https://fortwayneelectricworks.com/event/ft-waynes-farmers-market-at-union-street-market/2030-06-08/
CATEGORIES:Arts & Culture,Shopping
ATTACH;FMTTYPE=image/jpeg:https://fortwayneelectricworks.com/wp-content/uploads/2025/01/DSC02237.jpg
END:VEVENT
BEGIN:VEVENT
DTSTART;TZID=America/Indiana/Indianapolis:20300613T180000
DTEND;TZID=America/Indiana/Indianapolis:20300613T200000
DTSTAMP:20260420T104701
CREATED:20251209T145620Z
LAST-MODIFIED:20251209T145620Z
UID:10002836-1907604000-1907611200@fortwayneelectricworks.com
SUMMARY:BINGO | CHAPMANS BREWING COMPANY
DESCRIPTION:Shout “BINGO!” & win some prizes at Chapman’s Brewery Bingo! Join the fun every Thursday for this lively\, engaging night. Grab a brew\, mark your card\, & enjoy a casual & competitive atmosphere with friends! \nDate of Event: Every Thursday\nTime of Event: 6:00 p.m.\nLocation of Event: Chapman’s Brewing Co. \nNo registration is needed. \nEvent Organizer: Chapman’s Brewing Co.. Find more information on the Chapman’s Brewing Co. website or social media channels.
URL:https://fortwayneelectricworks.com/event/bingo-chapmans-brewing-company/2030-06-13/
CATEGORIES:Games & Trivia
ATTACH;FMTTYPE=image/jpeg:https://fortwayneelectricworks.com/wp-content/uploads/2025/12/586737942_792151940488067_8036493247092611363_n.jpg
END:VEVENT
BEGIN:VEVENT
DTSTART;TZID=America/Indiana/Indianapolis:20300615T090000
DTEND;TZID=America/Indiana/Indianapolis:20300615T130000
DTSTAMP:20260420T104701
CREATED:20250108T160038Z
LAST-MODIFIED:20260106T213254Z
UID:10002526-1907744400-1907758800@fortwayneelectricworks.com
SUMMARY:SUMMIT CITY FARMERS MARKET AT UNION STREET MARKET
DESCRIPTION:Summit City Farmers Market will kick off the 2026 indoor market season inside Union Street Market—happening every Saturday from 9am to 1pm. Support local farmers\, food producers\, and artisans and check out the Electric Works campus!
URL:https://fortwayneelectricworks.com/event/ft-waynes-farmers-market-at-union-street-market/2030-06-15/
CATEGORIES:Arts & Culture,Shopping
ATTACH;FMTTYPE=image/jpeg:https://fortwayneelectricworks.com/wp-content/uploads/2025/01/DSC02237.jpg
END:VEVENT
BEGIN:VEVENT
DTSTART;TZID=America/Indiana/Indianapolis:20300620T180000
DTEND;TZID=America/Indiana/Indianapolis:20300620T200000
DTSTAMP:20260420T104701
CREATED:20251209T145620Z
LAST-MODIFIED:20251209T145620Z
UID:10002837-1908208800-1908216000@fortwayneelectricworks.com
SUMMARY:BINGO | CHAPMANS BREWING COMPANY
DESCRIPTION:Shout “BINGO!” & win some prizes at Chapman’s Brewery Bingo! Join the fun every Thursday for this lively\, engaging night. Grab a brew\, mark your card\, & enjoy a casual & competitive atmosphere with friends! \nDate of Event: Every Thursday\nTime of Event: 6:00 p.m.\nLocation of Event: Chapman’s Brewing Co. \nNo registration is needed. \nEvent Organizer: Chapman’s Brewing Co.. Find more information on the Chapman’s Brewing Co. website or social media channels.
URL:https://fortwayneelectricworks.com/event/bingo-chapmans-brewing-company/2030-06-20/
CATEGORIES:Games & Trivia
ATTACH;FMTTYPE=image/jpeg:https://fortwayneelectricworks.com/wp-content/uploads/2025/12/586737942_792151940488067_8036493247092611363_n.jpg
END:VEVENT
BEGIN:VEVENT
DTSTART;TZID=America/Indiana/Indianapolis:20300622T090000
DTEND;TZID=America/Indiana/Indianapolis:20300622T130000
DTSTAMP:20260420T104701
CREATED:20250108T160038Z
LAST-MODIFIED:20260106T213254Z
UID:10002527-1908349200-1908363600@fortwayneelectricworks.com
SUMMARY:SUMMIT CITY FARMERS MARKET AT UNION STREET MARKET
DESCRIPTION:Summit City Farmers Market will kick off the 2026 indoor market season inside Union Street Market—happening every Saturday from 9am to 1pm. Support local farmers\, food producers\, and artisans and check out the Electric Works campus!
URL:https://fortwayneelectricworks.com/event/ft-waynes-farmers-market-at-union-street-market/2030-06-22/
CATEGORIES:Arts & Culture,Shopping
ATTACH;FMTTYPE=image/jpeg:https://fortwayneelectricworks.com/wp-content/uploads/2025/01/DSC02237.jpg
END:VEVENT
BEGIN:VEVENT
DTSTART;TZID=America/Indiana/Indianapolis:20300627T180000
DTEND;TZID=America/Indiana/Indianapolis:20300627T200000
DTSTAMP:20260420T104701
CREATED:20251209T145620Z
LAST-MODIFIED:20251209T145620Z
UID:10002838-1908813600-1908820800@fortwayneelectricworks.com
SUMMARY:BINGO | CHAPMANS BREWING COMPANY
DESCRIPTION:Shout “BINGO!” & win some prizes at Chapman’s Brewery Bingo! Join the fun every Thursday for this lively\, engaging night. Grab a brew\, mark your card\, & enjoy a casual & competitive atmosphere with friends! \nDate of Event: Every Thursday\nTime of Event: 6:00 p.m.\nLocation of Event: Chapman’s Brewing Co. \nNo registration is needed. \nEvent Organizer: Chapman’s Brewing Co.. Find more information on the Chapman’s Brewing Co. website or social media channels.
URL:https://fortwayneelectricworks.com/event/bingo-chapmans-brewing-company/2030-06-27/
CATEGORIES:Games & Trivia
ATTACH;FMTTYPE=image/jpeg:https://fortwayneelectricworks.com/wp-content/uploads/2025/12/586737942_792151940488067_8036493247092611363_n.jpg
END:VEVENT
BEGIN:VEVENT
DTSTART;TZID=America/Indiana/Indianapolis:20300629T090000
DTEND;TZID=America/Indiana/Indianapolis:20300629T130000
DTSTAMP:20260420T104701
CREATED:20250108T160038Z
LAST-MODIFIED:20260106T213254Z
UID:10002528-1908954000-1908968400@fortwayneelectricworks.com
SUMMARY:SUMMIT CITY FARMERS MARKET AT UNION STREET MARKET
DESCRIPTION:Summit City Farmers Market will kick off the 2026 indoor market season inside Union Street Market—happening every Saturday from 9am to 1pm. Support local farmers\, food producers\, and artisans and check out the Electric Works campus!
URL:https://fortwayneelectricworks.com/event/ft-waynes-farmers-market-at-union-street-market/2030-06-29/
CATEGORIES:Arts & Culture,Shopping
ATTACH;FMTTYPE=image/jpeg:https://fortwayneelectricworks.com/wp-content/uploads/2025/01/DSC02237.jpg
END:VEVENT
BEGIN:VEVENT
DTSTART;TZID=America/Indiana/Indianapolis:20300704T180000
DTEND;TZID=America/Indiana/Indianapolis:20300704T200000
DTSTAMP:20260420T104701
CREATED:20251209T145620Z
LAST-MODIFIED:20251209T145620Z
UID:10002839-1909418400-1909425600@fortwayneelectricworks.com
SUMMARY:BINGO | CHAPMANS BREWING COMPANY
DESCRIPTION:Shout “BINGO!” & win some prizes at Chapman’s Brewery Bingo! Join the fun every Thursday for this lively\, engaging night. Grab a brew\, mark your card\, & enjoy a casual & competitive atmosphere with friends! \nDate of Event: Every Thursday\nTime of Event: 6:00 p.m.\nLocation of Event: Chapman’s Brewing Co. \nNo registration is needed. \nEvent Organizer: Chapman’s Brewing Co.. Find more information on the Chapman’s Brewing Co. website or social media channels.
URL:https://fortwayneelectricworks.com/event/bingo-chapmans-brewing-company/2030-07-04/
CATEGORIES:Games & Trivia
ATTACH;FMTTYPE=image/jpeg:https://fortwayneelectricworks.com/wp-content/uploads/2025/12/586737942_792151940488067_8036493247092611363_n.jpg
END:VEVENT
BEGIN:VEVENT
DTSTART;TZID=America/Indiana/Indianapolis:20300706T090000
DTEND;TZID=America/Indiana/Indianapolis:20300706T130000
DTSTAMP:20260420T104701
CREATED:20250108T160038Z
LAST-MODIFIED:20260106T213254Z
UID:10002529-1909558800-1909573200@fortwayneelectricworks.com
SUMMARY:SUMMIT CITY FARMERS MARKET AT UNION STREET MARKET
DESCRIPTION:Summit City Farmers Market will kick off the 2026 indoor market season inside Union Street Market—happening every Saturday from 9am to 1pm. Support local farmers\, food producers\, and artisans and check out the Electric Works campus!
URL:https://fortwayneelectricworks.com/event/ft-waynes-farmers-market-at-union-street-market/2030-07-06/
CATEGORIES:Arts & Culture,Shopping
ATTACH;FMTTYPE=image/jpeg:https://fortwayneelectricworks.com/wp-content/uploads/2025/01/DSC02237.jpg
END:VEVENT
BEGIN:VEVENT
DTSTART;TZID=America/Indiana/Indianapolis:20300711T180000
DTEND;TZID=America/Indiana/Indianapolis:20300711T200000
DTSTAMP:20260420T104701
CREATED:20251209T145620Z
LAST-MODIFIED:20251209T145620Z
UID:10002840-1910023200-1910030400@fortwayneelectricworks.com
SUMMARY:BINGO | CHAPMANS BREWING COMPANY
DESCRIPTION:Shout “BINGO!” & win some prizes at Chapman’s Brewery Bingo! Join the fun every Thursday for this lively\, engaging night. Grab a brew\, mark your card\, & enjoy a casual & competitive atmosphere with friends! \nDate of Event: Every Thursday\nTime of Event: 6:00 p.m.\nLocation of Event: Chapman’s Brewing Co. \nNo registration is needed. \nEvent Organizer: Chapman’s Brewing Co.. Find more information on the Chapman’s Brewing Co. website or social media channels.
URL:https://fortwayneelectricworks.com/event/bingo-chapmans-brewing-company/2030-07-11/
CATEGORIES:Games & Trivia
ATTACH;FMTTYPE=image/jpeg:https://fortwayneelectricworks.com/wp-content/uploads/2025/12/586737942_792151940488067_8036493247092611363_n.jpg
END:VEVENT
BEGIN:VEVENT
DTSTART;TZID=America/Indiana/Indianapolis:20300713T090000
DTEND;TZID=America/Indiana/Indianapolis:20300713T130000
DTSTAMP:20260420T104701
CREATED:20250108T160038Z
LAST-MODIFIED:20260106T213254Z
UID:10002530-1910163600-1910178000@fortwayneelectricworks.com
SUMMARY:SUMMIT CITY FARMERS MARKET AT UNION STREET MARKET
DESCRIPTION:Summit City Farmers Market will kick off the 2026 indoor market season inside Union Street Market—happening every Saturday from 9am to 1pm. Support local farmers\, food producers\, and artisans and check out the Electric Works campus!
URL:https://fortwayneelectricworks.com/event/ft-waynes-farmers-market-at-union-street-market/2030-07-13/
CATEGORIES:Arts & Culture,Shopping
ATTACH;FMTTYPE=image/jpeg:https://fortwayneelectricworks.com/wp-content/uploads/2025/01/DSC02237.jpg
END:VEVENT
BEGIN:VEVENT
DTSTART;TZID=America/Indiana/Indianapolis:20300718T180000
DTEND;TZID=America/Indiana/Indianapolis:20300718T200000
DTSTAMP:20260420T104701
CREATED:20251209T145620Z
LAST-MODIFIED:20251209T145620Z
UID:10002841-1910628000-1910635200@fortwayneelectricworks.com
SUMMARY:BINGO | CHAPMANS BREWING COMPANY
DESCRIPTION:Shout “BINGO!” & win some prizes at Chapman’s Brewery Bingo! Join the fun every Thursday for this lively\, engaging night. Grab a brew\, mark your card\, & enjoy a casual & competitive atmosphere with friends! \nDate of Event: Every Thursday\nTime of Event: 6:00 p.m.\nLocation of Event: Chapman’s Brewing Co. \nNo registration is needed. \nEvent Organizer: Chapman’s Brewing Co.. Find more information on the Chapman’s Brewing Co. website or social media channels.
URL:https://fortwayneelectricworks.com/event/bingo-chapmans-brewing-company/2030-07-18/
CATEGORIES:Games & Trivia
ATTACH;FMTTYPE=image/jpeg:https://fortwayneelectricworks.com/wp-content/uploads/2025/12/586737942_792151940488067_8036493247092611363_n.jpg
END:VEVENT
BEGIN:VEVENT
DTSTART;TZID=America/Indiana/Indianapolis:20300720T090000
DTEND;TZID=America/Indiana/Indianapolis:20300720T130000
DTSTAMP:20260420T104701
CREATED:20250108T160038Z
LAST-MODIFIED:20260106T213254Z
UID:10002531-1910768400-1910782800@fortwayneelectricworks.com
SUMMARY:SUMMIT CITY FARMERS MARKET AT UNION STREET MARKET
DESCRIPTION:Summit City Farmers Market will kick off the 2026 indoor market season inside Union Street Market—happening every Saturday from 9am to 1pm. Support local farmers\, food producers\, and artisans and check out the Electric Works campus!
URL:https://fortwayneelectricworks.com/event/ft-waynes-farmers-market-at-union-street-market/2030-07-20/
CATEGORIES:Arts & Culture,Shopping
ATTACH;FMTTYPE=image/jpeg:https://fortwayneelectricworks.com/wp-content/uploads/2025/01/DSC02237.jpg
END:VEVENT
BEGIN:VEVENT
DTSTART;TZID=America/Indiana/Indianapolis:20300725T180000
DTEND;TZID=America/Indiana/Indianapolis:20300725T200000
DTSTAMP:20260420T104701
CREATED:20251209T145620Z
LAST-MODIFIED:20251209T145620Z
UID:10002842-1911232800-1911240000@fortwayneelectricworks.com
SUMMARY:BINGO | CHAPMANS BREWING COMPANY
DESCRIPTION:Shout “BINGO!” & win some prizes at Chapman’s Brewery Bingo! Join the fun every Thursday for this lively\, engaging night. Grab a brew\, mark your card\, & enjoy a casual & competitive atmosphere with friends! \nDate of Event: Every Thursday\nTime of Event: 6:00 p.m.\nLocation of Event: Chapman’s Brewing Co. \nNo registration is needed. \nEvent Organizer: Chapman’s Brewing Co.. Find more information on the Chapman’s Brewing Co. website or social media channels.
URL:https://fortwayneelectricworks.com/event/bingo-chapmans-brewing-company/2030-07-25/
CATEGORIES:Games & Trivia
ATTACH;FMTTYPE=image/jpeg:https://fortwayneelectricworks.com/wp-content/uploads/2025/12/586737942_792151940488067_8036493247092611363_n.jpg
END:VEVENT
BEGIN:VEVENT
DTSTART;TZID=America/Indiana/Indianapolis:20300727T090000
DTEND;TZID=America/Indiana/Indianapolis:20300727T130000
DTSTAMP:20260420T104701
CREATED:20250108T160038Z
LAST-MODIFIED:20260106T213254Z
UID:10002532-1911373200-1911387600@fortwayneelectricworks.com
SUMMARY:SUMMIT CITY FARMERS MARKET AT UNION STREET MARKET
DESCRIPTION:Summit City Farmers Market will kick off the 2026 indoor market season inside Union Street Market—happening every Saturday from 9am to 1pm. Support local farmers\, food producers\, and artisans and check out the Electric Works campus!
URL:https://fortwayneelectricworks.com/event/ft-waynes-farmers-market-at-union-street-market/2030-07-27/
CATEGORIES:Arts & Culture,Shopping
ATTACH;FMTTYPE=image/jpeg:https://fortwayneelectricworks.com/wp-content/uploads/2025/01/DSC02237.jpg
END:VEVENT
BEGIN:VEVENT
DTSTART;TZID=America/Indiana/Indianapolis:20300801T180000
DTEND;TZID=America/Indiana/Indianapolis:20300801T200000
DTSTAMP:20260420T104701
CREATED:20251209T145620Z
LAST-MODIFIED:20251209T145620Z
UID:10002843-1911837600-1911844800@fortwayneelectricworks.com
SUMMARY:BINGO | CHAPMANS BREWING COMPANY
DESCRIPTION:Shout “BINGO!” & win some prizes at Chapman’s Brewery Bingo! Join the fun every Thursday for this lively\, engaging night. Grab a brew\, mark your card\, & enjoy a casual & competitive atmosphere with friends! \nDate of Event: Every Thursday\nTime of Event: 6:00 p.m.\nLocation of Event: Chapman’s Brewing Co. \nNo registration is needed. \nEvent Organizer: Chapman’s Brewing Co.. Find more information on the Chapman’s Brewing Co. website or social media channels.
URL:https://fortwayneelectricworks.com/event/bingo-chapmans-brewing-company/2030-08-01/
CATEGORIES:Games & Trivia
ATTACH;FMTTYPE=image/jpeg:https://fortwayneelectricworks.com/wp-content/uploads/2025/12/586737942_792151940488067_8036493247092611363_n.jpg
END:VEVENT
END:VCALENDAR