BEGIN:VCALENDAR
VERSION:2.0
PRODID:-//Fort Wayne Electric Works - ECPv6.6.3//NONSGML v1.0//EN
CALSCALE:GREGORIAN
METHOD:PUBLISH
X-WR-CALNAME:Fort Wayne Electric Works
X-ORIGINAL-URL:https://fortwayneelectricworks.com
X-WR-CALDESC:Events for Fort Wayne Electric Works
REFRESH-INTERVAL;VALUE=DURATION:PT1H
X-Robots-Tag:noindex
X-PUBLISHED-TTL:PT1H
BEGIN:VTIMEZONE
TZID:America/Indiana/Indianapolis
BEGIN:DAYLIGHT
TZOFFSETFROM:-0500
TZOFFSETTO:-0400
TZNAME:EDT
DTSTART:20230312T070000
END:DAYLIGHT
BEGIN:STANDARD
TZOFFSETFROM:-0400
TZOFFSETTO:-0500
TZNAME:EST
DTSTART:20231105T060000
END:STANDARD
TZID:UTC
BEGIN:STANDARD
TZOFFSETFROM:+0000
TZOFFSETTO:+0000
TZNAME:UTC
DTSTART:20230101T000000
END:STANDARD
TZID:UTC
BEGIN:STANDARD
TZOFFSETFROM:+0000
TZOFFSETTO:+0000
TZNAME:UTC
DTSTART:20230101T000000
END:STANDARD
END:VTIMEZONE
BEGIN:VEVENT
DTSTART;TZID=America/Indiana/Indianapolis:20230802T140000
DTEND;TZID=America/Indiana/Indianapolis:20230802T153000
DTSTAMP:20260425T103552
CREATED:20230731T192130Z
LAST-MODIFIED:20230731T192130Z
UID:10001158-1690984800-1690990200@fortwayneelectricworks.com
SUMMARY:Cooking Class with Plowshares: Health Snacks for Kids (and grownups too!)
DESCRIPTION:Snacks for Kids (and grownups too!) A FREE cooking demo of tasty\, nutritious snacks for the whole family \nWhere: The Teaching Kitchen at Union Street Market \nRegister Now
URL:https://fortwayneelectricworks.com/event/cooking-class-with-plowshares-health-snacks-for-kids-and-grownups-too/
LOCATION:IN
ATTACH;FMTTYPE=image/jpeg:https://fortwayneelectricworks.com/wp-content/uploads/2023/07/Healthy-Snacks.jpg
END:VEVENT
BEGIN:VEVENT
DTSTART;TZID=UTC:20230801T070000
DTEND;TZID=UTC:20230801T080000
DTSTAMP:20260425T103552
CREATED:20230615T182143Z
LAST-MODIFIED:20230731T131709Z
UID:10000281-1690873200-1690876800@fortwayneelectricworks.com
SUMMARY:Tuesday Morning Yoga Flow with Discover Yoga
DESCRIPTION:Join instructor and Discover Yoga founder Chelsea Vona for a $5 pop-up morning flow class every Tuesday morning! \nTo register\, visit Discover Yoga’s website.
URL:https://fortwayneelectricworks.com/event/tuesday-morning-yoga-flow-with-discover-yoga/2023-08-01/
LOCATION:IN
ATTACH;FMTTYPE=image/jpeg:https://fortwayneelectricworks.com/wp-content/uploads/2023/06/9.jpg
END:VEVENT
BEGIN:VEVENT
DTSTART;TZID=UTC:20230727T070000
DTEND;TZID=UTC:20230727T080000
DTSTAMP:20260425T103552
CREATED:20230615T182442Z
LAST-MODIFIED:20230731T131556Z
UID:10000802-1690441200-1690444800@fortwayneelectricworks.com
SUMMARY:Thursday Morning Yoga Flow with Discover Yoga
DESCRIPTION:Join instructor and Discover Yoga founder Chelsea Vona for a $5 pop-up morning flow class every Thursday morning! \nTo register\, visit Discover Yoga’s website.
URL:https://fortwayneelectricworks.com/event/thursday-morning-yoga-flow-with-discover-yoga/2023-07-27/
LOCATION:IN
ATTACH;FMTTYPE=image/jpeg:https://fortwayneelectricworks.com/wp-content/uploads/2023/06/9.jpg
END:VEVENT
BEGIN:VEVENT
DTSTART;TZID=UTC:20230725T070000
DTEND;TZID=UTC:20230725T080000
DTSTAMP:20260425T103552
CREATED:20230615T182143Z
LAST-MODIFIED:20230731T131709Z
UID:10000280-1690268400-1690272000@fortwayneelectricworks.com
SUMMARY:Tuesday Morning Yoga Flow with Discover Yoga
DESCRIPTION:Join instructor and Discover Yoga founder Chelsea Vona for a $5 pop-up morning flow class every Tuesday morning! \nTo register\, visit Discover Yoga’s website.
URL:https://fortwayneelectricworks.com/event/tuesday-morning-yoga-flow-with-discover-yoga/2023-07-25/
LOCATION:IN
ATTACH;FMTTYPE=image/jpeg:https://fortwayneelectricworks.com/wp-content/uploads/2023/06/9.jpg
END:VEVENT
BEGIN:VEVENT
DTSTART;TZID=UTC:20230723T130000
DTEND;TZID=UTC:20230723T170000
DTSTAMP:20260425T103552
CREATED:20230711T144223Z
LAST-MODIFIED:20230711T144728Z
UID:10001152-1690117200-1690131600@fortwayneelectricworks.com
SUMMARY:Broadway Street Stroll at Electric Works
DESCRIPTION:Join us and our Broadway neighbors for our annual Broadway Street Stroll celebration! The Broadway Street Stroll offers all types of free\, family-friendly activities across the Broadway district. \nOur Broadway Street Stroll activities include: \n\nHeartland Sings ART-V — live music at Building 19 and Plaza 33 from 3pm to 6pm\nA live petting zoo from Indiana Wild — 1pm to 5pm\nA balloon artist and face painter — 1pm to 5pm\nMore surprises TBA!\n\nTo learn more about all of the Broadway Street Stroll’s activities here!
URL:https://fortwayneelectricworks.com/event/broadway-street-stroll-at-electric-works/
LOCATION:IN
ATTACH;FMTTYPE=image/jpeg:https://fortwayneelectricworks.com/wp-content/uploads/2023/07/Broadway-Events-poster-11x14-copy.jpg
END:VEVENT
BEGIN:VEVENT
DTSTART;TZID=UTC:20230722T170000
DTEND;TZID=UTC:20230722T200000
DTSTAMP:20260425T103552
CREATED:20230711T143321Z
LAST-MODIFIED:20230720T224510Z
UID:10001151-1690045200-1690056000@fortwayneelectricworks.com
SUMMARY:Art on Broadway at Electric Works
DESCRIPTION:Join us and our neighbors on Broadway for Art on Broadway’s annual art and gallery crawl on July 22! \nOur Art on Broadway activities include: \n\n5pm – 8pm at the Paddock Room: Opening for Vwazen’s ‘Body’ exhibition; with art from Lyndy Bazile (aka Afroplump)\, Jaliyah Rice\, and Jafet G.\, henna + body painting by BIPOCA\, a live DJ\, and more! More info about the show here.\n5pm – 7:30pm at Union Street Market’s East Hall patio: Live painting and DJ performance by artist and DJ Michael Johnson (aka DJ Puplove)\n5:30pm – 8:30pm at Union Street Market’s West Hall patio: Live music from Angie Marquardt \n\nDon’t forget to stop by the other activities along Broadway! You can learn more about all of Art on Broadway’s activities here.
URL:https://fortwayneelectricworks.com/event/art-on-broadway-at-electric-works/
LOCATION:IN
ATTACH;FMTTYPE=image/jpeg:https://fortwayneelectricworks.com/wp-content/uploads/2023/07/Broadway-Events-poster-11x14-copy.jpg
END:VEVENT
BEGIN:VEVENT
DTSTART;TZID=UTC:20230722T093000
DTEND;TZID=UTC:20230722T103000
DTSTAMP:20260425T103552
CREATED:20230720T213330Z
LAST-MODIFIED:20230720T213330Z
UID:10001153-1690018200-1690021800@fortwayneelectricworks.com
SUMMARY:Free Yoga at the Farmers Market with Discover Yoga
DESCRIPTION:Enjoy a free flow yoga session at the Fort Wayne Farmers Market with Discover Yoga’s Chelsea Vona! \nRegistration and more details on Discover Yoga’s website.
URL:https://fortwayneelectricworks.com/event/free-yoga-at-the-farmers-market-with-discover-yoga/
LOCATION:Dynamo Alley Plaza\, 1622 Broadway\, Fort Wayne\, IN\, 46802\, United States
ATTACH;FMTTYPE=image/jpeg:https://fortwayneelectricworks.com/wp-content/uploads/2023/07/10.jpg
END:VEVENT
BEGIN:VEVENT
DTSTART;TZID=UTC:20230721T180000
DTEND;TZID=UTC:20230721T200000
DTSTAMP:20260425T103552
CREATED:20230711T141557Z
LAST-MODIFIED:20230711T141557Z
UID:10001150-1689962400-1689969600@fortwayneelectricworks.com
SUMMARY:Trivia Night with Comedian AM2Funny at Union Street Market
DESCRIPTION:Join comedian and host AM2Funny for a night of trivia at Union Street Market! \nGet your friends or family together\, and test your knowledge! \nThis event is free and open to everyone.
URL:https://fortwayneelectricworks.com/event/trivia-night-with-comedian-am2funny-at-union-street-market/
LOCATION:The Arcade at Union Street Market\, 1030 Swinney Ave\, Fort Wayne\, IN\, 46802\, United States
ATTACH;FMTTYPE=image/jpeg:https://fortwayneelectricworks.com/wp-content/uploads/2023/07/Copy-of-earthworks-earth-day-market-900-×-600-px-6.jpg
END:VEVENT
BEGIN:VEVENT
DTSTART;TZID=UTC:20230720T070000
DTEND;TZID=UTC:20230720T080000
DTSTAMP:20260425T103552
CREATED:20230615T182442Z
LAST-MODIFIED:20230731T131556Z
UID:10000801-1689836400-1689840000@fortwayneelectricworks.com
SUMMARY:Thursday Morning Yoga Flow with Discover Yoga
DESCRIPTION:Join instructor and Discover Yoga founder Chelsea Vona for a $5 pop-up morning flow class every Thursday morning! \nTo register\, visit Discover Yoga’s website.
URL:https://fortwayneelectricworks.com/event/thursday-morning-yoga-flow-with-discover-yoga/2023-07-20/
LOCATION:IN
ATTACH;FMTTYPE=image/jpeg:https://fortwayneelectricworks.com/wp-content/uploads/2023/06/9.jpg
END:VEVENT
BEGIN:VEVENT
DTSTART;TZID=UTC:20230719T180000
DTEND;TZID=UTC:20230719T200000
DTSTAMP:20260425T103552
CREATED:20230711T140624Z
LAST-MODIFIED:20230711T140624Z
UID:10001149-1689789600-1689796800@fortwayneelectricworks.com
SUMMARY:Farmer’s Market to Fork: Cooking Veggie-Forward Meals (Cooking With Plants Series by Vegan Fort Wayne)
DESCRIPTION:Date: July 19\, 2023\nTime: 6:00 PM – 8:00 PM\nPrice: $25 if purchased before July 14. $30 after.\nLocation: Teaching Kitchen upstairs at Union Street Market in Electric Works\nInstructors: Heather Dahman and Brittany Billings \nMark your calendars for July 19\, 2023\, from 6-8pm\, as Vegan Fort Wayne brings you the first class of the “Cooking with Plants” series\, “Farmer’s Market to Fork”‘. Join Heather Dahman\, Vegan Fort Wayne Founder and certified Master Vegan Lifestyle Coach & Educator\, and the powerlifting plant-lover Brittany Patrice show you how to whip us delicious and easy meals with vegetables from the farmer’s market. \nIn this class\, Heather Dahman and Brittany Billings will not only teach you how to transform fresh produce into mouth-watering plant-based meals but also offer you a chance to sample everything they cook. Say goodbye to vegetables wilting away in your fridge and hello to a new world of tasty\, wholesome food! \nLearn how to prepare dishes like Farmer’s Market Stew\, Zucchini Fritters with Romesco\, and a Green Goddess Sandwich\, plus more! We make eating plant-forward delicious and easy! \nWhether you’re a seasoned home cook looking to diversify your menu or a beginner wanting to learn how to make cooking with veggies easy\, Heather and Brittany will share their knowledge and passion to help you create extraordinary plant-based meals. \nSpace is limited\, so book early to secure your spot! Register here. \n*Menu may change based on the availability and freshness of veggies.
URL:https://fortwayneelectricworks.com/event/farmers-market-to-fork-cooking-veggie-forward-meals-cooking-with-plants-series-by-vegan-fort-wayne/
LOCATION:IN
ATTACH;FMTTYPE=image/jpeg:https://fortwayneelectricworks.com/wp-content/uploads/2023/07/19.jpg
END:VEVENT
BEGIN:VEVENT
DTSTART;TZID=UTC:20230718T070000
DTEND;TZID=UTC:20230718T080000
DTSTAMP:20260425T103552
CREATED:20230615T182143Z
LAST-MODIFIED:20230731T131709Z
UID:10000279-1689663600-1689667200@fortwayneelectricworks.com
SUMMARY:Tuesday Morning Yoga Flow with Discover Yoga
DESCRIPTION:Join instructor and Discover Yoga founder Chelsea Vona for a $5 pop-up morning flow class every Tuesday morning! \nTo register\, visit Discover Yoga’s website.
URL:https://fortwayneelectricworks.com/event/tuesday-morning-yoga-flow-with-discover-yoga/2023-07-18/
LOCATION:IN
ATTACH;FMTTYPE=image/jpeg:https://fortwayneelectricworks.com/wp-content/uploads/2023/06/9.jpg
END:VEVENT
BEGIN:VEVENT
DTSTART;TZID=UTC:20230714T203000
DTEND;TZID=UTC:20230714T223000
DTSTAMP:20260425T103552
CREATED:20230615T185351Z
LAST-MODIFIED:20230914T191913Z
UID:10001148-1689366600-1689373800@fortwayneelectricworks.com
SUMMARY:Summer Music Series at Union Street Market
DESCRIPTION:Come hang out on the patio at Union Street Market and enjoy live music all summer long\, with: \n\n\n\nJuJuBee (Blues): Saturday\, May 27┃6:30pm – 8:30pm\nAdam Strack (Rock/Fusion): Friday\, June 2┃4:30pm – 7:30pm\nLos Galaxy (Instrumental Funk-Fusion): Saturday\, June 24┃8:30pm – 10:30pm\nJordan Bridges (Fusion/Singer-Songwriter): Friday\, June 30┃8:30pm – 10:30pm + Saturday\, July 8┃8:30pm – 10:30pm\nDJ Soft Shoe: Saturday\, July 1┃8:30pm – 10:30 + Friday\, July 14┃8:30pm – 10:30\nJohn Mast (Acoustic/Singer-Songwriter): Friday\, August 4┃6:30pm – 9:30pm\nFort Wayne Funk Orchestra (Funk/Hip-Hop/Soul): Saturday\, August 12┃6pm – 9pm\nUnlikely Alibi (Reggae/Ska/Rock/Soul): Friday\, August 25┃7:30pm – 9:30pm\n\n\n\n\n\n\nTrevor Hunt & the Sleepers (Singer-Songwriter/Country): Friday\, September 1┃6:30pm – 9:30pm\nSix Minute Minimum (5-7 Piece Cover Band): Saturday\, September 2┃5:30pm – 8:30pm\nCasual Friday (Soul/R&B/Pop/Funk/Jazz): Friday\, September 22┃6:30pm – 9:30pm\n\n\n\nUnion Street Market’s Summer Music Series is free and open to all ages—well-behaved dogs welcome on the patio only.
URL:https://fortwayneelectricworks.com/event/summer-music-series-at-union-street-market/2023-07-14/
LOCATION:IN
ATTACH;FMTTYPE=image/jpeg:https://fortwayneelectricworks.com/wp-content/uploads/2023/06/18.jpg
END:VEVENT
BEGIN:VEVENT
DTSTART;TZID=UTC:20230713T200000
DTEND;TZID=UTC:20230713T213000
DTSTAMP:20260425T103552
CREATED:20230710T205209Z
LAST-MODIFIED:20230710T205209Z
UID:10001146-1689278400-1689283800@fortwayneelectricworks.com
SUMMARY:Discover Yoga's Silent Disco Yoga at Alderdice Alley
DESCRIPTION:Join Discover Yoga on Alderdice Alley for a very special yoga experience! \nDiscover Yoga’s Silent Disco Yoga Flow is dynamic\, with progressive movement that starts from the ground up. Everyone will be provided headphones to listen to a set of curated music + the teacher’s queues to help guide you through the practice. The volume is at your control. \nClass is 75 minutes with (optional) dance breaks. \nTickets are $35 for drop-in; tickets are $30 for Discover Yoga members and Electric Works employees. Register here! \nTo learn more about Discover Yoga\, visit their website.
URL:https://fortwayneelectricworks.com/event/discover-yogas-silent-disco-yoga-at-alderdice-alley/2023-07-13/
LOCATION:IN
ATTACH;FMTTYPE=image/jpeg:https://fortwayneelectricworks.com/wp-content/uploads/2023/07/20.jpg
END:VEVENT
BEGIN:VEVENT
DTSTART;TZID=UTC:20230713T070000
DTEND;TZID=UTC:20230713T080000
DTSTAMP:20260425T103552
CREATED:20230615T182442Z
LAST-MODIFIED:20230731T131556Z
UID:10000800-1689231600-1689235200@fortwayneelectricworks.com
SUMMARY:Thursday Morning Yoga Flow with Discover Yoga
DESCRIPTION:Join instructor and Discover Yoga founder Chelsea Vona for a $5 pop-up morning flow class every Thursday morning! \nTo register\, visit Discover Yoga’s website.
URL:https://fortwayneelectricworks.com/event/thursday-morning-yoga-flow-with-discover-yoga/2023-07-13/
LOCATION:IN
ATTACH;FMTTYPE=image/jpeg:https://fortwayneelectricworks.com/wp-content/uploads/2023/06/9.jpg
END:VEVENT
BEGIN:VEVENT
DTSTART;TZID=UTC:20230711T070000
DTEND;TZID=UTC:20230711T080000
DTSTAMP:20260425T103552
CREATED:20230615T182143Z
LAST-MODIFIED:20230731T131709Z
UID:10000278-1689058800-1689062400@fortwayneelectricworks.com
SUMMARY:Tuesday Morning Yoga Flow with Discover Yoga
DESCRIPTION:Join instructor and Discover Yoga founder Chelsea Vona for a $5 pop-up morning flow class every Tuesday morning! \nTo register\, visit Discover Yoga’s website.
URL:https://fortwayneelectricworks.com/event/tuesday-morning-yoga-flow-with-discover-yoga/2023-07-11/
LOCATION:IN
ATTACH;FMTTYPE=image/jpeg:https://fortwayneelectricworks.com/wp-content/uploads/2023/06/9.jpg
END:VEVENT
BEGIN:VEVENT
DTSTART;TZID=UTC:20230708T203000
DTEND;TZID=UTC:20230708T223000
DTSTAMP:20260425T103552
CREATED:20230615T185351Z
LAST-MODIFIED:20230914T191913Z
UID:10001143-1688848200-1688855400@fortwayneelectricworks.com
SUMMARY:Summer Music Series at Union Street Market
DESCRIPTION:Come hang out on the patio at Union Street Market and enjoy live music all summer long\, with: \n\n\n\nJuJuBee (Blues): Saturday\, May 27┃6:30pm – 8:30pm\nAdam Strack (Rock/Fusion): Friday\, June 2┃4:30pm – 7:30pm\nLos Galaxy (Instrumental Funk-Fusion): Saturday\, June 24┃8:30pm – 10:30pm\nJordan Bridges (Fusion/Singer-Songwriter): Friday\, June 30┃8:30pm – 10:30pm + Saturday\, July 8┃8:30pm – 10:30pm\nDJ Soft Shoe: Saturday\, July 1┃8:30pm – 10:30 + Friday\, July 14┃8:30pm – 10:30\nJohn Mast (Acoustic/Singer-Songwriter): Friday\, August 4┃6:30pm – 9:30pm\nFort Wayne Funk Orchestra (Funk/Hip-Hop/Soul): Saturday\, August 12┃6pm – 9pm\nUnlikely Alibi (Reggae/Ska/Rock/Soul): Friday\, August 25┃7:30pm – 9:30pm\n\n\n\n\n\n\nTrevor Hunt & the Sleepers (Singer-Songwriter/Country): Friday\, September 1┃6:30pm – 9:30pm\nSix Minute Minimum (5-7 Piece Cover Band): Saturday\, September 2┃5:30pm – 8:30pm\nCasual Friday (Soul/R&B/Pop/Funk/Jazz): Friday\, September 22┃6:30pm – 9:30pm\n\n\n\nUnion Street Market’s Summer Music Series is free and open to all ages—well-behaved dogs welcome on the patio only.
URL:https://fortwayneelectricworks.com/event/summer-music-series-at-union-street-market/2023-07-08/
LOCATION:IN
ATTACH;FMTTYPE=image/jpeg:https://fortwayneelectricworks.com/wp-content/uploads/2023/06/18.jpg
END:VEVENT
BEGIN:VEVENT
DTSTART;TZID=UTC:20230706T070000
DTEND;TZID=UTC:20230706T080000
DTSTAMP:20260425T103553
CREATED:20230615T182442Z
LAST-MODIFIED:20230731T131556Z
UID:10000799-1688626800-1688630400@fortwayneelectricworks.com
SUMMARY:Thursday Morning Yoga Flow with Discover Yoga
DESCRIPTION:Join instructor and Discover Yoga founder Chelsea Vona for a $5 pop-up morning flow class every Thursday morning! \nTo register\, visit Discover Yoga’s website.
URL:https://fortwayneelectricworks.com/event/thursday-morning-yoga-flow-with-discover-yoga/2023-07-06/
LOCATION:IN
ATTACH;FMTTYPE=image/jpeg:https://fortwayneelectricworks.com/wp-content/uploads/2023/06/9.jpg
END:VEVENT
BEGIN:VEVENT
DTSTART;TZID=UTC:20230704T070000
DTEND;TZID=UTC:20230704T080000
DTSTAMP:20260425T103553
CREATED:20230615T182143Z
LAST-MODIFIED:20230731T131709Z
UID:10000277-1688454000-1688457600@fortwayneelectricworks.com
SUMMARY:Tuesday Morning Yoga Flow with Discover Yoga
DESCRIPTION:Join instructor and Discover Yoga founder Chelsea Vona for a $5 pop-up morning flow class every Tuesday morning! \nTo register\, visit Discover Yoga’s website.
URL:https://fortwayneelectricworks.com/event/tuesday-morning-yoga-flow-with-discover-yoga/2023-07-04/
LOCATION:IN
ATTACH;FMTTYPE=image/jpeg:https://fortwayneelectricworks.com/wp-content/uploads/2023/06/9.jpg
END:VEVENT
BEGIN:VEVENT
DTSTART;TZID=UTC:20230701T203000
DTEND;TZID=UTC:20230701T223000
DTSTAMP:20260425T103553
CREATED:20230615T185351Z
LAST-MODIFIED:20230914T191913Z
UID:10001144-1688243400-1688250600@fortwayneelectricworks.com
SUMMARY:Summer Music Series at Union Street Market
DESCRIPTION:Come hang out on the patio at Union Street Market and enjoy live music all summer long\, with: \n\n\n\nJuJuBee (Blues): Saturday\, May 27┃6:30pm – 8:30pm\nAdam Strack (Rock/Fusion): Friday\, June 2┃4:30pm – 7:30pm\nLos Galaxy (Instrumental Funk-Fusion): Saturday\, June 24┃8:30pm – 10:30pm\nJordan Bridges (Fusion/Singer-Songwriter): Friday\, June 30┃8:30pm – 10:30pm + Saturday\, July 8┃8:30pm – 10:30pm\nDJ Soft Shoe: Saturday\, July 1┃8:30pm – 10:30 + Friday\, July 14┃8:30pm – 10:30\nJohn Mast (Acoustic/Singer-Songwriter): Friday\, August 4┃6:30pm – 9:30pm\nFort Wayne Funk Orchestra (Funk/Hip-Hop/Soul): Saturday\, August 12┃6pm – 9pm\nUnlikely Alibi (Reggae/Ska/Rock/Soul): Friday\, August 25┃7:30pm – 9:30pm\n\n\n\n\n\n\nTrevor Hunt & the Sleepers (Singer-Songwriter/Country): Friday\, September 1┃6:30pm – 9:30pm\nSix Minute Minimum (5-7 Piece Cover Band): Saturday\, September 2┃5:30pm – 8:30pm\nCasual Friday (Soul/R&B/Pop/Funk/Jazz): Friday\, September 22┃6:30pm – 9:30pm\n\n\n\nUnion Street Market’s Summer Music Series is free and open to all ages—well-behaved dogs welcome on the patio only.
URL:https://fortwayneelectricworks.com/event/summer-music-series-at-union-street-market/2023-07-01/
LOCATION:IN
ATTACH;FMTTYPE=image/jpeg:https://fortwayneelectricworks.com/wp-content/uploads/2023/06/18.jpg
END:VEVENT
BEGIN:VEVENT
DTSTART;TZID=UTC:20230630T190000
DTEND;TZID=UTC:20230630T210000
DTSTAMP:20260425T103553
CREATED:20230615T190212Z
LAST-MODIFIED:20230615T190212Z
UID:10001141-1688151600-1688158800@fortwayneelectricworks.com
SUMMARY:Bike Nights at Union Street Market
DESCRIPTION:Ride your motorcycle to our bike-friendly campus\, and enjoy a night at Union Street Market with your friends and other riders! Bike Nights are every last Friday of the month. Bikes are welcome to park on Dynamo Alley (during Bike Nights only).
URL:https://fortwayneelectricworks.com/event/bike-nights-at-union-street-market/2023-06-30/
LOCATION:IN
ATTACH;FMTTYPE=image/jpeg:https://fortwayneelectricworks.com/wp-content/uploads/2023/06/7.jpg
END:VEVENT
BEGIN:VEVENT
DTSTART;TZID=UTC:20230629T070000
DTEND;TZID=UTC:20230629T080000
DTSTAMP:20260425T103553
CREATED:20230615T182442Z
LAST-MODIFIED:20230731T131556Z
UID:10000798-1688022000-1688025600@fortwayneelectricworks.com
SUMMARY:Thursday Morning Yoga Flow with Discover Yoga
DESCRIPTION:Join instructor and Discover Yoga founder Chelsea Vona for a $5 pop-up morning flow class every Thursday morning! \nTo register\, visit Discover Yoga’s website.
URL:https://fortwayneelectricworks.com/event/thursday-morning-yoga-flow-with-discover-yoga/2023-06-29/
LOCATION:IN
ATTACH;FMTTYPE=image/jpeg:https://fortwayneelectricworks.com/wp-content/uploads/2023/06/9.jpg
END:VEVENT
BEGIN:VEVENT
DTSTART;TZID=UTC:20230627T070000
DTEND;TZID=UTC:20230627T080000
DTSTAMP:20260425T103553
CREATED:20230615T182143Z
LAST-MODIFIED:20230731T131709Z
UID:10000276-1687849200-1687852800@fortwayneelectricworks.com
SUMMARY:Tuesday Morning Yoga Flow with Discover Yoga
DESCRIPTION:Join instructor and Discover Yoga founder Chelsea Vona for a $5 pop-up morning flow class every Tuesday morning! \nTo register\, visit Discover Yoga’s website.
URL:https://fortwayneelectricworks.com/event/tuesday-morning-yoga-flow-with-discover-yoga/2023-06-27/
LOCATION:IN
ATTACH;FMTTYPE=image/jpeg:https://fortwayneelectricworks.com/wp-content/uploads/2023/06/9.jpg
END:VEVENT
BEGIN:VEVENT
DTSTART;TZID=UTC:20230625T110000
DTEND;TZID=UTC:20230625T170000
DTSTAMP:20260425T103553
CREATED:20230615T185812Z
LAST-MODIFIED:20230623T145144Z
UID:10001140-1687690800-1687712400@fortwayneelectricworks.com
SUMMARY:Pride Pop-up at Union Street Market
DESCRIPTION:Stop by Union Street Market for a pop-up Pride event\, featuring the following vendors: \n\n\n\nBRAVE Alliance\nFort Wayne Bombshells Burlesque\nFort Wayne Pride\nPositive Resource Center — will be providing free\, discrete HIV testing.\nRonnie Morgan (Artist)\n\n\n\nCome learn about our LGBTQIA+ community! This event is free—all are welcome!
URL:https://fortwayneelectricworks.com/event/pride-pop-up-at-union-street-market/
LOCATION:IN
ATTACH;FMTTYPE=image/jpeg:https://fortwayneelectricworks.com/wp-content/uploads/2023/06/24.jpg
END:VEVENT
BEGIN:VEVENT
DTSTART;TZID=UTC:20230624T170000
DTEND;TZID=UTC:20230624T200000
DTSTAMP:20260425T103553
CREATED:20230615T185351Z
LAST-MODIFIED:20230914T191913Z
UID:10001136-1687626000-1687636800@fortwayneelectricworks.com
SUMMARY:Summer Music Series at Union Street Market
DESCRIPTION:Come hang out on the patio at Union Street Market and enjoy live music all summer long\, with: \n\n\n\nJuJuBee (Blues): Saturday\, May 27┃6:30pm – 8:30pm\nAdam Strack (Rock/Fusion): Friday\, June 2┃4:30pm – 7:30pm\nLos Galaxy (Instrumental Funk-Fusion): Saturday\, June 24┃8:30pm – 10:30pm\nJordan Bridges (Fusion/Singer-Songwriter): Friday\, June 30┃8:30pm – 10:30pm + Saturday\, July 8┃8:30pm – 10:30pm\nDJ Soft Shoe: Saturday\, July 1┃8:30pm – 10:30 + Friday\, July 14┃8:30pm – 10:30\nJohn Mast (Acoustic/Singer-Songwriter): Friday\, August 4┃6:30pm – 9:30pm\nFort Wayne Funk Orchestra (Funk/Hip-Hop/Soul): Saturday\, August 12┃6pm – 9pm\nUnlikely Alibi (Reggae/Ska/Rock/Soul): Friday\, August 25┃7:30pm – 9:30pm\n\n\n\n\n\n\nTrevor Hunt & the Sleepers (Singer-Songwriter/Country): Friday\, September 1┃6:30pm – 9:30pm\nSix Minute Minimum (5-7 Piece Cover Band): Saturday\, September 2┃5:30pm – 8:30pm\nCasual Friday (Soul/R&B/Pop/Funk/Jazz): Friday\, September 22┃6:30pm – 9:30pm\n\n\n\nUnion Street Market’s Summer Music Series is free and open to all ages—well-behaved dogs welcome on the patio only.
URL:https://fortwayneelectricworks.com/event/summer-music-series-at-union-street-market/2023-06-24/
LOCATION:IN
ATTACH;FMTTYPE=image/jpeg:https://fortwayneelectricworks.com/wp-content/uploads/2023/06/18.jpg
END:VEVENT
BEGIN:VEVENT
DTSTART;TZID=UTC:20230624T123000
DTEND;TZID=UTC:20230624T170000
DTSTAMP:20260425T103553
CREATED:20230615T184927Z
LAST-MODIFIED:20230615T184927Z
UID:10001135-1687609800-1687626000@fortwayneelectricworks.com
SUMMARY:3V3 Showdown Basketball Tournament at the GE Club
DESCRIPTION:Join local non-profit\, Bigger Than Us\, for a basketball tournament in the renovated GE Club!  Come compete for a cash prize and trophy — or root for your favorite team! \nTournament is open to high school and middle school students only. Learn more or register here: Bigger Than Us’ 3V3 Showdown Basketball Tournament
URL:https://fortwayneelectricworks.com/event/3v3-showdown-basketball-tournament-at-the-ge-club/
LOCATION:IN
ATTACH;FMTTYPE=image/jpeg:https://fortwayneelectricworks.com/wp-content/uploads/2023/06/March-Madness-900-×-600-px-1.jpg
END:VEVENT
BEGIN:VEVENT
DTSTART;TZID=UTC:20230624T090000
DTEND;TZID=UTC:20230624T160000
DTSTAMP:20260425T103553
CREATED:20230615T184023Z
LAST-MODIFIED:20230616T211235Z
UID:10001134-1687597200-1687622400@fortwayneelectricworks.com
SUMMARY:Two-Day Vintage Market at Union Street Market
DESCRIPTION:Stop by Union Street Market for a special two-day vintage market. Shop for vintage clothing\, jewelry\, furniture and decor\, featuring pop-up shops from: \nFunky Flamingo\nGeneral Faire\nHazel House Vintage Furniture & Curiosities\nLate Bloomer Vintage Co.\nMahakare Vintage\nSecond Nature Thrifted Goods
URL:https://fortwayneelectricworks.com/event/two-day-vintage-market-at-union-street-market/2023-06-24/
LOCATION:IN
ATTACH;FMTTYPE=image/jpeg:https://fortwayneelectricworks.com/wp-content/uploads/2023/06/22.jpg
END:VEVENT
BEGIN:VEVENT
DTSTART;TZID=UTC:20230623T170000
DTEND;TZID=UTC:20230623T220000
DTSTAMP:20260425T103553
CREATED:20230615T184023Z
LAST-MODIFIED:20230616T211235Z
UID:10001133-1687539600-1687557600@fortwayneelectricworks.com
SUMMARY:Two-Day Vintage Market at Union Street Market
DESCRIPTION:Stop by Union Street Market for a special two-day vintage market. Shop for vintage clothing\, jewelry\, furniture and decor\, featuring pop-up shops from: \nFunky Flamingo\nGeneral Faire\nHazel House Vintage Furniture & Curiosities\nLate Bloomer Vintage Co.\nMahakare Vintage\nSecond Nature Thrifted Goods
URL:https://fortwayneelectricworks.com/event/two-day-vintage-market-at-union-street-market/2023-06-23/
LOCATION:IN
ATTACH;FMTTYPE=image/jpeg:https://fortwayneelectricworks.com/wp-content/uploads/2023/06/22.jpg
END:VEVENT
BEGIN:VEVENT
DTSTART;TZID=UTC:20230622T070000
DTEND;TZID=UTC:20230622T080000
DTSTAMP:20260425T103553
CREATED:20230615T182442Z
LAST-MODIFIED:20230731T131556Z
UID:10000797-1687417200-1687420800@fortwayneelectricworks.com
SUMMARY:Thursday Morning Yoga Flow with Discover Yoga
DESCRIPTION:Join instructor and Discover Yoga founder Chelsea Vona for a $5 pop-up morning flow class every Thursday morning! \nTo register\, visit Discover Yoga’s website.
URL:https://fortwayneelectricworks.com/event/thursday-morning-yoga-flow-with-discover-yoga/2023-06-22/
LOCATION:IN
ATTACH;FMTTYPE=image/jpeg:https://fortwayneelectricworks.com/wp-content/uploads/2023/06/9.jpg
END:VEVENT
BEGIN:VEVENT
DTSTART;TZID=UTC:20230620T100000
DTEND;TZID=UTC:20230620T140000
DTSTAMP:20260425T103553
CREATED:20230612T214425Z
LAST-MODIFIED:20230612T214425Z
UID:10000274-1687255200-1687269600@fortwayneelectricworks.com
SUMMARY:Meet the Machines
DESCRIPTION:Bring your family to Electric Works to meet the machines on Dynamo Alley! Come see firetrucks\, police cars\, specialty construction equipment\, and an Air Force VR experience presented by the 122nd Fighter Wing—plus other big machines and vehicles! \nWe’ll have machines from: \n\nThe 122nd Fighter Wing\nBrooks Construction\nDon R. Fruchey Inc.\nFort Wayne Fire Department\nFort Wayne Police Department\nInternational Harvester\nO’Neal Construction\nShambaugh & Sons\nWeigand Construction\nand more!\n\nThis event is free and family-friendly.
URL:https://fortwayneelectricworks.com/event/meet-the-machines/
LOCATION:Dynamo Alley Plaza\, 1622 Broadway\, Fort Wayne\, IN\, 46802\, United States
ATTACH;FMTTYPE=image/jpeg:https://fortwayneelectricworks.com/wp-content/uploads/2023/06/21.jpg
END:VEVENT
BEGIN:VEVENT
DTSTART;TZID=UTC:20230620T070000
DTEND;TZID=UTC:20230620T080000
DTSTAMP:20260425T103553
CREATED:20230615T182143Z
LAST-MODIFIED:20230731T131709Z
UID:10000275-1687244400-1687248000@fortwayneelectricworks.com
SUMMARY:Tuesday Morning Yoga Flow with Discover Yoga
DESCRIPTION:Join instructor and Discover Yoga founder Chelsea Vona for a $5 pop-up morning flow class every Tuesday morning! \nTo register\, visit Discover Yoga’s website.
URL:https://fortwayneelectricworks.com/event/tuesday-morning-yoga-flow-with-discover-yoga/2023-06-20/
LOCATION:IN
ATTACH;FMTTYPE=image/jpeg:https://fortwayneelectricworks.com/wp-content/uploads/2023/06/9.jpg
END:VEVENT
END:VCALENDAR