BEGIN:VCALENDAR
VERSION:2.0
PRODID:-//Fort Wayne Electric Works - ECPv6.6.3//NONSGML v1.0//EN
CALSCALE:GREGORIAN
METHOD:PUBLISH
X-WR-CALNAME:Fort Wayne Electric Works
X-ORIGINAL-URL:https://fortwayneelectricworks.com
X-WR-CALDESC:Events for Fort Wayne Electric Works
REFRESH-INTERVAL;VALUE=DURATION:PT1H
X-Robots-Tag:noindex
X-PUBLISHED-TTL:PT1H
BEGIN:VTIMEZONE
TZID:America/Indiana/Indianapolis
BEGIN:DAYLIGHT
TZOFFSETFROM:-0500
TZOFFSETTO:-0400
TZNAME:EDT
DTSTART:20240310T070000
END:DAYLIGHT
BEGIN:STANDARD
TZOFFSETFROM:-0400
TZOFFSETTO:-0500
TZNAME:EST
DTSTART:20241103T060000
END:STANDARD
END:VTIMEZONE
BEGIN:VEVENT
DTSTART;TZID=America/Indiana/Indianapolis:20240920T180000
DTEND;TZID=America/Indiana/Indianapolis:20240920T210000
DTSTAMP:20260419T080741
CREATED:20240906T170752Z
LAST-MODIFIED:20240906T170752Z
UID:10001643-1726855200-1726866000@fortwayneelectricworks.com
SUMMARY:The Wingmen Band at Chapman's Brewing Company
DESCRIPTION:Join the Wingmen Band as they rock the house at Chapman’s Brewing Company—an evening of live entertainment free for all ages! \nContact Chapman’s Brewing Company at Electric Works for questions.
URL:https://fortwayneelectricworks.com/event/the-wingmen-band-at-chapmans-brewing-company/
LOCATION:Chapman’s Brewing Company\, 1660 Broadway\, Fort Wayne\, IN\, 46802\, United States
CATEGORIES:Music
ATTACH;FMTTYPE=image/jpeg:https://fortwayneelectricworks.com/wp-content/uploads/2024/09/Copy-of-earthworks-earth-day-market-900-×-600-px-79.jpg
END:VEVENT
END:VCALENDAR