BEGIN:VCALENDAR
VERSION:2.0
PRODID:-//Fort Wayne Electric Works - ECPv6.6.3//NONSGML v1.0//EN
CALSCALE:GREGORIAN
METHOD:PUBLISH
X-ORIGINAL-URL:https://fortwayneelectricworks.com
X-WR-CALDESC:Events for Fort Wayne Electric Works
REFRESH-INTERVAL;VALUE=DURATION:PT1H
X-Robots-Tag:noindex
X-PUBLISHED-TTL:PT1H
BEGIN:VTIMEZONE
TZID:America/Indiana/Indianapolis
BEGIN:DAYLIGHT
TZOFFSETFROM:-0500
TZOFFSETTO:-0400
TZNAME:EDT
DTSTART:20230312T070000
END:DAYLIGHT
BEGIN:STANDARD
TZOFFSETFROM:-0400
TZOFFSETTO:-0500
TZNAME:EST
DTSTART:20231105T060000
END:STANDARD
BEGIN:DAYLIGHT
TZOFFSETFROM:-0500
TZOFFSETTO:-0400
TZNAME:EDT
DTSTART:20240310T070000
END:DAYLIGHT
BEGIN:STANDARD
TZOFFSETFROM:-0400
TZOFFSETTO:-0500
TZNAME:EST
DTSTART:20241103T060000
END:STANDARD
BEGIN:DAYLIGHT
TZOFFSETFROM:-0500
TZOFFSETTO:-0400
TZNAME:EDT
DTSTART:20250309T070000
END:DAYLIGHT
BEGIN:STANDARD
TZOFFSETFROM:-0400
TZOFFSETTO:-0500
TZNAME:EST
DTSTART:20251102T060000
END:STANDARD
END:VTIMEZONE
BEGIN:VEVENT
DTSTART;TZID=America/Indiana/Indianapolis:20250121T100000
DTEND;TZID=America/Indiana/Indianapolis:20250121T110000
DTSTAMP:20260425T083113
CREATED:20241115T171949Z
LAST-MODIFIED:20241115T171951Z
UID:10001647-1737453600-1737457200@fortwayneelectricworks.com
SUMMARY:TOTS by Science Central (Ages 3-6) at Union Street Market
DESCRIPTION:TOTS\, short for “Today’s Observers\, Tomorrow’s Scientists\,” is Science Central’s program for children ages 3 to 6. Each session features engaging\, age-appropriate activities designed to introduce young learners to the world of STEM. Each month there is a story time and activity related to a different science theme. Learn more about each program’s theme or register here. \nLocation: The Mezzanine at Union Street Market \nSign-in starts at 9:30AM \nThis event is hosted by Science Central. Registration is encouraged. Register Here.\nPlease contact Science Central for any questions.
URL:https://fortwayneelectricworks.com/event/tots-by-science-central-ages-3-6-2/2025-01-21/
CATEGORIES:Education,Kids & Family
ATTACH;FMTTYPE=image/png:https://fortwayneelectricworks.com/wp-content/uploads/2024/09/Copy-of-earthworks-earth-day-market-900-×-600-px-81.png
END:VEVENT
BEGIN:VEVENT
DTSTART;TZID=America/Indiana/Indianapolis:20241217T100000
DTEND;TZID=America/Indiana/Indianapolis:20241217T110000
DTSTAMP:20260425T083113
CREATED:20241115T171949Z
LAST-MODIFIED:20241115T171951Z
UID:10001646-1734429600-1734433200@fortwayneelectricworks.com
SUMMARY:TOTS by Science Central (Ages 3-6) at Union Street Market
DESCRIPTION:TOTS\, short for “Today’s Observers\, Tomorrow’s Scientists\,” is Science Central’s program for children ages 3 to 6. Each session features engaging\, age-appropriate activities designed to introduce young learners to the world of STEM. Each month there is a story time and activity related to a different science theme. Learn more about each program’s theme or register here. \nLocation: The Mezzanine at Union Street Market \nSign-in starts at 9:30AM \nThis event is hosted by Science Central. Registration is encouraged. Register Here.\nPlease contact Science Central for any questions.
URL:https://fortwayneelectricworks.com/event/tots-by-science-central-ages-3-6-2/2024-12-17/
CATEGORIES:Education,Kids & Family
ATTACH;FMTTYPE=image/png:https://fortwayneelectricworks.com/wp-content/uploads/2024/09/Copy-of-earthworks-earth-day-market-900-×-600-px-81.png
END:VEVENT
BEGIN:VEVENT
DTSTART;TZID=America/Indiana/Indianapolis:20241119T100000
DTEND;TZID=America/Indiana/Indianapolis:20241119T110000
DTSTAMP:20260425T083113
CREATED:20241115T171949Z
LAST-MODIFIED:20241115T171951Z
UID:10001645-1732010400-1732014000@fortwayneelectricworks.com
SUMMARY:TOTS by Science Central (Ages 3-6) at Union Street Market
DESCRIPTION:TOTS\, short for “Today’s Observers\, Tomorrow’s Scientists\,” is Science Central’s program for children ages 3 to 6. Each session features engaging\, age-appropriate activities designed to introduce young learners to the world of STEM. Each month there is a story time and activity related to a different science theme. Learn more about each program’s theme or register here. \nLocation: The Mezzanine at Union Street Market \nSign-in starts at 9:30AM \nThis event is hosted by Science Central. Registration is encouraged. Register Here.\nPlease contact Science Central for any questions.
URL:https://fortwayneelectricworks.com/event/tots-by-science-central-ages-3-6-2/2024-11-19/
CATEGORIES:Education,Kids & Family
ATTACH;FMTTYPE=image/png:https://fortwayneelectricworks.com/wp-content/uploads/2024/09/Copy-of-earthworks-earth-day-market-900-×-600-px-81.png
END:VEVENT
BEGIN:VEVENT
DTSTART;TZID=America/Indiana/Indianapolis:20241015T100000
DTEND;TZID=America/Indiana/Indianapolis:20241015T110000
DTSTAMP:20260425T083113
CREATED:20240906T180103Z
LAST-MODIFIED:20240906T181856Z
UID:10001644-1728986400-1728990000@fortwayneelectricworks.com
SUMMARY:TOTS by Science Central (Ages 3-6) at Union Street Market
DESCRIPTION:TOTS\, short for “Today’s Observers\, Tomorrow’s Scientists\,” is Science Central’s program for children ages 3 to 6. Each session features engaging\, age-appropriate activities designed to introduce young learners to the world of STEM. Learn more about each program’s theme or register here. \nLocation: The Mezzanine at Union Street Market \n*This event is hosted by Science Central. Registration is required. Register here. Please contact host for questions. 
URL:https://fortwayneelectricworks.com/event/tots-by-science-central-ages-3-6/
CATEGORIES:Education,Kids & Family
ATTACH;FMTTYPE=image/png:https://fortwayneelectricworks.com/wp-content/uploads/2024/09/Copy-of-earthworks-earth-day-market-900-×-600-px-81.png
END:VEVENT
BEGIN:VEVENT
DTSTART;TZID=America/Indiana/Indianapolis:20241005T100000
DTEND;TZID=America/Indiana/Indianapolis:20241005T160000
DTSTAMP:20260425T083113
CREATED:20240731T191453Z
LAST-MODIFIED:20240928T034947Z
UID:10001370-1728122400-1728144000@fortwayneelectricworks.com
SUMMARY:Hogworks Takeover
DESCRIPTION:Hogworks is taking over the Electric Works campus on October 5! Hogworks is a free\, all-ages event featuring a number of Hogwart-inspired interactive experiences and opportunities to raise funds for more than three dozen community nonprofit and support organizations.  \nHighlights of the event will include mystical classes and crafts\, live creatures (including a petting zoo and dragon)\, vendors selling magical products\, whimsically themed food and drinks for purchase\, and music from local talent.  \nThe 2024 Hogworks Takeover will take place throughout the Electric Works campus from 10am to 4pm—in partnership with Blessings in a Backpack. \nSee a syllabus of event activities here. \nSee our Hogworks map here — map may be subject to change before event. \nThis event is rain-or-shine. Check back for more details! \nInterested in becoming a volunteer?  Submit your information here! *Shifts are 3.5-4 hours. All volunteers will get a Hogworks shirt & an Electric Works swag bag in return for their time.
URL:https://fortwayneelectricworks.com/event/hogworks/
CATEGORIES:Food,Games & Trivia,Kids & Family,Philanthropy & Community,Shopping
ATTACH;FMTTYPE=image/jpeg:https://fortwayneelectricworks.com/wp-content/uploads/2024/07/Copy-of-earthworks-earth-day-market-900-×-600-px-73.jpg
END:VEVENT
BEGIN:VEVENT
DTSTART;TZID=America/Indiana/Indianapolis:20240921T110000
DTEND;TZID=America/Indiana/Indianapolis:20240921T233000
DTSTAMP:20260425T083113
CREATED:20240906T162600Z
LAST-MODIFIED:20240906T162600Z
UID:10001379-1726916400-1726961400@fortwayneelectricworks.com
SUMMARY:Paper Wizards: Unleashing the Magical Properties of Paper (Ages 2-3)
DESCRIPTION:Join First Encounters: Art Experiences for Little Ones on a whimsical journey through the world of art\, where young children will explore the enchanting possibilities of various papers. Let their creativity soar as they discover the magical properties of each paper type\, turning ordinary materials into extraordinary works of art. \nLocation: The Teaching Kitchen inside Union Street Market \nThere are two time offerings available: \n\n9/21 10:15-10:45am\n9/21 11-11:30am\n\n*This event is hosted by First Encounters: Art Experiences for Little Ones. Registration is required. To register or contact host for questions\, click here.
URL:https://fortwayneelectricworks.com/event/paper-wizards-unleashing-the-magical-properties-of-paper-ages-2-3/2024-09-21/2/
CATEGORIES:Arts & Culture,Kids & Family
ATTACH;FMTTYPE=image/jpeg:https://fortwayneelectricworks.com/wp-content/uploads/2024/09/Copy-of-earthworks-earth-day-market-900-×-600-px-76.jpg
END:VEVENT
BEGIN:VEVENT
DTSTART;TZID=America/Indiana/Indianapolis:20240921T101500
DTEND;TZID=America/Indiana/Indianapolis:20240921T104500
DTSTAMP:20260425T083113
CREATED:20240906T162600Z
LAST-MODIFIED:20240906T162600Z
UID:10001378-1726913700-1726915500@fortwayneelectricworks.com
SUMMARY:Paper Wizards: Unleashing the Magical Properties of Paper (Ages 2-3)
DESCRIPTION:Join First Encounters: Art Experiences for Little Ones on a whimsical journey through the world of art\, where young children will explore the enchanting possibilities of various papers. Let their creativity soar as they discover the magical properties of each paper type\, turning ordinary materials into extraordinary works of art. \nLocation: The Teaching Kitchen inside Union Street Market \nThere are two time offerings available: \n\n9/21 10:15-10:45am\n9/21 11-11:30am\n\n*This event is hosted by First Encounters: Art Experiences for Little Ones. Registration is required. To register or contact host for questions\, click here.
URL:https://fortwayneelectricworks.com/event/paper-wizards-unleashing-the-magical-properties-of-paper-ages-2-3/2024-09-21/1/
CATEGORIES:Arts & Culture,Kids & Family
ATTACH;FMTTYPE=image/jpeg:https://fortwayneelectricworks.com/wp-content/uploads/2024/09/Copy-of-earthworks-earth-day-market-900-×-600-px-76.jpg
END:VEVENT
BEGIN:VEVENT
DTSTART;TZID=America/Indiana/Indianapolis:20230910T120000
DTEND;TZID=America/Indiana/Indianapolis:20230910T170000
DTSTAMP:20260425T083113
CREATED:20230817T210011Z
LAST-MODIFIED:20240906T194554Z
UID:10001167-1694347200-1694365200@fortwayneelectricworks.com
SUMMARY:Rooftop Picnic at Electric Works — Be a Tourist in Your Own Town
DESCRIPTION:Visit Electric Works for a rooftop picnic—as part of Visit Fort Wayne’s Be a Tourist in Your Own Town! Our rooftop is normally closed to the public\, so this is a great opportunity to see unique 360° views of Fort Wayne (pro tip: bring your camera). \nBefore heading to the rooftop\, stop by Union Street Market to get some food for your picnic! Union Street Market is home to over 16 diverse\, locally-owned food merchants—so\, there’s always something for everyone! \nSeating is limited\, so bring your own blanket or lawn chair! \nTo get to the rooftop\, head to Dynamo Alley and then to Building 19.
URL:https://fortwayneelectricworks.com/event/rooftop-picnic-at-electric-works-be-a-tourist-in-your-own-town/
CATEGORIES:Food,Kids & Family,Philanthropy & Community
ATTACH;FMTTYPE=image/jpeg:https://fortwayneelectricworks.com/wp-content/uploads/2023/08/Copy-of-earthworks-earth-day-market-900-×-600-px-83.jpg
END:VEVENT
END:VCALENDAR