BEGIN:VCALENDAR
VERSION:2.0
PRODID:-//Fort Wayne Electric Works - ECPv6.6.3//NONSGML v1.0//EN
CALSCALE:GREGORIAN
METHOD:PUBLISH
X-WR-CALNAME:Fort Wayne Electric Works
X-ORIGINAL-URL:https://fortwayneelectricworks.com
X-WR-CALDESC:Events for Fort Wayne Electric Works
REFRESH-INTERVAL;VALUE=DURATION:PT1H
X-Robots-Tag:noindex
X-PUBLISHED-TTL:PT1H
BEGIN:VTIMEZONE
TZID:America/Indiana/Indianapolis
BEGIN:DAYLIGHT
TZOFFSETFROM:-0500
TZOFFSETTO:-0400
TZNAME:EDT
DTSTART:20260308T070000
END:DAYLIGHT
BEGIN:STANDARD
TZOFFSETFROM:-0400
TZOFFSETTO:-0500
TZNAME:EST
DTSTART:20261101T060000
END:STANDARD
END:VTIMEZONE
BEGIN:VEVENT
DTSTART;TZID=America/Indiana/Indianapolis:20260516T093000
DTEND;TZID=America/Indiana/Indianapolis:20260516T110000
DTSTAMP:20260423T051505
CREATED:20251114T163805Z
LAST-MODIFIED:20251114T163805Z
UID:10002596-1778923800-1778929200@fortwayneelectricworks.com
SUMMARY:TOTS: THE EARTH AND YOU (GEOLOGY) | UNION STREET MARKET | MEZZANINE
DESCRIPTION:Explore the tremendous forces that constantly reshape our planet! The Earth and You allows children to investigate how our Earth moves & changes by making models of the Earth’s layers\, erupting volcanoes\, & even experiencing a mini-earthquake simulation. It’s a hands-on adventure into the heart of geology! \nDate of Event May 16\nTime of Event 9:30–11:00 a.m.\nLocation of Event Union Street Market | Mezzanine \nRegistration is required. Check the Science Central website for current pricing & registration details. \nEvent Organizer: Science Central. Find more information about the TOTS series\, registration\, & other programs at the Science Central website.
URL:https://fortwayneelectricworks.com/event/tots-the-earth-and-you-geology-union-street-market-mezzanine/
LOCATION:IN
CATEGORIES:Kids & Family
ATTACH;FMTTYPE=image/jpeg:https://fortwayneelectricworks.com/wp-content/uploads/2025/11/Untitled-design-10.jpg
END:VEVENT
END:VCALENDAR