BEGIN:VCALENDAR
VERSION:2.0
PRODID:-//Fort Wayne Electric Works - ECPv6.6.3//NONSGML v1.0//EN
CALSCALE:GREGORIAN
METHOD:PUBLISH
X-WR-CALNAME:Fort Wayne Electric Works
X-ORIGINAL-URL:https://fortwayneelectricworks.com
X-WR-CALDESC:Events for Fort Wayne Electric Works
REFRESH-INTERVAL;VALUE=DURATION:PT1H
X-Robots-Tag:noindex
X-PUBLISHED-TTL:PT1H
BEGIN:VTIMEZONE
TZID:America/Indiana/Indianapolis
BEGIN:DAYLIGHT
TZOFFSETFROM:-0500
TZOFFSETTO:-0400
TZNAME:EDT
DTSTART:20260308T070000
END:DAYLIGHT
BEGIN:STANDARD
TZOFFSETFROM:-0400
TZOFFSETTO:-0500
TZNAME:EST
DTSTART:20261101T060000
END:STANDARD
END:VTIMEZONE
BEGIN:VEVENT
DTSTART;TZID=America/Indiana/Indianapolis:20260221T093000
DTEND;TZID=America/Indiana/Indianapolis:20260221T110000
DTSTAMP:20260425T094702
CREATED:20251114T163047Z
LAST-MODIFIED:20251114T163047Z
UID:10002593-1771666200-1771671600@fortwayneelectricworks.com
SUMMARY:TOTS: MIX IT UP! (CHEMISTRY) | UNION STREET MARKET | MEZZANINE
DESCRIPTION:Scoop\, stir\, & squish your way through the magic of chemical reactions! Mix It Up! features colorful\, hands-on experiments that show how chemistry is all around us\, from the kitchen to the playground. It’s a messy\, memorable\, & safe introduction to the science of change! \nDate of Event February 21\nTime of Event 9:30–11:00 a.m.\nLocation of Event Union Street Market | Mezzanine \nRegistration is required. Check the Science Central website for current pricing & registration details. \nEvent Organizer: Science Central. Find more information about the TOTS series\, registration\, & other programs at the Science Central website.
URL:https://fortwayneelectricworks.com/event/tots-mix-it-up-chemistry-union-street-market-mezzanine/
LOCATION:IN
CATEGORIES:Kids & Family
ATTACH;FMTTYPE=image/jpeg:https://fortwayneelectricworks.com/wp-content/uploads/2025/11/Untitled-design-7.jpg
END:VEVENT
END:VCALENDAR