BEGIN:VCALENDAR
VERSION:2.0
PRODID:-//Fort Wayne Electric Works - ECPv6.6.3//NONSGML v1.0//EN
CALSCALE:GREGORIAN
METHOD:PUBLISH
X-ORIGINAL-URL:https://fortwayneelectricworks.com
X-WR-CALDESC:Events for Fort Wayne Electric Works
REFRESH-INTERVAL;VALUE=DURATION:PT1H
X-Robots-Tag:noindex
X-PUBLISHED-TTL:PT1H
BEGIN:VTIMEZONE
TZID:America/Indiana/Indianapolis
BEGIN:DAYLIGHT
TZOFFSETFROM:-0500
TZOFFSETTO:-0400
TZNAME:EDT
DTSTART:20260308T070000
END:DAYLIGHT
BEGIN:STANDARD
TZOFFSETFROM:-0400
TZOFFSETTO:-0500
TZNAME:EST
DTSTART:20261101T060000
END:STANDARD
END:VTIMEZONE
BEGIN:VEVENT
DTSTART;TZID=America/Indiana/Indianapolis:20260117T093000
DTEND;TZID=America/Indiana/Indianapolis:20260117T110000
DTSTAMP:20260425T111553
CREATED:20251114T162926Z
LAST-MODIFIED:20251114T162926Z
UID:10002592-1768642200-1768647600@fortwayneelectricworks.com
SUMMARY:TOTS: DIG IN! (PALEONTOLOGY) | UNION STREET MARKET | MEZZANINE
DESCRIPTION:Ready to travel back in time? In Dig In!\, your child will become a junior paleontologist! They will learn all about fascinating fossils & mighty dinosaurs while getting their hands delightfully dirty in a simulated excavation. Prepare for roaring fun & exciting discoveries! \nDate of Event January 17\nTime of Event 9:30–11:00 a.m.\nLocation of Event Union Street Market | Mezzanine \nRegistration is required. Check the Science Central website for current pricing & registration details. \nEvent Organizer: Science Central. Find more information about the TOTS series\, registration\, & other programs at the Science Central website.
URL:https://fortwayneelectricworks.com/event/tots-dig-in-paleontology-union-street-market-mezzanine/
LOCATION:IN
CATEGORIES:Kids & Family
ATTACH;FMTTYPE=image/jpeg:https://fortwayneelectricworks.com/wp-content/uploads/2025/11/Untitled-design-6.jpg
END:VEVENT
END:VCALENDAR