BEGIN:VCALENDAR
VERSION:2.0
PRODID:-//Fort Wayne Electric Works - ECPv6.6.3//NONSGML v1.0//EN
CALSCALE:GREGORIAN
METHOD:PUBLISH
X-ORIGINAL-URL:https://fortwayneelectricworks.com
X-WR-CALDESC:Events for Fort Wayne Electric Works
REFRESH-INTERVAL;VALUE=DURATION:PT1H
X-Robots-Tag:noindex
X-PUBLISHED-TTL:PT1H
BEGIN:VTIMEZONE
TZID:America/Indiana/Indianapolis
BEGIN:DAYLIGHT
TZOFFSETFROM:-0500
TZOFFSETTO:-0400
TZNAME:EDT
DTSTART:20260308T070000
END:DAYLIGHT
BEGIN:STANDARD
TZOFFSETFROM:-0400
TZOFFSETTO:-0500
TZNAME:EST
DTSTART:20261101T060000
END:STANDARD
END:VTIMEZONE
BEGIN:VEVENT
DTSTART;TZID=America/Indiana/Indianapolis:20260422T180000
DTEND;TZID=America/Indiana/Indianapolis:20260422T210000
DTSTAMP:20260419T083848
CREATED:20240906T164815Z
LAST-MODIFIED:20250306T023730Z
UID:10001465-1776880800-1776891600@fortwayneelectricworks.com
SUMMARY:HELLCAT TRIVIA | CHAPMANS BREWING COMPANY
DESCRIPTION:Head to Chapman’s Brewing for an all-ages trivia night—every Wednesday! Hellcat Trivia hosts 2 games a night from 6-7pm and 8-9pm! Trivia is free to play with special prizes for winners! \nDate: Every Wednesday\nTime: 6 – 9 PM\nLocation: Chapman’s Brewing Company\, Electric Works \nRegistration: Registration isn’t required. \nMore information on Chapman’s Brewing Company can be found here.
URL:https://fortwayneelectricworks.com/event/hellcat-trivia-at-chapmans-brewing-company/2026-04-22/
LOCATION:Chapman’s Brewing Company\, 1660 Broadway\, Fort Wayne\, IN\, 46802\, United States
CATEGORIES:Games & Trivia
ATTACH;FMTTYPE=image/jpeg:https://fortwayneelectricworks.com/wp-content/uploads/2024/09/Copy-of-earthworks-earth-day-market-900-×-600-px-77.jpg
END:VEVENT
BEGIN:VEVENT
DTSTART;TZID=America/Indiana/Indianapolis:20260423T180000
DTEND;TZID=America/Indiana/Indianapolis:20260423T200000
DTSTAMP:20260419T083848
CREATED:20251209T145620Z
LAST-MODIFIED:20251209T145620Z
UID:10002620-1776967200-1776974400@fortwayneelectricworks.com
SUMMARY:BINGO | CHAPMANS BREWING COMPANY
DESCRIPTION:Shout “BINGO!” & win some prizes at Chapman’s Brewery Bingo! Join the fun every Thursday for this lively\, engaging night. Grab a brew\, mark your card\, & enjoy a casual & competitive atmosphere with friends! \nDate of Event: Every Thursday\nTime of Event: 6:00 p.m.\nLocation of Event: Chapman’s Brewing Co. \nNo registration is needed. \nEvent Organizer: Chapman’s Brewing Co.. Find more information on the Chapman’s Brewing Co. website or social media channels.
URL:https://fortwayneelectricworks.com/event/bingo-chapmans-brewing-company/2026-04-23/
LOCATION:IN
CATEGORIES:Games & Trivia
ATTACH;FMTTYPE=image/jpeg:https://fortwayneelectricworks.com/wp-content/uploads/2025/12/586737942_792151940488067_8036493247092611363_n.jpg
END:VEVENT
BEGIN:VEVENT
DTSTART;TZID=America/Indiana/Indianapolis:20260425T180000
DTEND;TZID=America/Indiana/Indianapolis:20260425T220000
DTSTAMP:20260419T083848
CREATED:20260407T221939Z
LAST-MODIFIED:20260407T221939Z
UID:10002919-1777140000-1777154400@fortwayneelectricworks.com
SUMMARY:"You Meet in A Tavern" | Dungeons & Dragons Meet Up
DESCRIPTION:So many great adventures have begun in a tavern. Will yours? Chapman’s Brewing Company is offering a discount on drinks if we come to roll some dice. April’s board game theme is too be determined. Our Dungeons and Dragons 5.5 adventure now requires even more tables with a third DM coming out to join the two of us. All starting in the same tavern. Be certain to select the Dungeons & Dragons Spot add-on to secure your place in that limited space game. Register through The Game Attic\n\n\n\n\n\n\nMonthly on a floating Saturdays 4/25\, 5/23\, 6/27\, 7/11\, 8/22\, 9/26
URL:https://fortwayneelectricworks.com/event/you-meet-in-a-tavern-dungeons-dragons-meet-up/
LOCATION:Chapman’s Brewing Company\, 1660 Broadway\, Fort Wayne\, IN\, 46802\, United States
CATEGORIES:Arts & Culture,Business & Networking,Games & Trivia
ATTACH;FMTTYPE=image/jpeg:https://fortwayneelectricworks.com/wp-content/uploads/2026/03/Screenshot-2026-03-03-at-12.02.55-PM-e1772557516279.jpg
END:VEVENT
BEGIN:VEVENT
DTSTART;TZID=America/Indiana/Indianapolis:20260429T180000
DTEND;TZID=America/Indiana/Indianapolis:20260429T210000
DTSTAMP:20260419T083848
CREATED:20240906T164815Z
LAST-MODIFIED:20250306T023730Z
UID:10001466-1777485600-1777496400@fortwayneelectricworks.com
SUMMARY:HELLCAT TRIVIA | CHAPMANS BREWING COMPANY
DESCRIPTION:Head to Chapman’s Brewing for an all-ages trivia night—every Wednesday! Hellcat Trivia hosts 2 games a night from 6-7pm and 8-9pm! Trivia is free to play with special prizes for winners! \nDate: Every Wednesday\nTime: 6 – 9 PM\nLocation: Chapman’s Brewing Company\, Electric Works \nRegistration: Registration isn’t required. \nMore information on Chapman’s Brewing Company can be found here.
URL:https://fortwayneelectricworks.com/event/hellcat-trivia-at-chapmans-brewing-company/2026-04-29/
LOCATION:Chapman’s Brewing Company\, 1660 Broadway\, Fort Wayne\, IN\, 46802\, United States
CATEGORIES:Games & Trivia
ATTACH;FMTTYPE=image/jpeg:https://fortwayneelectricworks.com/wp-content/uploads/2024/09/Copy-of-earthworks-earth-day-market-900-×-600-px-77.jpg
END:VEVENT
BEGIN:VEVENT
DTSTART;TZID=America/Indiana/Indianapolis:20260430T180000
DTEND;TZID=America/Indiana/Indianapolis:20260430T200000
DTSTAMP:20260419T083848
CREATED:20251209T145620Z
LAST-MODIFIED:20251209T145620Z
UID:10002621-1777572000-1777579200@fortwayneelectricworks.com
SUMMARY:BINGO | CHAPMANS BREWING COMPANY
DESCRIPTION:Shout “BINGO!” & win some prizes at Chapman’s Brewery Bingo! Join the fun every Thursday for this lively\, engaging night. Grab a brew\, mark your card\, & enjoy a casual & competitive atmosphere with friends! \nDate of Event: Every Thursday\nTime of Event: 6:00 p.m.\nLocation of Event: Chapman’s Brewing Co. \nNo registration is needed. \nEvent Organizer: Chapman’s Brewing Co.. Find more information on the Chapman’s Brewing Co. website or social media channels.
URL:https://fortwayneelectricworks.com/event/bingo-chapmans-brewing-company/2026-04-30/
LOCATION:IN
CATEGORIES:Games & Trivia
ATTACH;FMTTYPE=image/jpeg:https://fortwayneelectricworks.com/wp-content/uploads/2025/12/586737942_792151940488067_8036493247092611363_n.jpg
END:VEVENT
END:VCALENDAR