BEGIN:VCALENDAR
VERSION:2.0
PRODID:-//Fort Wayne Electric Works - ECPv6.6.3//NONSGML v1.0//EN
CALSCALE:GREGORIAN
METHOD:PUBLISH
X-WR-CALNAME:Fort Wayne Electric Works
X-ORIGINAL-URL:https://fortwayneelectricworks.com
X-WR-CALDESC:Events for Fort Wayne Electric Works
REFRESH-INTERVAL;VALUE=DURATION:PT1H
X-Robots-Tag:noindex
X-PUBLISHED-TTL:PT1H
BEGIN:VTIMEZONE
TZID:America/Indiana/Indianapolis
BEGIN:DAYLIGHT
TZOFFSETFROM:-0500
TZOFFSETTO:-0400
TZNAME:EDT
DTSTART:20250309T070000
END:DAYLIGHT
BEGIN:STANDARD
TZOFFSETFROM:-0400
TZOFFSETTO:-0500
TZNAME:EST
DTSTART:20251102T060000
END:STANDARD
BEGIN:DAYLIGHT
TZOFFSETFROM:-0500
TZOFFSETTO:-0400
TZNAME:EDT
DTSTART:20260308T070000
END:DAYLIGHT
BEGIN:STANDARD
TZOFFSETFROM:-0400
TZOFFSETTO:-0500
TZNAME:EST
DTSTART:20261101T060000
END:STANDARD
END:VTIMEZONE
BEGIN:VEVENT
DTSTART;TZID=America/Indiana/Indianapolis:20250921T090000
DTEND;TZID=America/Indiana/Indianapolis:20250921T210000
DTSTAMP:20260425T103510
CREATED:20250902T210750Z
LAST-MODIFIED:20250902T210800Z
UID:10002551-1758445200-1758488400@fortwayneelectricworks.com
SUMMARY:FORT WAYNE BARBER & BEAUTY EXPO 2025 | GE CLUB
DESCRIPTION:Welcome to the Fort Wayne Barber & Beauty Expo 2025! Join us for a day filled with all things barbering & beauty. Get ready to mingle with top professionals in the industry\, attend workshops\, & watch live demos. Whether you’re a seasoned professional or just starting out\, this expo is the perfect place to learn\, network\, & discover the latest trends. Don’t miss this opportunity to enhance your skills\, gain inspiration\, & have a good time with fellow enthusiasts. \nSeptember 21\, 2025\n9:00 AM – 9:00 PM\nGE Club \nTickets can be purchased on Eventbrite. \nFind more information on the event’s page.
URL:https://fortwayneelectricworks.com/event/fort-wayne-barber-beauty-expo-2025-ge-club/
CATEGORIES:Business & Networking,Education
ATTACH;FMTTYPE=image/png:https://fortwayneelectricworks.com/wp-content/uploads/2025/09/https___cdn.evbuc_.com_images_974756043_1734398302363_1_original.png
END:VEVENT
BEGIN:VEVENT
DTSTART;TZID=America/Indiana/Indianapolis:20251025T103000
DTEND;TZID=America/Indiana/Indianapolis:20251025T113000
DTSTAMP:20260425T103510
CREATED:20251004T152740Z
LAST-MODIFIED:20251004T152740Z
UID:10002567-1761388200-1761391800@fortwayneelectricworks.com
SUMMARY:FIRST ENCOUNTERS: STICK\, STACK\, SCULPT | THE GE CLUB
DESCRIPTION:Nurture your young child’s creativity & fine motor skills at First Encounters: Stick\, Stack\, & Sculpt! This engaging art class is designed for our youngest innovators\, ages 2 to 4 years. Children will explore the art of assemblage by re-imagining recycled materials & found natural treasures into beautiful\, tactile works of art. This is a wonderful opportunity for creative problem solving & hands-on\, playful discovery. \nDate of Event October 25\, 2025\nTime of Event 10:30–11:15 a.m.\nLocation of Event THE GE CLUB \nRegistration is required. A cost is associated with this class. Please visit their website to find out more.  \nEvent Organizer: First Encounters.
URL:https://fortwayneelectricworks.com/event/first-encounters-stick-stack-sculpt-the-ge-club/
CATEGORIES:Education,Kids & Family
ATTACH;FMTTYPE=image/webp:https://fortwayneelectricworks.com/wp-content/uploads/2025/10/s516426669656865632_p753_i2_w1080.webp
END:VEVENT
BEGIN:VEVENT
DTSTART;TZID=America/Indiana/Indianapolis:20251210T190000
DTEND;TZID=America/Indiana/Indianapolis:20251210T200000
DTSTAMP:20260425T103510
CREATED:20251209T145254Z
LAST-MODIFIED:20251209T145254Z
UID:10002600-1765393200-1765396800@fortwayneelectricworks.com
SUMMARY:HEALTHY HOLIDAY COOKING | USM'S TEACHING KITCHEN
DESCRIPTION:Learn to prepare delicious meals that prioritize your well-being at Cooking for Kidney Health. This informative & hands-on session\, hosted by the National Kidney Foundation\, provides vital culinary tips & recipes for a kidney-friendly diet. Take control of your health in the Union Street Market’s state-of-the-art Teaching Kitchen! \nDate of Event: December 10\, 2025\nTime of Event: 7:00 p.m.–8:00 p.m.\nLocation of Event: USM’s Teaching Kitchen \nRegistration is required. Please email NKFI@KidneyIndiana.org or call 3177225640 to reserve your spot. \nEvent Organizer: National Kidney Foundation. Find more information on the National Kidney Foundation website.
URL:https://fortwayneelectricworks.com/event/healthy-holiday-cooking-usms-teaching-kitchen/
CATEGORIES:Education,Food
ATTACH;FMTTYPE=image/jpeg:https://fortwayneelectricworks.com/wp-content/uploads/2025/12/Dec2025CookingDrive-1-1024x536-1.jpg
END:VEVENT
BEGIN:VEVENT
DTSTART;TZID=America/Indiana/Indianapolis:20251215T183000
DTEND;TZID=America/Indiana/Indianapolis:20251215T203000
DTSTAMP:20260425T103510
CREATED:20251209T150203Z
LAST-MODIFIED:20251209T150239Z
UID:10002863-1765823400-1765830600@fortwayneelectricworks.com
SUMMARY:MENDING MONDAYS | UNION STREET MARKET
DESCRIPTION:Give your favorite clothes a new lease on life at Mending Mondays! Join Megan Burton & K1nd Goods for a helpful & sustainable evening dedicated to learning basic repair & mending techniques. Bring your items that need a little love & embrace the slow fashion movement! \nDate of Event: December 15\, 2025\nTime of Event: 6:30 p.m.–8:30 p.m.\nLocation of Event: Union Street Market \nEvent Organizer: Megan Burton & K1nd Goods. Find more information on the organizer’s social media or website.
URL:https://fortwayneelectricworks.com/event/mending-mondays-union-street-market-4/
CATEGORIES:Arts & Culture,Education
ATTACH;FMTTYPE=image/jpeg:https://fortwayneelectricworks.com/wp-content/uploads/2025/11/Copy-of-earthworks-earth-day-market-900-×-600-px-70.jpg
END:VEVENT
BEGIN:VEVENT
DTSTART;TZID=America/Indiana/Indianapolis:20251220T103000
DTEND;TZID=America/Indiana/Indianapolis:20251220T113000
DTSTAMP:20260425T103510
CREATED:20251209T151013Z
LAST-MODIFIED:20251209T151013Z
UID:10002866-1766226600-1766230200@fortwayneelectricworks.com
SUMMARY:FIRST ENCOUNTERS | GLOW & GO | THE GE CLUB
DESCRIPTION:Let your little one shine at First Encounters | Glow & Go! This imaginative activity is specifically for 4-5 year olds\, blending creative play with dynamic movement. It’s a fun & unique way for children to develop coordination & explore light & color in a stimulating environment. \nDate of Event: December 20\, 2025\nTime of Event: 10:30 a.m.–11:15 a.m.\nLocation of Event: The GE Club \nRegistration is required. Please visit firstencounters4babies.com to register. \nEvent Organizer: First Encounters. Find more information on the First Encounters website or social media channels.
URL:https://fortwayneelectricworks.com/event/first-encounters-glow-go-the-ge-club/
CATEGORIES:Education,Kids & Family
ATTACH;FMTTYPE=image/webp:https://fortwayneelectricworks.com/wp-content/uploads/2025/12/s516426669656865632_p755_i1_w1080.webp
END:VEVENT
BEGIN:VEVENT
DTSTART;TZID=America/Indiana/Indianapolis:20260318T190000
DTEND;TZID=America/Indiana/Indianapolis:20260318T200000
DTSTAMP:20260425T103510
CREATED:20260302T224455Z
LAST-MODIFIED:20260302T224455Z
UID:10002905-1773860400-1773864000@fortwayneelectricworks.com
SUMMARY:Cooking for Kidney Health
DESCRIPTION:Chef Brittney of Chef’s Kitchen will show you how to make a mouthwatering dish that is healthy and still bursting with flavor. \nIn this demonstration you will learn that you don’t have to sacrifice taste to eat healthy! As an added bonus\, you will get to sample the dish at the end of the demonstration! \nLocated in Union Street Market — in the Teaching Kitchen on the second floor!  \nFree Registration : CLICK HERE
URL:https://fortwayneelectricworks.com/event/cooking-for-kidney-health-2/
LOCATION:Union Street Market\, 1622 Broadway\, Fort Wayne\, IN\, 46802\, United States
CATEGORIES:Arts & Culture,Education,Food,Kids & Family,Philanthropy & Community
ATTACH;FMTTYPE=image/webp:https://fortwayneelectricworks.com/wp-content/uploads/2026/03/friends-cooking-together-1.webp
ORGANIZER;CN="National Kidney Foundation":MAILTO:NKFI@kidneyindiana.org
END:VEVENT
BEGIN:VEVENT
DTSTART;TZID=America/Indiana/Indianapolis:20260411T100000
DTEND;TZID=America/Indiana/Indianapolis:20260411T120000
DTSTAMP:20260425T103510
CREATED:20260407T213946Z
LAST-MODIFIED:20260407T213946Z
UID:10002914-1775901600-1775908800@fortwayneelectricworks.com
SUMMARY:First Encounters | Art Studio For Little Ones
DESCRIPTION:These sessions provide a sensory-stimulating environment for infants\, which is important for early brain growth and development. One way to do this is to engage in fun art experiences with your child. By looking at art and creating it\, babies can develop skills in visual perception and discrimination\, hand-eye coordination\, problem-solving\, fine and gross motor skills\, and early language – all of which provide a good foundation for early brain development \nSessions are for 6-18 month old babies and their caregivers. The cost is $12 for a 30 minute session. \nRegistration \n 
URL:https://fortwayneelectricworks.com/event/first-encounters-art-studio-for-little-ones/
LOCATION:GE Club
CATEGORIES:Education,Kids & Family
ATTACH;FMTTYPE=image/jpeg:https://fortwayneelectricworks.com/wp-content/uploads/2026/04/Teaching-Process-Art-To-Kids-Benefits-and-Activities.jpg
ORGANIZER;CN="First Encounters":MAILTO:firstencounters4babies@gmail.com
END:VEVENT
END:VCALENDAR