BEGIN:VCALENDAR
VERSION:2.0
PRODID:-//Fort Wayne Electric Works - ECPv6.6.3//NONSGML v1.0//EN
CALSCALE:GREGORIAN
METHOD:PUBLISH
X-WR-CALNAME:Fort Wayne Electric Works
X-ORIGINAL-URL:https://fortwayneelectricworks.com
X-WR-CALDESC:Events for Fort Wayne Electric Works
REFRESH-INTERVAL;VALUE=DURATION:PT1H
X-Robots-Tag:noindex
X-PUBLISHED-TTL:PT1H
BEGIN:VTIMEZONE
TZID:America/Indiana/Indianapolis
BEGIN:DAYLIGHT
TZOFFSETFROM:-0500
TZOFFSETTO:-0400
TZNAME:EDT
DTSTART:20250309T070000
END:DAYLIGHT
BEGIN:STANDARD
TZOFFSETFROM:-0400
TZOFFSETTO:-0500
TZNAME:EST
DTSTART:20251102T060000
END:STANDARD
END:VTIMEZONE
BEGIN:VEVENT
DTSTART;TZID=America/Indiana/Indianapolis:20250813T190000
DTEND;TZID=America/Indiana/Indianapolis:20250813T210000
DTSTAMP:20260423T062415
CREATED:20250602T004750Z
LAST-MODIFIED:20250602T004807Z
UID:10002398-1755111600-1755118800@fortwayneelectricworks.com
SUMMARY:COOKING FOR KIDNEY HEALTH | UNION STREET MARKET
DESCRIPTION:Cooking For Kidney Health \nDo you have a hard time figuring out what you can eat that is kidney-friendly & still tastes good? Does it feel like an an impossible task? Join us in Fort Wayne at the Teaching Kitchen in the Union Street Market at Electric Works for this no-cost cooking demonstration! You will learn how to make delicious\, kidney-friendly meals that are easy enough to prepare in your own home. Discover new recipes & practical tips to help you manage your kidney health while enjoying flavorful food. \nWednesday\, June 11\, 2025\, 7:00 pm – 8:00 pm\nRecurs on July 9\, 2025 & August 13\, 2025\nUnion Street Market | Teaching Kitchen \nTo register\, please email NKFI@KidneyIndiana.org or call 317.722.5640. \nNational Kidney Foundation of Indiana\nBSpice@kidneyindiana.org
URL:https://fortwayneelectricworks.com/event/cooking-for-kidney-health-union-street-market-4/2025-08-13/
LOCATION:Union Street Market\, 1622 Broadway\, Fort Wayne\, IN\, 46802\, United States
CATEGORIES:Education,Food
ATTACH;FMTTYPE=image/jpeg:https://fortwayneelectricworks.com/wp-content/uploads/2025/01/CookingShowPostcardFront-1024x663-1.jpg
END:VEVENT
END:VCALENDAR