BEGIN:VCALENDAR
VERSION:2.0
PRODID:-//Fort Wayne Electric Works - ECPv6.6.3//NONSGML v1.0//EN
CALSCALE:GREGORIAN
METHOD:PUBLISH
X-ORIGINAL-URL:https://fortwayneelectricworks.com
X-WR-CALDESC:Events for Fort Wayne Electric Works
REFRESH-INTERVAL;VALUE=DURATION:PT1H
X-Robots-Tag:noindex
X-PUBLISHED-TTL:PT1H
BEGIN:VTIMEZONE
TZID:America/Indiana/Indianapolis
BEGIN:DAYLIGHT
TZOFFSETFROM:-0500
TZOFFSETTO:-0400
TZNAME:EDT
DTSTART:20250309T070000
END:DAYLIGHT
BEGIN:STANDARD
TZOFFSETFROM:-0400
TZOFFSETTO:-0500
TZNAME:EST
DTSTART:20251102T060000
END:STANDARD
END:VTIMEZONE
BEGIN:VEVENT
DTSTART;TZID=America/Indiana/Indianapolis:20250519T183000
DTEND;TZID=America/Indiana/Indianapolis:20250519T203000
DTSTAMP:20260425T065825
CREATED:20250425T181746Z
LAST-MODIFIED:20250425T181746Z
UID:10002378-1747679400-1747686600@fortwayneelectricworks.com
SUMMARY:MENDING MONDAYS BY K1ND GOODS | UNION STREET MARKET
DESCRIPTION:Take a moment and slow down by spending some time to mend those important pieces in your life. The supplies\, knowledge\, and community is here to help you repair the socks and sweaters in your life that need a little TLC. This is a great opportunity to develop and an important skill and engage with other menders. \nDate: May 19th\nTime: 6:30 – 8:30 PM\nLocation: West Hall\, Union Street Market\, Electric Works \nRegistration: No registration required. \nMore information organizers can be found here.
URL:https://fortwayneelectricworks.com/event/mending-mondays-by-k1nd-goods-union-street-market/
LOCATION:Union Street Market\, 1622 Broadway\, Fort Wayne\, IN\, 46802\, United States
CATEGORIES:Arts & Culture,Education
ATTACH;FMTTYPE=image/jpeg:https://fortwayneelectricworks.com/wp-content/uploads/2025/01/Copy-of-earthworks-earth-day-market-900-×-600-px-70.jpg
END:VEVENT
END:VCALENDAR