BEGIN:VCALENDAR
VERSION:2.0
PRODID:-//Fort Wayne Electric Works - ECPv6.6.3//NONSGML v1.0//EN
CALSCALE:GREGORIAN
METHOD:PUBLISH
X-WR-CALNAME:Fort Wayne Electric Works
X-ORIGINAL-URL:https://fortwayneelectricworks.com
X-WR-CALDESC:Events for Fort Wayne Electric Works
REFRESH-INTERVAL;VALUE=DURATION:PT1H
X-Robots-Tag:noindex
X-PUBLISHED-TTL:PT1H
BEGIN:VTIMEZONE
TZID:America/Indiana/Indianapolis
BEGIN:DAYLIGHT
TZOFFSETFROM:-0500
TZOFFSETTO:-0400
TZNAME:EDT
DTSTART:20250309T070000
END:DAYLIGHT
BEGIN:STANDARD
TZOFFSETFROM:-0400
TZOFFSETTO:-0500
TZNAME:EST
DTSTART:20251102T060000
END:STANDARD
END:VTIMEZONE
BEGIN:VEVENT
DTSTART;TZID=America/Indiana/Indianapolis:20250514T190000
DTEND;TZID=America/Indiana/Indianapolis:20250514T200000
DTSTAMP:20260425T065815
CREATED:20250423T201759Z
LAST-MODIFIED:20250423T201759Z
UID:10002355-1747249200-1747252800@fortwayneelectricworks.com
SUMMARY:COOKING FOR KIDNEY HEALTH | UNION STREET MARKET
DESCRIPTION:Join us on Wednesday\, May 14\, 2025\, from 7PM – 8PM for NKFI’s “Cooking for Kidney Health” demonstration at the Electric Works Union Street Market Teaching Kitchen\, 1622 Broadway\, Fort Wayne. This month’s demonstration will be led by Chef Brittney Gage of Chef’s Kitchen As an added bonus\, the first 30 households to attend the class will receive a $25 gift card from Kroger! \nDate: May 14th\nTime: 7-8PM\nLocation: The Teaching Kitchen\, Union Street Market \nRegistration: This event is free to attend. Pre-registration is preferred. Call 3177225640 or email nkfi@kidneyindiana.org to register. \nYou can find out more about the National Kidney Foundation of Indiana at this link. 
URL:https://fortwayneelectricworks.com/event/cooking-for-kidney-health-union-street-market-3/
LOCATION:Union Street Market\, 1622 Broadway\, Fort Wayne\, IN\, 46802\, United States
CATEGORIES:Education
ATTACH;FMTTYPE=image/jpeg:https://fortwayneelectricworks.com/wp-content/uploads/2025/01/CookingShowPostcardFront-1024x663-1.jpg
ORGANIZER;CN="National Kidney Foundation":MAILTO:NKFI@kidneyindiana.org
END:VEVENT
END:VCALENDAR