BEGIN:VCALENDAR
VERSION:2.0
PRODID:-//Fort Wayne Electric Works - ECPv6.6.3//NONSGML v1.0//EN
CALSCALE:GREGORIAN
METHOD:PUBLISH
X-WR-CALNAME:Fort Wayne Electric Works
X-ORIGINAL-URL:https://fortwayneelectricworks.com
X-WR-CALDESC:Events for Fort Wayne Electric Works
REFRESH-INTERVAL;VALUE=DURATION:PT1H
X-Robots-Tag:noindex
X-PUBLISHED-TTL:PT1H
BEGIN:VTIMEZONE
TZID:America/Indiana/Indianapolis
BEGIN:DAYLIGHT
TZOFFSETFROM:-0500
TZOFFSETTO:-0400
TZNAME:EDT
DTSTART:20250309T070000
END:DAYLIGHT
BEGIN:STANDARD
TZOFFSETFROM:-0400
TZOFFSETTO:-0500
TZNAME:EST
DTSTART:20251102T060000
END:STANDARD
END:VTIMEZONE
BEGIN:VEVENT
DTSTART;TZID=America/Indiana/Indianapolis:20250316T130000
DTEND;TZID=America/Indiana/Indianapolis:20250316T150000
DTSTAMP:20260425T110840
CREATED:20250227T184535Z
LAST-MODIFIED:20250305T144346Z
UID:10002023-1742130000-1742137200@fortwayneelectricworks.com
SUMMARY:HAZELNUT BAKING CO. : FRESH PASTA MAKING | UNION STREET MARKET
DESCRIPTION:One of the classic recipes that every home should know! How to make pasta. In this class they cover everything from making & handling the dough to saucing it correctly and exploring those outside the box flavors. \nDate: March 16th\nTime: 1 – 3 PM\nLocation: Union Street Market Teaching Kitchen\, Electric Works \nRegistration: Ticket cost is $50 and you can register at their website. \nMore information on Hazelnut Baking Co. can be found here.
URL:https://fortwayneelectricworks.com/event/cooking-and-baking-classes-fresh-pasta-making-union-street-market/
LOCATION:Union Street Market\, 1622 Broadway\, Fort Wayne\, IN\, 46802\, United States
CATEGORIES:Education,Food
ATTACH;FMTTYPE=image/jpeg:https://fortwayneelectricworks.com/wp-content/uploads/2025/01/nadya-spetnitskaya-tOYiQxF9-Ys-unsplash.jpg
ORGANIZER;CN="Hazlenut Baking Co.":MAILTO:Hazelbakingco@gmail.com
END:VEVENT
END:VCALENDAR