BEGIN:VCALENDAR
VERSION:2.0
PRODID:-//Fort Wayne Electric Works - ECPv6.6.3//NONSGML v1.0//EN
CALSCALE:GREGORIAN
METHOD:PUBLISH
X-ORIGINAL-URL:https://fortwayneelectricworks.com
X-WR-CALDESC:Events for Fort Wayne Electric Works
REFRESH-INTERVAL;VALUE=DURATION:PT1H
X-Robots-Tag:noindex
X-PUBLISHED-TTL:PT1H
BEGIN:VTIMEZONE
TZID:America/Indiana/Indianapolis
BEGIN:DAYLIGHT
TZOFFSETFROM:-0500
TZOFFSETTO:-0400
TZNAME:EDT
DTSTART:20250309T070000
END:DAYLIGHT
BEGIN:STANDARD
TZOFFSETFROM:-0400
TZOFFSETTO:-0500
TZNAME:EST
DTSTART:20251102T060000
END:STANDARD
END:VTIMEZONE
BEGIN:VEVENT
DTSTART;TZID=America/Indiana/Indianapolis:20250409T190000
DTEND;TZID=America/Indiana/Indianapolis:20250409T200000
DTSTAMP:20260425T070224
CREATED:20250331T225917Z
LAST-MODIFIED:20250331T225917Z
UID:10002292-1744225200-1744228800@fortwayneelectricworks.com
SUMMARY:COOKING FOR KIDNEY HEALTH | UNION STREET MARKET
DESCRIPTION:Join us on Wednesday\, April 9\, 2025\, from 7PM – 8PM for NKFI’s “Cooking for Kidney Health” demonstration at the Electric Works Union Street Market Teaching Kitchen\, 1622 Broadway\, Fort Wayne. This month’s demonstration will be led by Chef Brittney Gage of Chef’s Kitchen As an added bonus\, the first 30 households to attend the class will receive a $25 gift card from Kroger! \nDate: April 9th\nTime: 7-8PM\nLocation: The Teaching Kitchen\, Union Street Market \nRegistration: This event is free to attend. Pre-registration is preferred. Call 3177225640 or email nkfi@kidneyindiana.org to register. \nYou can find out more about the National Kidney Foundation of Indiana at this link. 
URL:https://fortwayneelectricworks.com/event/cooking-for-kidney-health-union-street-market-2/
LOCATION:Union Street Market\, 1622 Broadway\, Fort Wayne\, IN\, 46802\, United States
CATEGORIES:Education
ATTACH;FMTTYPE=image/jpeg:https://fortwayneelectricworks.com/wp-content/uploads/2025/01/CookingShowPostcardFront-1024x663-1.jpg
ORGANIZER;CN="National Kidney Foundation":MAILTO:NKFI@kidneyindiana.org
END:VEVENT
BEGIN:VEVENT
DTSTART;TZID=America/Indiana/Indianapolis:20250415T100000
DTEND;TZID=America/Indiana/Indianapolis:20250415T110000
DTSTAMP:20260425T070224
CREATED:20241115T171949Z
LAST-MODIFIED:20241115T171951Z
UID:10001650-1744711200-1744714800@fortwayneelectricworks.com
SUMMARY:TOTS by Science Central (Ages 3-6) at Union Street Market
DESCRIPTION:TOTS\, short for “Today’s Observers\, Tomorrow’s Scientists\,” is Science Central’s program for children ages 3 to 6. Each session features engaging\, age-appropriate activities designed to introduce young learners to the world of STEM. Each month there is a story time and activity related to a different science theme. Learn more about each program’s theme or register here. \nLocation: The Mezzanine at Union Street Market \nSign-in starts at 9:30AM \nThis event is hosted by Science Central. Registration is encouraged. Register Here.\nPlease contact Science Central for any questions.
URL:https://fortwayneelectricworks.com/event/tots-by-science-central-ages-3-6-2/2025-04-15/
CATEGORIES:Education,Kids & Family
ATTACH;FMTTYPE=image/png:https://fortwayneelectricworks.com/wp-content/uploads/2024/09/Copy-of-earthworks-earth-day-market-900-×-600-px-81.png
END:VEVENT
BEGIN:VEVENT
DTSTART;TZID=America/Indiana/Indianapolis:20250415T183000
DTEND;TZID=America/Indiana/Indianapolis:20250415T203000
DTSTAMP:20260425T070224
CREATED:20250331T232418Z
LAST-MODIFIED:20250331T232418Z
UID:10002294-1744741800-1744749000@fortwayneelectricworks.com
SUMMARY:AI TINKERERS OF FORT WAYNE | THE FORUM
DESCRIPTION:AI Tinkerers is a gathering of likeminded individuals interested in all aspects of Artificial Intelligence. Tinkerers is the perfect format for those looking to and currently are integrating AI and Machine learning into their workflow. Come Learn\, Teach\, Present. \nDate: April 15th\nTime: 6:30-8:30PM\nLocation: The Forum \nRegistration: This event is free to attend and doesn’t require registration. \nYou can find out more about the AI Tinkerers of Fort Wayne at this link.
URL:https://fortwayneelectricworks.com/event/ai-tinkerers-of-fort-wayne-the-forum/
LOCATION:The Forum
CATEGORIES:Education
ATTACH;FMTTYPE=image/jpeg:https://fortwayneelectricworks.com/wp-content/uploads/2025/03/christian-wiediger-WkfDrhxDMC8-unsplash.jpg
END:VEVENT
BEGIN:VEVENT
DTSTART;TZID=America/Indiana/Indianapolis:20250423T183000
DTEND;TZID=America/Indiana/Indianapolis:20250423T200000
DTSTAMP:20260425T070224
CREATED:20250331T232027Z
LAST-MODIFIED:20250331T232027Z
UID:10002293-1745433000-1745438400@fortwayneelectricworks.com
SUMMARY:THE LOST ART OF FASTING | UNION STREET MARKET
DESCRIPTION:Intermittent Fasting is growing in popularity. Did you know there is a biological basis for fasting\, beyond fad dieting? In this class\, Holly Sutter will talk about the compelling science of Fasting\, our two metabolisms\, and how to access these healing states. Holly Sutter is a Functional Medicine Certified Health Coach\, and is practicing for her fasting certification. The class will include the 6 different types of fasts\, and offer tastings of different versions of “fasted snacks”. When engaging in longer fasts\, using a fasted snack is a beneficial way to elongate a fast and stabilize blood glucose. Class size is limited to 25\, and is free of charge. \nDate: April 23rd\nTime: 6:30-8PM\nLocation: The Teaching Kitchen\, Union Street Market \nRegistration: This event is free to attend. You can register at this link.  \nYou can find out more about the Fasting for Longevity Facebook Group at this link.
URL:https://fortwayneelectricworks.com/event/the-lost-art-of-fasting-union-street-market/
CATEGORIES:Education
ATTACH;FMTTYPE=image/jpeg:https://fortwayneelectricworks.com/wp-content/uploads/2025/03/helena-lopes-PGnqT0rXWLs-unsplash.jpg
END:VEVENT
END:VCALENDAR