BEGIN:VCALENDAR
VERSION:2.0
PRODID:-//Fort Wayne Electric Works - ECPv6.6.3//NONSGML v1.0//EN
CALSCALE:GREGORIAN
METHOD:PUBLISH
X-ORIGINAL-URL:https://fortwayneelectricworks.com
X-WR-CALDESC:Events for Fort Wayne Electric Works
REFRESH-INTERVAL;VALUE=DURATION:PT1H
X-Robots-Tag:noindex
X-PUBLISHED-TTL:PT1H
BEGIN:VTIMEZONE
TZID:America/Indiana/Indianapolis
BEGIN:DAYLIGHT
TZOFFSETFROM:-0500
TZOFFSETTO:-0400
TZNAME:EDT
DTSTART:20250309T070000
END:DAYLIGHT
BEGIN:STANDARD
TZOFFSETFROM:-0400
TZOFFSETTO:-0500
TZNAME:EST
DTSTART:20251102T060000
END:STANDARD
END:VTIMEZONE
BEGIN:VEVENT
DTSTART;TZID=America/Indiana/Indianapolis:20250308T150000
DTEND;TZID=America/Indiana/Indianapolis:20250308T170000
DTSTAMP:20260425T093615
CREATED:20250227T170407Z
LAST-MODIFIED:20250306T022134Z
UID:10002011-1741446000-1741453200@fortwayneelectricworks.com
SUMMARY:COMPLETE STREETS FOR A SAFER FORT WAYNE | THE FORUM
DESCRIPTION:Join us at Electric Works for an exciting event on Fort Wayne’s Complete Streets initiative. Enjoy light food and drinks from Chapman’s Brewing. We’ll premiere a new video on the need for an updated Complete Streets policy in Fort Wayne. Engage in a Q&A session with experts and community members. Don’t miss this chance to be part of the conversation and help shape the future of our streets. \nDate: March 8th\nTime: 3 – 5 PM\nLocation: The Forum\, Electric Works \nRegistration: You can register at the link here. \nMore information on the Complete Streets Initiative can be found here.
URL:https://fortwayneelectricworks.com/event/complete-streets-for-a-safer-fort-wayne-the-forum/
LOCATION:The Forum
CATEGORIES:Education,Philanthropy & Community
ATTACH;FMTTYPE=image/jpeg:https://fortwayneelectricworks.com/wp-content/uploads/2025/02/victoria-prymak-qB2VHI4Y1iE-unsplash-e1740675804859.jpg
ORGANIZER;CN="AARP Indiana":MAILTO:inaarp@aarp.org
END:VEVENT
BEGIN:VEVENT
DTSTART;TZID=America/Indiana/Indianapolis:20250316T130000
DTEND;TZID=America/Indiana/Indianapolis:20250316T150000
DTSTAMP:20260425T093615
CREATED:20250227T184535Z
LAST-MODIFIED:20250305T144346Z
UID:10002023-1742130000-1742137200@fortwayneelectricworks.com
SUMMARY:HAZELNUT BAKING CO. : FRESH PASTA MAKING | UNION STREET MARKET
DESCRIPTION:One of the classic recipes that every home should know! How to make pasta. In this class they cover everything from making & handling the dough to saucing it correctly and exploring those outside the box flavors. \nDate: March 16th\nTime: 1 – 3 PM\nLocation: Union Street Market Teaching Kitchen\, Electric Works \nRegistration: Ticket cost is $50 and you can register at their website. \nMore information on Hazelnut Baking Co. can be found here.
URL:https://fortwayneelectricworks.com/event/cooking-and-baking-classes-fresh-pasta-making-union-street-market/
LOCATION:Union Street Market\, 1622 Broadway\, Fort Wayne\, IN\, 46802\, United States
CATEGORIES:Education,Food
ATTACH;FMTTYPE=image/jpeg:https://fortwayneelectricworks.com/wp-content/uploads/2025/01/nadya-spetnitskaya-tOYiQxF9-Ys-unsplash.jpg
ORGANIZER;CN="Hazlenut Baking Co.":MAILTO:Hazelbakingco@gmail.com
END:VEVENT
BEGIN:VEVENT
DTSTART;TZID=America/Indiana/Indianapolis:20250318T100000
DTEND;TZID=America/Indiana/Indianapolis:20250318T110000
DTSTAMP:20260425T093615
CREATED:20241115T171949Z
LAST-MODIFIED:20241115T171951Z
UID:10001649-1742292000-1742295600@fortwayneelectricworks.com
SUMMARY:TOTS by Science Central (Ages 3-6) at Union Street Market
DESCRIPTION:TOTS\, short for “Today’s Observers\, Tomorrow’s Scientists\,” is Science Central’s program for children ages 3 to 6. Each session features engaging\, age-appropriate activities designed to introduce young learners to the world of STEM. Each month there is a story time and activity related to a different science theme. Learn more about each program’s theme or register here. \nLocation: The Mezzanine at Union Street Market \nSign-in starts at 9:30AM \nThis event is hosted by Science Central. Registration is encouraged. Register Here.\nPlease contact Science Central for any questions.
URL:https://fortwayneelectricworks.com/event/tots-by-science-central-ages-3-6-2/2025-03-18/
CATEGORIES:Education,Kids & Family
ATTACH;FMTTYPE=image/png:https://fortwayneelectricworks.com/wp-content/uploads/2024/09/Copy-of-earthworks-earth-day-market-900-×-600-px-81.png
END:VEVENT
BEGIN:VEVENT
DTSTART;TZID=America/Indiana/Indianapolis:20250322T180000
DTEND;TZID=America/Indiana/Indianapolis:20250322T210000
DTSTAMP:20260425T093615
CREATED:20250227T174535Z
LAST-MODIFIED:20250311T193326Z
UID:10002021-1742666400-1742677200@fortwayneelectricworks.com
SUMMARY:THE HISTORY OF SHE\, THE POWER OF WE | THE FORUM
DESCRIPTION:Experience an empowering event celebrating women’s history and the strength of unity. Dive into the stories of remarkable women who have shaped our world and discover how you can create a more inclusive future. \nDate: March 22nd\nTime: 6 – 9 PM\nLocation: The Forum\, Electric Works \nRegistration: Ticket cost is $10+ and you can register at this website.
URL:https://fortwayneelectricworks.com/event/the-history-of-she-the-power-of-we-the-forum/
LOCATION:The Forum
CATEGORIES:Arts & Culture,Education
ATTACH;FMTTYPE=image/jpeg:https://fortwayneelectricworks.com/wp-content/uploads/2025/02/476083683_10230479435544386_2759665044231601964_n.jpg
ORGANIZER;CN="Jama & Holly":MAILTO:jross@blessingsindiana.org
END:VEVENT
BEGIN:VEVENT
DTSTART;TZID=America/Indiana/Indianapolis:20250324T183000
DTEND;TZID=America/Indiana/Indianapolis:20250324T203000
DTSTAMP:20260425T093615
CREATED:20250227T191511Z
LAST-MODIFIED:20250306T161526Z
UID:10002272-1742841000-1742848200@fortwayneelectricworks.com
SUMMARY:MENDING MONDAYS BY K1ND GOODS | UNION STREET MARKET
DESCRIPTION:Take a moment and slow down by spending some time to mend those important pieces in your life. The supplies\, knowledge\, and community is here to help you repair the socks and sweaters in your life that need a little TLC. This is a great opportunity to develop and an important skill and engage with other menders. \nDate: March 24th\nTime: 6:30 – 8:30 PM\nLocation: West Hall\, Union Street Market\, Electric Works \nRegistration: No registration required. \nMore information organizers can be found here.
URL:https://fortwayneelectricworks.com/event/mending-mondays-union-street-market-2/
LOCATION:Union Street Market\, 1622 Broadway\, Fort Wayne\, IN\, 46802\, United States
CATEGORIES:Arts & Culture,Education
ATTACH;FMTTYPE=image/jpeg:https://fortwayneelectricworks.com/wp-content/uploads/2025/01/Copy-of-earthworks-earth-day-market-900-×-600-px-70.jpg
END:VEVENT
BEGIN:VEVENT
DTSTART;TZID=America/Indiana/Indianapolis:20250326T180000
DTEND;TZID=America/Indiana/Indianapolis:20250326T200000
DTSTAMP:20260425T093615
CREATED:20250227T184733Z
LAST-MODIFIED:20250305T140049Z
UID:10002024-1743012000-1743019200@fortwayneelectricworks.com
SUMMARY:HAZELNUT BAKING CO. : BAGEL MAKING | UNION STREET MARKET
DESCRIPTION:Ready to taste the warm and soft textures of authentic bagels at home!? You can with this cooking class! \nDate: March 26th\nTime: 6 – 8 PM\nLocation: Union Street Market Teaching Kitchen\, Electric Works \nRegistration: Ticket cost is $50 and you can register at their website. \nMore information on Hazelnut Baking Co. can be found here.
URL:https://fortwayneelectricworks.com/event/cooking-baking-classes-bagel-making-union-street-market/
LOCATION:Union Street Market\, 1622 Broadway\, Fort Wayne\, IN\, 46802\, United States
CATEGORIES:Education,Food
ATTACH;FMTTYPE=image/jpeg:https://fortwayneelectricworks.com/wp-content/uploads/2025/02/diane-alkier-jkwVtDDN-gA-unsplash.jpg
ORGANIZER;CN="Hazlenut Baking Co.":MAILTO:Hazelbakingco@gmail.com
END:VEVENT
END:VCALENDAR