BEGIN:VCALENDAR
VERSION:2.0
PRODID:-//Fort Wayne Electric Works - ECPv6.6.3//NONSGML v1.0//EN
CALSCALE:GREGORIAN
METHOD:PUBLISH
X-ORIGINAL-URL:https://fortwayneelectricworks.com
X-WR-CALDESC:Events for Fort Wayne Electric Works
REFRESH-INTERVAL;VALUE=DURATION:PT1H
X-Robots-Tag:noindex
X-PUBLISHED-TTL:PT1H
BEGIN:VTIMEZONE
TZID:America/Indiana/Indianapolis
BEGIN:DAYLIGHT
TZOFFSETFROM:-0500
TZOFFSETTO:-0400
TZNAME:EDT
DTSTART:20300310T070000
END:DAYLIGHT
BEGIN:STANDARD
TZOFFSETFROM:-0400
TZOFFSETTO:-0500
TZNAME:EST
DTSTART:20301103T060000
END:STANDARD
BEGIN:DAYLIGHT
TZOFFSETFROM:-0500
TZOFFSETTO:-0400
TZNAME:EDT
DTSTART:20310309T070000
END:DAYLIGHT
BEGIN:STANDARD
TZOFFSETFROM:-0400
TZOFFSETTO:-0500
TZNAME:EST
DTSTART:20311102T060000
END:STANDARD
END:VTIMEZONE
BEGIN:VEVENT
DTSTART;TZID=America/Indiana/Indianapolis:20301109T090000
DTEND;TZID=America/Indiana/Indianapolis:20301109T130000
DTSTAMP:20260420T014736
CREATED:20250108T160038Z
LAST-MODIFIED:20260106T213254Z
UID:10002882-1920445200-1920459600@fortwayneelectricworks.com
SUMMARY:SUMMIT CITY FARMERS MARKET AT UNION STREET MARKET
DESCRIPTION:Summit City Farmers Market will kick off the 2026 indoor market season inside Union Street Market—happening every Saturday from 9am to 1pm. Support local farmers\, food producers\, and artisans and check out the Electric Works campus!
URL:https://fortwayneelectricworks.com/event/ft-waynes-farmers-market-at-union-street-market/2030-11-09/
CATEGORIES:Arts & Culture,Shopping
ATTACH;FMTTYPE=image/jpeg:https://fortwayneelectricworks.com/wp-content/uploads/2025/01/DSC02237.jpg
END:VEVENT
BEGIN:VEVENT
DTSTART;TZID=America/Indiana/Indianapolis:20301116T090000
DTEND;TZID=America/Indiana/Indianapolis:20301116T130000
DTSTAMP:20260420T014736
CREATED:20250108T160038Z
LAST-MODIFIED:20260106T213254Z
UID:10002883-1921050000-1921064400@fortwayneelectricworks.com
SUMMARY:SUMMIT CITY FARMERS MARKET AT UNION STREET MARKET
DESCRIPTION:Summit City Farmers Market will kick off the 2026 indoor market season inside Union Street Market—happening every Saturday from 9am to 1pm. Support local farmers\, food producers\, and artisans and check out the Electric Works campus!
URL:https://fortwayneelectricworks.com/event/ft-waynes-farmers-market-at-union-street-market/2030-11-16/
CATEGORIES:Arts & Culture,Shopping
ATTACH;FMTTYPE=image/jpeg:https://fortwayneelectricworks.com/wp-content/uploads/2025/01/DSC02237.jpg
END:VEVENT
BEGIN:VEVENT
DTSTART;TZID=America/Indiana/Indianapolis:20301123T090000
DTEND;TZID=America/Indiana/Indianapolis:20301123T130000
DTSTAMP:20260420T014736
CREATED:20250108T160038Z
LAST-MODIFIED:20260106T213254Z
UID:10002884-1921654800-1921669200@fortwayneelectricworks.com
SUMMARY:SUMMIT CITY FARMERS MARKET AT UNION STREET MARKET
DESCRIPTION:Summit City Farmers Market will kick off the 2026 indoor market season inside Union Street Market—happening every Saturday from 9am to 1pm. Support local farmers\, food producers\, and artisans and check out the Electric Works campus!
URL:https://fortwayneelectricworks.com/event/ft-waynes-farmers-market-at-union-street-market/2030-11-23/
CATEGORIES:Arts & Culture,Shopping
ATTACH;FMTTYPE=image/jpeg:https://fortwayneelectricworks.com/wp-content/uploads/2025/01/DSC02237.jpg
END:VEVENT
BEGIN:VEVENT
DTSTART;TZID=America/Indiana/Indianapolis:20301130T090000
DTEND;TZID=America/Indiana/Indianapolis:20301130T130000
DTSTAMP:20260420T014736
CREATED:20250108T160038Z
LAST-MODIFIED:20260106T213254Z
UID:10002885-1922259600-1922274000@fortwayneelectricworks.com
SUMMARY:SUMMIT CITY FARMERS MARKET AT UNION STREET MARKET
DESCRIPTION:Summit City Farmers Market will kick off the 2026 indoor market season inside Union Street Market—happening every Saturday from 9am to 1pm. Support local farmers\, food producers\, and artisans and check out the Electric Works campus!
URL:https://fortwayneelectricworks.com/event/ft-waynes-farmers-market-at-union-street-market/2030-11-30/
CATEGORIES:Arts & Culture,Shopping
ATTACH;FMTTYPE=image/jpeg:https://fortwayneelectricworks.com/wp-content/uploads/2025/01/DSC02237.jpg
END:VEVENT
BEGIN:VEVENT
DTSTART;TZID=America/Indiana/Indianapolis:20301207T090000
DTEND;TZID=America/Indiana/Indianapolis:20301207T130000
DTSTAMP:20260420T014736
CREATED:20250108T160038Z
LAST-MODIFIED:20260106T213254Z
UID:10002886-1922864400-1922878800@fortwayneelectricworks.com
SUMMARY:SUMMIT CITY FARMERS MARKET AT UNION STREET MARKET
DESCRIPTION:Summit City Farmers Market will kick off the 2026 indoor market season inside Union Street Market—happening every Saturday from 9am to 1pm. Support local farmers\, food producers\, and artisans and check out the Electric Works campus!
URL:https://fortwayneelectricworks.com/event/ft-waynes-farmers-market-at-union-street-market/2030-12-07/
CATEGORIES:Arts & Culture,Shopping
ATTACH;FMTTYPE=image/jpeg:https://fortwayneelectricworks.com/wp-content/uploads/2025/01/DSC02237.jpg
END:VEVENT
BEGIN:VEVENT
DTSTART;TZID=America/Indiana/Indianapolis:20301214T090000
DTEND;TZID=America/Indiana/Indianapolis:20301214T130000
DTSTAMP:20260420T014736
CREATED:20250108T160038Z
LAST-MODIFIED:20260106T213254Z
UID:10002887-1923469200-1923483600@fortwayneelectricworks.com
SUMMARY:SUMMIT CITY FARMERS MARKET AT UNION STREET MARKET
DESCRIPTION:Summit City Farmers Market will kick off the 2026 indoor market season inside Union Street Market—happening every Saturday from 9am to 1pm. Support local farmers\, food producers\, and artisans and check out the Electric Works campus!
URL:https://fortwayneelectricworks.com/event/ft-waynes-farmers-market-at-union-street-market/2030-12-14/
CATEGORIES:Arts & Culture,Shopping
ATTACH;FMTTYPE=image/jpeg:https://fortwayneelectricworks.com/wp-content/uploads/2025/01/DSC02237.jpg
END:VEVENT
BEGIN:VEVENT
DTSTART;TZID=America/Indiana/Indianapolis:20301221T090000
DTEND;TZID=America/Indiana/Indianapolis:20301221T130000
DTSTAMP:20260420T014736
CREATED:20250108T160038Z
LAST-MODIFIED:20260106T213254Z
UID:10002888-1924074000-1924088400@fortwayneelectricworks.com
SUMMARY:SUMMIT CITY FARMERS MARKET AT UNION STREET MARKET
DESCRIPTION:Summit City Farmers Market will kick off the 2026 indoor market season inside Union Street Market—happening every Saturday from 9am to 1pm. Support local farmers\, food producers\, and artisans and check out the Electric Works campus!
URL:https://fortwayneelectricworks.com/event/ft-waynes-farmers-market-at-union-street-market/2030-12-21/
CATEGORIES:Arts & Culture,Shopping
ATTACH;FMTTYPE=image/jpeg:https://fortwayneelectricworks.com/wp-content/uploads/2025/01/DSC02237.jpg
END:VEVENT
BEGIN:VEVENT
DTSTART;TZID=America/Indiana/Indianapolis:20301228T090000
DTEND;TZID=America/Indiana/Indianapolis:20301228T130000
DTSTAMP:20260420T014736
CREATED:20250108T160038Z
LAST-MODIFIED:20260106T213254Z
UID:10002889-1924678800-1924693200@fortwayneelectricworks.com
SUMMARY:SUMMIT CITY FARMERS MARKET AT UNION STREET MARKET
DESCRIPTION:Summit City Farmers Market will kick off the 2026 indoor market season inside Union Street Market—happening every Saturday from 9am to 1pm. Support local farmers\, food producers\, and artisans and check out the Electric Works campus!
URL:https://fortwayneelectricworks.com/event/ft-waynes-farmers-market-at-union-street-market/2030-12-28/
CATEGORIES:Arts & Culture,Shopping
ATTACH;FMTTYPE=image/jpeg:https://fortwayneelectricworks.com/wp-content/uploads/2025/01/DSC02237.jpg
END:VEVENT
BEGIN:VEVENT
DTSTART;TZID=America/Indiana/Indianapolis:20310104T090000
DTEND;TZID=America/Indiana/Indianapolis:20310104T130000
DTSTAMP:20260420T014736
CREATED:20250108T160038Z
LAST-MODIFIED:20260106T213254Z
UID:10002890-1925283600-1925298000@fortwayneelectricworks.com
SUMMARY:SUMMIT CITY FARMERS MARKET AT UNION STREET MARKET
DESCRIPTION:Summit City Farmers Market will kick off the 2026 indoor market season inside Union Street Market—happening every Saturday from 9am to 1pm. Support local farmers\, food producers\, and artisans and check out the Electric Works campus!
URL:https://fortwayneelectricworks.com/event/ft-waynes-farmers-market-at-union-street-market/2031-01-04/
CATEGORIES:Arts & Culture,Shopping
ATTACH;FMTTYPE=image/jpeg:https://fortwayneelectricworks.com/wp-content/uploads/2025/01/DSC02237.jpg
END:VEVENT
END:VCALENDAR