BEGIN:VCALENDAR
VERSION:2.0
PRODID:-//Fort Wayne Electric Works - ECPv6.6.3//NONSGML v1.0//EN
CALSCALE:GREGORIAN
METHOD:PUBLISH
X-ORIGINAL-URL:https://fortwayneelectricworks.com
X-WR-CALDESC:Events for Fort Wayne Electric Works
REFRESH-INTERVAL;VALUE=DURATION:PT1H
X-Robots-Tag:noindex
X-PUBLISHED-TTL:PT1H
BEGIN:VTIMEZONE
TZID:America/Indiana/Indianapolis
BEGIN:DAYLIGHT
TZOFFSETFROM:-0500
TZOFFSETTO:-0400
TZNAME:EDT
DTSTART:20240310T070000
END:DAYLIGHT
BEGIN:STANDARD
TZOFFSETFROM:-0400
TZOFFSETTO:-0500
TZNAME:EST
DTSTART:20241103T060000
END:STANDARD
END:VTIMEZONE
BEGIN:VEVENT
DTSTART;TZID=America/Indiana/Indianapolis:20240921T101500
DTEND;TZID=America/Indiana/Indianapolis:20240921T104500
DTSTAMP:20260420T004938
CREATED:20240906T162600Z
LAST-MODIFIED:20240906T162600Z
UID:10001378-1726913700-1726915500@fortwayneelectricworks.com
SUMMARY:Paper Wizards: Unleashing the Magical Properties of Paper (Ages 2-3)
DESCRIPTION:Join First Encounters: Art Experiences for Little Ones on a whimsical journey through the world of art\, where young children will explore the enchanting possibilities of various papers. Let their creativity soar as they discover the magical properties of each paper type\, turning ordinary materials into extraordinary works of art. \nLocation: The Teaching Kitchen inside Union Street Market \nThere are two time offerings available: \n\n9/21 10:15-10:45am\n9/21 11-11:30am\n\n*This event is hosted by First Encounters: Art Experiences for Little Ones. Registration is required. To register or contact host for questions\, click here.
URL:https://fortwayneelectricworks.com/event/paper-wizards-unleashing-the-magical-properties-of-paper-ages-2-3/2024-09-21/1/
CATEGORIES:Arts & Culture,Kids & Family
ATTACH;FMTTYPE=image/jpeg:https://fortwayneelectricworks.com/wp-content/uploads/2024/09/Copy-of-earthworks-earth-day-market-900-×-600-px-76.jpg
END:VEVENT
BEGIN:VEVENT
DTSTART;TZID=America/Indiana/Indianapolis:20240919T110000
DTEND;TZID=America/Indiana/Indianapolis:20240919T130000
DTSTAMP:20260420T004938
CREATED:20240906T155420Z
LAST-MODIFIED:20240906T155420Z
UID:10001372-1726743600-1726750800@fortwayneelectricworks.com
SUMMARY:Welcoming Week at Electric Works by Amani Family Services
DESCRIPTION:Welcoming Week Fort Wayne will take place September 13-22\, 2024 with the support of community partners. Welcoming Week is a collaborative effort to create inclusive spaces for all. \nExplore the diverse array of food from around the world at Union Street Market\, then stop by Amani’s table to learn more about Welcoming Week and how you can celebrate. Food available for purchase. \nSee image for Welcoming Week’s full schedule. \n*This event is hosted by Amani Family Services. To learn more about the host or ask questions about this event\, visit their website.
URL:https://fortwayneelectricworks.com/event/welcoming-week-at-electric-works-by-amani-family-services/
LOCATION:The Arcade at Union Street Market\, 1030 Swinney Ave\, Fort Wayne\, IN\, 46802\, United States
CATEGORIES:Arts & Culture,Food,Philanthropy & Community
ATTACH;FMTTYPE=image/jpeg:https://fortwayneelectricworks.com/wp-content/uploads/2024/09/Copy-of-earthworks-earth-day-market-900-×-600-px-74.jpg
END:VEVENT
BEGIN:VEVENT
DTSTART;TZID=America/Indiana/Indianapolis:20240906T170000
DTEND;TZID=America/Indiana/Indianapolis:20240906T200000
DTSTAMP:20260420T004938
CREATED:20240906T191034Z
LAST-MODIFIED:20240906T191117Z
UID:10001651-1725642000-1725652800@fortwayneelectricworks.com
SUMMARY:FIRST FRIDAYS: Broadway Arts District
DESCRIPTION:Join the Broadway Arts District as we celebrate FIRST FRIDAYS along the Broadway corridor and beyond! \nParticipating businesses along Broadway will feature special\, art-centric First Fridays happenings within their venue. Follow the Broadway Arts District FW page to see what you can expect and who is participating each month! \nAt Electric Works\, you can check out our public art found in Union Street Market and Chapman’s Brewing Company rotating art exhibit. Grab a cocktail and stroll around campus looking at art (thanks for DORA). \nLocations: Union Street Market and Chapman’s + all other participating businesses in the Broadway Arts District
URL:https://fortwayneelectricworks.com/event/first-fridays-broadway-arts-district/2024-09-06/
CATEGORIES:Arts & Culture
ATTACH;FMTTYPE=image/jpeg:https://fortwayneelectricworks.com/wp-content/uploads/2024/09/457386066_1032647585317414_1760350614502108892_n.jpg
END:VEVENT
END:VCALENDAR