BEGIN:VCALENDAR
VERSION:2.0
PRODID:-//Fort Wayne Electric Works - ECPv6.6.3//NONSGML v1.0//EN
CALSCALE:GREGORIAN
METHOD:PUBLISH
X-WR-CALNAME:Fort Wayne Electric Works
X-ORIGINAL-URL:https://fortwayneelectricworks.com
X-WR-CALDESC:Events for Fort Wayne Electric Works
REFRESH-INTERVAL;VALUE=DURATION:PT1H
X-Robots-Tag:noindex
X-PUBLISHED-TTL:PT1H
BEGIN:VTIMEZONE
TZID:America/Indiana/Indianapolis
BEGIN:DAYLIGHT
TZOFFSETFROM:-0500
TZOFFSETTO:-0400
TZNAME:EDT
DTSTART:20260308T070000
END:DAYLIGHT
BEGIN:STANDARD
TZOFFSETFROM:-0400
TZOFFSETTO:-0500
TZNAME:EST
DTSTART:20261101T060000
END:STANDARD
END:VTIMEZONE
BEGIN:VEVENT
DTSTART;TZID=America/Indiana/Indianapolis:20260221T090000
DTEND;TZID=America/Indiana/Indianapolis:20260221T130000
DTSTAMP:20260425T132844
CREATED:20250108T160038Z
LAST-MODIFIED:20260106T213254Z
UID:10001756-1771664400-1771678800@fortwayneelectricworks.com
SUMMARY:SUMMIT CITY FARMERS MARKET AT UNION STREET MARKET
DESCRIPTION:Summit City Farmers Market will kick off the 2026 indoor market season inside Union Street Market—happening every Saturday from 9am to 1pm. Support local farmers\, food producers\, and artisans and check out the Electric Works campus!
URL:https://fortwayneelectricworks.com/event/ft-waynes-farmers-market-at-union-street-market/2026-02-21/
LOCATION:IN
CATEGORIES:Arts & Culture,Shopping
ATTACH;FMTTYPE=image/jpeg:https://fortwayneelectricworks.com/wp-content/uploads/2025/01/DSC02237.jpg
END:VEVENT
BEGIN:VEVENT
DTSTART;TZID=America/Indiana/Indianapolis:20260221T093000
DTEND;TZID=America/Indiana/Indianapolis:20260221T110000
DTSTAMP:20260425T132844
CREATED:20251114T163047Z
LAST-MODIFIED:20251114T163047Z
UID:10002593-1771666200-1771671600@fortwayneelectricworks.com
SUMMARY:TOTS: MIX IT UP! (CHEMISTRY) | UNION STREET MARKET | MEZZANINE
DESCRIPTION:Scoop\, stir\, & squish your way through the magic of chemical reactions! Mix It Up! features colorful\, hands-on experiments that show how chemistry is all around us\, from the kitchen to the playground. It’s a messy\, memorable\, & safe introduction to the science of change! \nDate of Event February 21\nTime of Event 9:30–11:00 a.m.\nLocation of Event Union Street Market | Mezzanine \nRegistration is required. Check the Science Central website for current pricing & registration details. \nEvent Organizer: Science Central. Find more information about the TOTS series\, registration\, & other programs at the Science Central website.
URL:https://fortwayneelectricworks.com/event/tots-mix-it-up-chemistry-union-street-market-mezzanine/
LOCATION:IN
CATEGORIES:Kids & Family
ATTACH;FMTTYPE=image/jpeg:https://fortwayneelectricworks.com/wp-content/uploads/2025/11/Untitled-design-7.jpg
END:VEVENT
BEGIN:VEVENT
DTSTART;TZID=America/Indiana/Indianapolis:20260221T110000
DTEND;TZID=America/Indiana/Indianapolis:20260221T210000
DTSTAMP:20260425T132844
CREATED:20260203T232643Z
LAST-MODIFIED:20260203T232643Z
UID:10002896-1771671600-1771707600@fortwayneelectricworks.com
SUMMARY:Savor Burgers | 1 Year Anniversary
DESCRIPTION:Savor Burgers is celebrating their 1 year anniversary! We are so happy to work with this amazing establishment\, who has grown immensely this past year. \nListen to Savor Supporter & Local Songstress\, Ta’Korei Moore. She’ll be performing 11am-2pm. \nCome for the food\, stay for the music! They’ll be offering anniversary specials to patrons all day long!
URL:https://fortwayneelectricworks.com/event/savor-burgers-1-year-anniversary/
LOCATION:IN
ATTACH;FMTTYPE=image/jpeg:https://fortwayneelectricworks.com/wp-content/uploads/2026/02/DSC00544.jpg
END:VEVENT
END:VCALENDAR