BEGIN:VCALENDAR
VERSION:2.0
PRODID:-//Fort Wayne Electric Works - ECPv6.6.3//NONSGML v1.0//EN
CALSCALE:GREGORIAN
METHOD:PUBLISH
X-WR-CALNAME:Fort Wayne Electric Works
X-ORIGINAL-URL:https://fortwayneelectricworks.com
X-WR-CALDESC:Events for Fort Wayne Electric Works
REFRESH-INTERVAL;VALUE=DURATION:PT1H
X-Robots-Tag:noindex
X-PUBLISHED-TTL:PT1H
BEGIN:VTIMEZONE
TZID:America/Indiana/Indianapolis
BEGIN:DAYLIGHT
TZOFFSETFROM:-0500
TZOFFSETTO:-0400
TZNAME:EDT
DTSTART:20260308T070000
END:DAYLIGHT
BEGIN:STANDARD
TZOFFSETFROM:-0400
TZOFFSETTO:-0500
TZNAME:EST
DTSTART:20261101T060000
END:STANDARD
END:VTIMEZONE
BEGIN:VEVENT
DTSTART;TZID=America/Indiana/Indianapolis:20260204T110000
DTEND;TZID=America/Indiana/Indianapolis:20260204T140000
DTSTAMP:20260419T141936
CREATED:20260203T230751Z
LAST-MODIFIED:20260203T230751Z
UID:10002893-1770202800-1770213600@fortwayneelectricworks.com
SUMMARY:Transit Equity Day 2026
DESCRIPTION:  \nCitilink invites the community to commemorate the legacy of civil rights icon Rosa Parks and recognize the importance of equitable public transportation during its Transit Equity Day event at 11 a.m. on Wednesday\, Feb. 4\, at The Forum at Electric Works\, 1690 Broadway\, Bldg. 19\, Ste. 10. \nTransit Equity Day\, observed annually on Rosa Parks’ birthday\, highlights the critical role public transportation plays in connecting people to opportunity\, independence and community. In Fort Wayne\, Citilink serves as more than a bus system; it is a lifeline that links residents to jobs\, education\, healthcare and daily necessities. Rosa Parks is widely known for her pivotal role in the Montgomery Bus Boycott\, which helped dismantle legalized segregation on public transportation in the United States. Her courageous refusal to give up her seat sparked a national movement that reshaped civil rights and continues to inspire conversations about equity\, access and justice today. \nAs part of the 2026 Transit Equity Day program\, Fort Wayne Mayor Sharon Tucker will share formal remarks. Attendees will also experience a special appearance by Chief Condra Ridley\, a celebrated Rosa Parks portrayer\, who will bring Parks’ legacy to life through storytelling and historical interpretation. The event will also feature Citilink’s Phresh Laundry Rosa Parks bus\, a rolling tribute designed by Fort Wayne artist Theoplis Smith III\, also known as Phresh Laundry\, which will be on-site for viewing and a ride. \nIntroduced in 2024\, the Rosa Parks bus has become a symbol of Citilink’s commitment to equity\, creativity and community connection. The bus has appeared at dozens of community events and transported tens of thousands of riders\, serving as a daily reminder that transit is a pathway to opportunity. \n“Citilink is more than a way to get from point A to point B; we link people to life\,” said John Metzinger\, General Manager and CEO of Citilink. “Transit Equity Day serves as a reminder that everyone\, regardless of income\, ability or background\, should have access to the opportunities that strengthen our community. This day allows us the chance to reflect on how far we’ve come and recommit to building a more inclusive future.” \nThe free public event is sponsored by Bowen Health and hosted by Electric Works. Following the program\, guests will be invited to ride the Phresh Laundry Rosa Parks bus. Guests are encouraged to park in the Wall Street Lot next to Building 36\, just west of College Street.
URL:https://fortwayneelectricworks.com/event/transit-equity-day-2026/
LOCATION:The Forum
CATEGORIES:Business & Networking,Philanthropy & Community
ATTACH;FMTTYPE=image/jpeg:https://fortwayneelectricworks.com/wp-content/uploads/2026/02/npr.brightspotcdn.jpg
END:VEVENT
BEGIN:VEVENT
DTSTART;TZID=America/Indiana/Indianapolis:20260204T180000
DTEND;TZID=America/Indiana/Indianapolis:20260204T210000
DTSTAMP:20260419T141936
CREATED:20240906T164815Z
LAST-MODIFIED:20250306T023730Z
UID:10001454-1770228000-1770238800@fortwayneelectricworks.com
SUMMARY:HELLCAT TRIVIA | CHAPMANS BREWING COMPANY
DESCRIPTION:Head to Chapman’s Brewing for an all-ages trivia night—every Wednesday! Hellcat Trivia hosts 2 games a night from 6-7pm and 8-9pm! Trivia is free to play with special prizes for winners! \nDate: Every Wednesday\nTime: 6 – 9 PM\nLocation: Chapman’s Brewing Company\, Electric Works \nRegistration: Registration isn’t required. \nMore information on Chapman’s Brewing Company can be found here.
URL:https://fortwayneelectricworks.com/event/hellcat-trivia-at-chapmans-brewing-company/2026-02-04/
LOCATION:Chapman’s Brewing Company\, 1660 Broadway\, Fort Wayne\, IN\, 46802\, United States
CATEGORIES:Games & Trivia
ATTACH;FMTTYPE=image/jpeg:https://fortwayneelectricworks.com/wp-content/uploads/2024/09/Copy-of-earthworks-earth-day-market-900-×-600-px-77.jpg
END:VEVENT
END:VCALENDAR