BEGIN:VCALENDAR
VERSION:2.0
PRODID:-//Fort Wayne Electric Works - ECPv6.6.3//NONSGML v1.0//EN
CALSCALE:GREGORIAN
METHOD:PUBLISH
X-ORIGINAL-URL:https://fortwayneelectricworks.com
X-WR-CALDESC:Events for Fort Wayne Electric Works
REFRESH-INTERVAL;VALUE=DURATION:PT1H
X-Robots-Tag:noindex
X-PUBLISHED-TTL:PT1H
BEGIN:VTIMEZONE
TZID:America/Indiana/Indianapolis
BEGIN:DAYLIGHT
TZOFFSETFROM:-0500
TZOFFSETTO:-0400
TZNAME:EDT
DTSTART:20250309T070000
END:DAYLIGHT
BEGIN:STANDARD
TZOFFSETFROM:-0400
TZOFFSETTO:-0500
TZNAME:EST
DTSTART:20251102T060000
END:STANDARD
END:VTIMEZONE
BEGIN:VEVENT
DTSTART;TZID=America/Indiana/Indianapolis:20250320T173000
DTEND;TZID=America/Indiana/Indianapolis:20250320T193000
DTSTAMP:20260423T041056
CREATED:20250227T185647Z
LAST-MODIFIED:20250305T140802Z
UID:10002026-1742491800-1742499000@fortwayneelectricworks.com
SUMMARY:TASTE OF TEENWOKS | THE FORUM
DESCRIPTION:Experience Taste of TeenWorks\, an engaging after-work event celebrating our vibrant community! Indulge in mouthwatering food and beverage tastings from local favorites while discovering the powerful impact of TeenWorks’ programs and the inspiring young people involved. Connect with community partners\, champion our mission\, and relish an evening filled with flavor and purpose. \nDate: March 20th\nTime: 5:30 – 7:30 PM\nLocation: The Forum\, Electric Works \nRegistration: Ticket cost is $30+ and you can register at their website. \nMore information on TeenWorks can be found here.
URL:https://fortwayneelectricworks.com/event/taste-of-teenwoks-the-forum/
LOCATION:The Forum
CATEGORIES:Business & Networking,Charity,Philanthropy & Community
ATTACH;FMTTYPE=image/jpeg:https://fortwayneelectricworks.com/wp-content/uploads/2025/02/A7E00816.jpg
ORGANIZER;CN="TeenWorks":MAILTO:jmiller@teenworks.org
END:VEVENT
BEGIN:VEVENT
DTSTART;TZID=America/Indiana/Indianapolis:20250320T175000
DTEND;TZID=America/Indiana/Indianapolis:20250320T215000
DTSTAMP:20260423T041056
CREATED:20250227T190537Z
LAST-MODIFIED:20250328T132241Z
UID:10002057-1742493000-1742507400@fortwayneelectricworks.com
SUMMARY:FAIR PLAY VOLLEYBALL LEAGUES | GE CLUB
DESCRIPTION:Ongoing Volleyball League nights at Electric Works Hosted by Fair Play Volleyball.\nCome Join the FUN in the GE Club Gymnasium\, Mondays\, Wednesdays\, Thursdays & Sundays!\nRegistration: Visit the Fair Play Volleyball Facebook Group to inquire about registration.\nAges 13+\nSpectators Always Welcome!\nCheck Fair Play’s Website for More Information.
URL:https://fortwayneelectricworks.com/event/fair-play-volleyball-leagues-ge-club/2025-03-20/
LOCATION:GE Club
CATEGORIES:Games & Trivia
ATTACH;FMTTYPE=image/jpeg:https://fortwayneelectricworks.com/wp-content/uploads/2025/02/DSC02077.jpg
ORGANIZER;CN="Fair Play Volleyball":MAILTO:fairplaybeach@yahoo.com
END:VEVENT
END:VCALENDAR