BEGIN:VCALENDAR
VERSION:2.0
PRODID:-//Fort Wayne Electric Works - ECPv6.6.3//NONSGML v1.0//EN
CALSCALE:GREGORIAN
METHOD:PUBLISH
X-WR-CALNAME:Fort Wayne Electric Works
X-ORIGINAL-URL:https://fortwayneelectricworks.com
X-WR-CALDESC:Events for Fort Wayne Electric Works
REFRESH-INTERVAL;VALUE=DURATION:PT1H
X-Robots-Tag:noindex
X-PUBLISHED-TTL:PT1H
BEGIN:VTIMEZONE
TZID:America/Indiana/Indianapolis
BEGIN:DAYLIGHT
TZOFFSETFROM:-0500
TZOFFSETTO:-0400
TZNAME:EDT
DTSTART:20250309T070000
END:DAYLIGHT
BEGIN:STANDARD
TZOFFSETFROM:-0400
TZOFFSETTO:-0500
TZNAME:EST
DTSTART:20251102T060000
END:STANDARD
END:VTIMEZONE
BEGIN:VEVENT
DTSTART;TZID=America/Indiana/Indianapolis:20250217T173000
DTEND;TZID=America/Indiana/Indianapolis:20250217T193000
DTSTAMP:20260420T165613
CREATED:20250130T140605Z
LAST-MODIFIED:20250130T140605Z
UID:10001996-1739813400-1739820600@fortwayneelectricworks.com
SUMMARY:INTRO TO BREAD BAKING (SOLD OUT) | UNION STREET MARKET
DESCRIPTION:
URL:https://fortwayneelectricworks.com/event/intro-to-bread-baking-sold-out-union-street-market/
LOCATION:Union Street Market\, 1622 Broadway\, Fort Wayne\, IN\, 46802\, United States
ATTACH;FMTTYPE=image/jpeg:https://fortwayneelectricworks.com/wp-content/uploads/2025/01/nadya-spetnitskaya-tOYiQxF9-Ys-unsplash.jpg
END:VEVENT
BEGIN:VEVENT
DTSTART;TZID=America/Indiana/Indianapolis:20250217T175000
DTEND;TZID=America/Indiana/Indianapolis:20250217T215000
DTSTAMP:20260420T165613
CREATED:20250227T190537Z
LAST-MODIFIED:20250328T132241Z
UID:10002039-1739814600-1739829000@fortwayneelectricworks.com
SUMMARY:FAIR PLAY VOLLEYBALL LEAGUES | GE CLUB
DESCRIPTION:Ongoing Volleyball League nights at Electric Works Hosted by Fair Play Volleyball.\nCome Join the FUN in the GE Club Gymnasium\, Mondays\, Wednesdays\, Thursdays & Sundays!\nRegistration: Visit the Fair Play Volleyball Facebook Group to inquire about registration.\nAges 13+\nSpectators Always Welcome!\nCheck Fair Play’s Website for More Information.
URL:https://fortwayneelectricworks.com/event/fair-play-volleyball-leagues-ge-club/2025-02-17/
LOCATION:GE Club
CATEGORIES:Games & Trivia
ATTACH;FMTTYPE=image/jpeg:https://fortwayneelectricworks.com/wp-content/uploads/2025/02/DSC02077.jpg
ORGANIZER;CN="Fair Play Volleyball":MAILTO:fairplaybeach@yahoo.com
END:VEVENT
BEGIN:VEVENT
DTSTART;TZID=America/Indiana/Indianapolis:20250217T183000
DTEND;TZID=America/Indiana/Indianapolis:20250217T203000
DTSTAMP:20260420T165613
CREATED:20250130T135811Z
LAST-MODIFIED:20250130T135811Z
UID:10001993-1739817000-1739824200@fortwayneelectricworks.com
SUMMARY:MENDING MONDAYS | UNION STREET MARKET
DESCRIPTION:🪡Hello Fort Wayne menders! If you can take a break and mend with us\, that’d be grand! We’ll be at ElectricWorks in the West Hall beginning at 6:30. It’s a great chance to sit still for a moment and mend/modify/repair an item in need. 🪡\n🧵We have supplies\, knowledge\, and books to share PLUS free cashmere and wool patch pieces for your socks or sweaters in need of some mending love. 🧵\n✂️Pop in or out when you can. You’ll be amazed at the mending you can accomplish if you just set aside a moment to do so.
URL:https://fortwayneelectricworks.com/event/mending-mondays-union-street-market/
LOCATION:Union Street Market\, 1622 Broadway\, Fort Wayne\, IN\, 46802\, United States
ATTACH;FMTTYPE=image/jpeg:https://fortwayneelectricworks.com/wp-content/uploads/2025/01/Copy-of-earthworks-earth-day-market-900-×-600-px-70.jpg
END:VEVENT
END:VCALENDAR