BEGIN:VCALENDAR
VERSION:2.0
PRODID:-//Fort Wayne Electric Works - ECPv6.6.3//NONSGML v1.0//EN
CALSCALE:GREGORIAN
METHOD:PUBLISH
X-ORIGINAL-URL:https://fortwayneelectricworks.com
X-WR-CALDESC:Events for Fort Wayne Electric Works
REFRESH-INTERVAL;VALUE=DURATION:PT1H
X-Robots-Tag:noindex
X-PUBLISHED-TTL:PT1H
BEGIN:VTIMEZONE
TZID:America/Indiana/Indianapolis
BEGIN:DAYLIGHT
TZOFFSETFROM:-0500
TZOFFSETTO:-0400
TZNAME:EDT
DTSTART:20250309T070000
END:DAYLIGHT
BEGIN:STANDARD
TZOFFSETFROM:-0400
TZOFFSETTO:-0500
TZNAME:EST
DTSTART:20251102T060000
END:STANDARD
END:VTIMEZONE
BEGIN:VEVENT
DTSTART;TZID=America/Indiana/Indianapolis:20250204T103000
DTEND;TZID=America/Indiana/Indianapolis:20250204T123000
DTSTAMP:20260423T074100
CREATED:20250130T131536Z
LAST-MODIFIED:20250130T131536Z
UID:10001969-1738665000-1738672200@fortwayneelectricworks.com
SUMMARY:CITILINK “TRANSIT EQUITY” DAY
DESCRIPTION:Transit Equity Day 2025 is almost here! Join Citilink at Electric Works for a powerful in-person event celebrating equitable transportation and honoring the legacy of Rosa Parks. \nThis year’s event will feature inspiring guest speakers and a unique opportunity to explore how transit can drive inclusion and accessibility for all.
URL:https://fortwayneelectricworks.com/event/citilink-transit-equity-day/
LOCATION:The Forum
ATTACH;FMTTYPE=image/jpeg:https://fortwayneelectricworks.com/wp-content/uploads/2025/01/Transit-Equity-3-768x512-1.jpg
END:VEVENT
END:VCALENDAR