BEGIN:VCALENDAR
VERSION:2.0
PRODID:-//Fort Wayne Electric Works - ECPv6.6.3//NONSGML v1.0//EN
CALSCALE:GREGORIAN
METHOD:PUBLISH
X-ORIGINAL-URL:https://fortwayneelectricworks.com
X-WR-CALDESC:Events for Fort Wayne Electric Works
REFRESH-INTERVAL;VALUE=DURATION:PT1H
X-Robots-Tag:noindex
X-PUBLISHED-TTL:PT1H
BEGIN:VTIMEZONE
TZID:America/Indiana/Indianapolis
BEGIN:DAYLIGHT
TZOFFSETFROM:-0500
TZOFFSETTO:-0400
TZNAME:EDT
DTSTART:20250309T070000
END:DAYLIGHT
BEGIN:STANDARD
TZOFFSETFROM:-0400
TZOFFSETTO:-0500
TZNAME:EST
DTSTART:20251102T060000
END:STANDARD
END:VTIMEZONE
BEGIN:VEVENT
DTSTART;TZID=America/Indiana/Indianapolis:20250115T090000
DTEND;TZID=America/Indiana/Indianapolis:20250126T220000
DTSTAMP:20260425T120728
CREATED:20250108T160500Z
LAST-MODIFIED:20250109T151810Z
UID:10001959-1736931600-1737928800@fortwayneelectricworks.com
SUMMARY:SAVOR FORT WAYNE
DESCRIPTION:Get Ready to Savor Fort Wayne at Electric Works! From January 15th to the 26th\, join us for a delicious celebration of local cuisine.\nWe’re thrilled to be part of this city-wide culinary adventure\, and we’ve got some amazing things planned. We’re excited to announce the following participating businesses with more details coming soon.\n\nChapman’s Brewing Company\nPasta Di GuyO’Cha Thai\nBuyamba Sandwich Company\nFort Wayne’s Farmers Market (On the 18th & 25th)\n\nStay tuned for more exciting announcements!
URL:https://fortwayneelectricworks.com/event/savor-fort-wayne/
LOCATION:IN
ATTACH;FMTTYPE=image/jpeg:https://fortwayneelectricworks.com/wp-content/uploads/2025/01/PASTA.jpg
END:VEVENT
BEGIN:VEVENT
DTSTART;TZID=America/Indiana/Indianapolis:20250125T090000
DTEND;TZID=America/Indiana/Indianapolis:20250125T130000
DTSTAMP:20260425T120728
CREATED:20250108T160038Z
LAST-MODIFIED:20260106T213254Z
UID:10001700-1737795600-1737810000@fortwayneelectricworks.com
SUMMARY:SUMMIT CITY FARMERS MARKET AT UNION STREET MARKET
DESCRIPTION:Summit City Farmers Market will kick off the 2026 indoor market season inside Union Street Market—happening every Saturday from 9am to 1pm. Support local farmers\, food producers\, and artisans and check out the Electric Works campus!
URL:https://fortwayneelectricworks.com/event/ft-waynes-farmers-market-at-union-street-market/2025-01-25/
LOCATION:IN
CATEGORIES:Arts & Culture,Shopping
ATTACH;FMTTYPE=image/jpeg:https://fortwayneelectricworks.com/wp-content/uploads/2025/01/DSC02237.jpg
END:VEVENT
BEGIN:VEVENT
DTSTART;TZID=America/Indiana/Indianapolis:20250125T090000
DTEND;TZID=America/Indiana/Indianapolis:20250125T130000
DTSTAMP:20260425T120728
CREATED:20250109T152047Z
LAST-MODIFIED:20250109T152047Z
UID:10001965-1737795600-1737810000@fortwayneelectricworks.com
SUMMARY:SAVOR FORT WAYNE POP-UP WITH FORT WAYNE'S FARMERS MARKET
DESCRIPTION:Come enjoy Savor Fort Wayne’s first Pop-Up! This unique twist allows Ft. Wayne foodies to take advantage of the ‘multi-course\, value-priced’ menus curated by Ft. Wayne’s Farmers Market vendors. Only available during the two Saturday markets that fall within the Savor Fort Wayne window\, January 18th and January 25th. Don’t miss out!
URL:https://fortwayneelectricworks.com/event/savor-fort-wayne-pop-up-with-fort-waynes-farmers-market/2025-01-25/
LOCATION:IN
ATTACH;FMTTYPE=image/jpeg:https://fortwayneelectricworks.com/wp-content/uploads/2025/01/FWFM.jpg
END:VEVENT
END:VCALENDAR