BEGIN:VCALENDAR
VERSION:2.0
PRODID:-//Fort Wayne Electric Works - ECPv6.6.3//NONSGML v1.0//EN
CALSCALE:GREGORIAN
METHOD:PUBLISH
X-WR-CALNAME:Fort Wayne Electric Works
X-ORIGINAL-URL:https://fortwayneelectricworks.com
X-WR-CALDESC:Events for Fort Wayne Electric Works
REFRESH-INTERVAL;VALUE=DURATION:PT1H
X-Robots-Tag:noindex
X-PUBLISHED-TTL:PT1H
BEGIN:VTIMEZONE
TZID:America/Indiana/Indianapolis
BEGIN:DAYLIGHT
TZOFFSETFROM:-0500
TZOFFSETTO:-0400
TZNAME:EDT
DTSTART:20250309T070000
END:DAYLIGHT
BEGIN:STANDARD
TZOFFSETFROM:-0400
TZOFFSETTO:-0500
TZNAME:EST
DTSTART:20251102T060000
END:STANDARD
END:VTIMEZONE
BEGIN:VEVENT
DTSTART;TZID=America/Indiana/Indianapolis:20250115T090000
DTEND;TZID=America/Indiana/Indianapolis:20250126T220000
DTSTAMP:20260425T120614
CREATED:20250108T160500Z
LAST-MODIFIED:20250109T151810Z
UID:10001959-1736931600-1737928800@fortwayneelectricworks.com
SUMMARY:SAVOR FORT WAYNE
DESCRIPTION:Get Ready to Savor Fort Wayne at Electric Works! From January 15th to the 26th\, join us for a delicious celebration of local cuisine.\nWe’re thrilled to be part of this city-wide culinary adventure\, and we’ve got some amazing things planned. We’re excited to announce the following participating businesses with more details coming soon.\n\nChapman’s Brewing Company\nPasta Di GuyO’Cha Thai\nBuyamba Sandwich Company\nFort Wayne’s Farmers Market (On the 18th & 25th)\n\nStay tuned for more exciting announcements!
URL:https://fortwayneelectricworks.com/event/savor-fort-wayne/
LOCATION:IN
ATTACH;FMTTYPE=image/jpeg:https://fortwayneelectricworks.com/wp-content/uploads/2025/01/PASTA.jpg
END:VEVENT
BEGIN:VEVENT
DTSTART;TZID=America/Indiana/Indianapolis:20250124T180000
DTEND;TZID=America/Indiana/Indianapolis:20250124T200000
DTSTAMP:20260425T120614
CREATED:20250108T155830Z
LAST-MODIFIED:20250108T155830Z
UID:10001697-1737741600-1737748800@fortwayneelectricworks.com
SUMMARY:90's POP-CULTURE AND WICKED WITH TINCTURE OF TRIVIA AT UNION STREET MARKET
DESCRIPTION:Two Trivia Nights in January!\nJoin us for TWO exciting trivia nights at Union Street Market in Electric Works\, Fort Wayne!\nJanuary 10th: 90’s Pop Culture Trivia\nTest your knowledge of all things 90s! Music\, movies\, fashion\, and more. \nJanuary 24th: Wicked Trivia\nDive into the fantastical world of “Wicked\,” the beloved Wizard of Oz spinoff!\nShow off your knowledge of the characters\, songs\, and story. \nBoth events:Time: 6:00 PM – 8:00 PM\nLocation: Union Street Market in Electric Works\, Fort Wayne \nNo pre-registration required! Just show up and play.\nBring your friends and get ready for some fun!
URL:https://fortwayneelectricworks.com/event/90s-pop-culture-and-wicked-with-tincture-of-trivia-at-union-street-market/2025-01-24/
LOCATION:IN
ATTACH;FMTTYPE=image/jpeg:https://fortwayneelectricworks.com/wp-content/uploads/2025/01/TRIVIA-FB-POST.jpg
END:VEVENT
BEGIN:VEVENT
DTSTART;TZID=America/Indiana/Indianapolis:20250124T190000
DTEND;TZID=America/Indiana/Indianapolis:20250124T210000
DTSTAMP:20260425T120614
CREATED:20250109T151616Z
LAST-MODIFIED:20250109T151616Z
UID:10001963-1737745200-1737752400@fortwayneelectricworks.com
SUMMARY:ADRIENNE FRAILEY PLAYS LIVE AT CHAPMANS BREWING COMPANY
DESCRIPTION:Enjoy live music sung by Adrienne Frailey while you drink a Chapman’s beer!
URL:https://fortwayneelectricworks.com/event/adrienne-frailey-plays-live-at-chapmans-brewing-company/
LOCATION:Chapman’s Brewing Company\, 1660 Broadway\, Fort Wayne\, IN\, 46802\, United States
ATTACH;FMTTYPE=image/jpeg:https://fortwayneelectricworks.com/wp-content/uploads/2025/01/244160459_187080616874169_4108537584124994933_n-1.jpg
END:VEVENT
END:VCALENDAR