BEGIN:VCALENDAR
VERSION:2.0
PRODID:-//Fort Wayne Electric Works - ECPv6.6.3//NONSGML v1.0//EN
CALSCALE:GREGORIAN
METHOD:PUBLISH
X-WR-CALNAME:Fort Wayne Electric Works
X-ORIGINAL-URL:https://fortwayneelectricworks.com
X-WR-CALDESC:Events for Fort Wayne Electric Works
REFRESH-INTERVAL;VALUE=DURATION:PT1H
X-Robots-Tag:noindex
X-PUBLISHED-TTL:PT1H
BEGIN:VTIMEZONE
TZID:America/Indiana/Indianapolis
BEGIN:DAYLIGHT
TZOFFSETFROM:-0500
TZOFFSETTO:-0400
TZNAME:EDT
DTSTART:20250309T070000
END:DAYLIGHT
BEGIN:STANDARD
TZOFFSETFROM:-0400
TZOFFSETTO:-0500
TZNAME:EST
DTSTART:20251102T060000
END:STANDARD
END:VTIMEZONE
BEGIN:VEVENT
DTSTART;TZID=America/Indiana/Indianapolis:20250115T090000
DTEND;TZID=America/Indiana/Indianapolis:20250126T220000
DTSTAMP:20260425T120615
CREATED:20250108T160500Z
LAST-MODIFIED:20250109T151810Z
UID:10001959-1736931600-1737928800@fortwayneelectricworks.com
SUMMARY:SAVOR FORT WAYNE
DESCRIPTION:Get Ready to Savor Fort Wayne at Electric Works! From January 15th to the 26th\, join us for a delicious celebration of local cuisine.\nWe’re thrilled to be part of this city-wide culinary adventure\, and we’ve got some amazing things planned. We’re excited to announce the following participating businesses with more details coming soon.\n\nChapman’s Brewing Company\nPasta Di GuyO’Cha Thai\nBuyamba Sandwich Company\nFort Wayne’s Farmers Market (On the 18th & 25th)\n\nStay tuned for more exciting announcements!
URL:https://fortwayneelectricworks.com/event/savor-fort-wayne/
LOCATION:IN
ATTACH;FMTTYPE=image/jpeg:https://fortwayneelectricworks.com/wp-content/uploads/2025/01/PASTA.jpg
END:VEVENT
BEGIN:VEVENT
DTSTART;TZID=America/Indiana/Indianapolis:20250121T100000
DTEND;TZID=America/Indiana/Indianapolis:20250121T110000
DTSTAMP:20260425T120615
CREATED:20241115T171949Z
LAST-MODIFIED:20241115T171951Z
UID:10001647-1737453600-1737457200@fortwayneelectricworks.com
SUMMARY:TOTS by Science Central (Ages 3-6) at Union Street Market
DESCRIPTION:TOTS\, short for “Today’s Observers\, Tomorrow’s Scientists\,” is Science Central’s program for children ages 3 to 6. Each session features engaging\, age-appropriate activities designed to introduce young learners to the world of STEM. Each month there is a story time and activity related to a different science theme. Learn more about each program’s theme or register here. \nLocation: The Mezzanine at Union Street Market \nSign-in starts at 9:30AM \nThis event is hosted by Science Central. Registration is encouraged. Register Here.\nPlease contact Science Central for any questions.
URL:https://fortwayneelectricworks.com/event/tots-by-science-central-ages-3-6-2/2025-01-21/
LOCATION:IN
CATEGORIES:Education,Kids & Family
ATTACH;FMTTYPE=image/png:https://fortwayneelectricworks.com/wp-content/uploads/2024/09/Copy-of-earthworks-earth-day-market-900-×-600-px-81.png
END:VEVENT
BEGIN:VEVENT
DTSTART;TZID=America/Indiana/Indianapolis:20250121T100000
DTEND;TZID=America/Indiana/Indianapolis:20250121T110000
DTSTAMP:20260425T120615
CREATED:20250108T175055Z
LAST-MODIFIED:20250108T175055Z
UID:10001960-1737453600-1737457200@fortwayneelectricworks.com
SUMMARY:TOTS BY SCIENCE CENTRAL (Ages 3-6) AT UNION STREET MARKET
DESCRIPTION:TOTS\, short for “Today’s Observers\, Tomorrow’s Scientists\,” is Science Central’s program for children ages 3 to 6. Each session features engaging\, age-appropriate activities designed to introduce young learners to the world of STEM. Each month there is a story time and activity related to a different science theme. Learn more about each program’s theme or register here. \nLocation: The Mezzanine at Union Street Market \nSign-in starts at 9:30AM \nThis event is hosted by Science Central. Registration is encouraged. Register Here.\nPlease contact Science Central for any questions.
URL:https://fortwayneelectricworks.com/event/tots-by-science-central-ages-3-6-at-union-street-market/
LOCATION:IN
ATTACH;FMTTYPE=image/png:https://fortwayneelectricworks.com/wp-content/uploads/2025/01/Copy-of-earthworks-earth-day-market-900-×-600-px-81.png
END:VEVENT
END:VCALENDAR