BEGIN:VCALENDAR
VERSION:2.0
PRODID:-//Fort Wayne Electric Works - ECPv6.6.3//NONSGML v1.0//EN
CALSCALE:GREGORIAN
METHOD:PUBLISH
X-WR-CALNAME:Fort Wayne Electric Works
X-ORIGINAL-URL:https://fortwayneelectricworks.com
X-WR-CALDESC:Events for Fort Wayne Electric Works
REFRESH-INTERVAL;VALUE=DURATION:PT1H
X-Robots-Tag:noindex
X-PUBLISHED-TTL:PT1H
BEGIN:VTIMEZONE
TZID:America/Indiana/Indianapolis
BEGIN:DAYLIGHT
TZOFFSETFROM:-0500
TZOFFSETTO:-0400
TZNAME:EDT
DTSTART:20240310T070000
END:DAYLIGHT
BEGIN:STANDARD
TZOFFSETFROM:-0400
TZOFFSETTO:-0500
TZNAME:EST
DTSTART:20241103T060000
END:STANDARD
END:VTIMEZONE
BEGIN:VEVENT
DTSTART;TZID=America/Indiana/Indianapolis:20241213T180000
DTEND;TZID=America/Indiana/Indianapolis:20241213T200000
DTSTAMP:20260425T132855
CREATED:20241115T172325Z
LAST-MODIFIED:20241115T172328Z
UID:10001665-1734112800-1734120000@fortwayneelectricworks.com
SUMMARY:Tincture of Trivia at Union Street Market
DESCRIPTION:Join Tincture of Trivia for themed\, free trivia at Union Street Market—every 2nd and 4th Friday of the month! \nGet a team together and play to win a special prize! \nJoin the fun and check out our upcoming trivia themes: \n\nJuly 12: All Sports\nJuly 26: Justin Bieber\nAugust 9: Nickelodeon\nAugust 23: Travel & Adventure\nSeptember 13: The Simpsons\nSeptember 27: Seinfeld\nOctober 11: Grey’s Anatomy\nOctober 25: Scary Movie\nNovember 8: Stranger Things\nNovember 22: General Knowledge\nDecember 13: Christmas Movie\nDecember 27: 21st Century Pop Culture
URL:https://fortwayneelectricworks.com/event/tincture-of-trivia-at-union-street-market-2/2024-12-13/
LOCATION:IN
CATEGORIES:Games & Trivia
ATTACH;FMTTYPE=image/jpeg:https://fortwayneelectricworks.com/wp-content/uploads/2023/12/Copy-of-earthworks-earth-day-market-900-×-600-px-51.jpg
END:VEVENT
END:VCALENDAR