BEGIN:VCALENDAR
VERSION:2.0
PRODID:-//Fort Wayne Electric Works - ECPv6.6.3//NONSGML v1.0//EN
CALSCALE:GREGORIAN
METHOD:PUBLISH
X-WR-CALNAME:Fort Wayne Electric Works
X-ORIGINAL-URL:https://fortwayneelectricworks.com
X-WR-CALDESC:Events for Fort Wayne Electric Works
REFRESH-INTERVAL;VALUE=DURATION:PT1H
X-Robots-Tag:noindex
X-PUBLISHED-TTL:PT1H
BEGIN:VTIMEZONE
TZID:America/Indiana/Indianapolis
BEGIN:DAYLIGHT
TZOFFSETFROM:-0500
TZOFFSETTO:-0400
TZNAME:EDT
DTSTART:20240310T070000
END:DAYLIGHT
BEGIN:STANDARD
TZOFFSETFROM:-0400
TZOFFSETTO:-0500
TZNAME:EST
DTSTART:20241103T060000
END:STANDARD
END:VTIMEZONE
BEGIN:VEVENT
DTSTART;TZID=America/Indiana/Indianapolis:20241211T180000
DTEND;TZID=America/Indiana/Indianapolis:20241211T210000
DTSTAMP:20260425T132855
CREATED:20240906T164815Z
LAST-MODIFIED:20250306T023730Z
UID:10001394-1733940000-1733950800@fortwayneelectricworks.com
SUMMARY:HELLCAT TRIVIA | CHAPMANS BREWING COMPANY
DESCRIPTION:Head to Chapman’s Brewing for an all-ages trivia night—every Wednesday! Hellcat Trivia hosts 2 games a night from 6-7pm and 8-9pm! Trivia is free to play with special prizes for winners! \nDate: Every Wednesday\nTime: 6 – 9 PM\nLocation: Chapman’s Brewing Company\, Electric Works \nRegistration: Registration isn’t required. \nMore information on Chapman’s Brewing Company can be found here.
URL:https://fortwayneelectricworks.com/event/hellcat-trivia-at-chapmans-brewing-company/2024-12-11/
LOCATION:Chapman’s Brewing Company\, 1660 Broadway\, Fort Wayne\, IN\, 46802\, United States
CATEGORIES:Games & Trivia
ATTACH;FMTTYPE=image/jpeg:https://fortwayneelectricworks.com/wp-content/uploads/2024/09/Copy-of-earthworks-earth-day-market-900-×-600-px-77.jpg
END:VEVENT
BEGIN:VEVENT
DTSTART;TZID=America/Indiana/Indianapolis:20241211T190000
DTEND;TZID=America/Indiana/Indianapolis:20241211T200000
DTSTAMP:20260425T132855
CREATED:20240329T220521Z
LAST-MODIFIED:20240329T220521Z
UID:10001315-1733943600-1733947200@fortwayneelectricworks.com
SUMMARY:Cooking For Kidney Health by the National Kidney Foundation of Indiana
DESCRIPTION:Do you have a hard time figuring out what you can eat that is kidney friendly and still tastes good? Does it feel like an impossible task? \nJoin the Kidney Foundation on the second Wednesday of the month from 7-8pm at the Teaching Kitchen (inside Union Street Market on the West Hall’s mezzanine) for their brand new cooking class program: “Cooking For Kidney Health!” \nThis monthly class will feature local chefs from area restaurants showing you how to make delicious\, kidney friendly meals in your very own kitchen! As an added bonus\, the first 30 adults (ages 18 and over) who attend the class will receive a FREE $25 Kroger gift card! \nWhere: The Teaching Kitchen inside Union Street Market at Electric Works \nLearn more here.
URL:https://fortwayneelectricworks.com/event/cooking-for-kidney-health-by-the-national-kidney-foundation-of-indiana-10/
LOCATION:IN
ATTACH;FMTTYPE=image/jpeg:https://fortwayneelectricworks.com/wp-content/uploads/2023/09/CookingShowPostcardFront-Brandon-Spice-1.jpg
END:VEVENT
END:VCALENDAR