BEGIN:VCALENDAR
VERSION:2.0
PRODID:-//Fort Wayne Electric Works - ECPv6.6.3//NONSGML v1.0//EN
CALSCALE:GREGORIAN
METHOD:PUBLISH
X-ORIGINAL-URL:https://fortwayneelectricworks.com
X-WR-CALDESC:Events for Fort Wayne Electric Works
REFRESH-INTERVAL;VALUE=DURATION:PT1H
X-Robots-Tag:noindex
X-PUBLISHED-TTL:PT1H
BEGIN:VTIMEZONE
TZID:America/Indiana/Indianapolis
BEGIN:DAYLIGHT
TZOFFSETFROM:-0500
TZOFFSETTO:-0400
TZNAME:EDT
DTSTART:20240310T070000
END:DAYLIGHT
BEGIN:STANDARD
TZOFFSETFROM:-0400
TZOFFSETTO:-0500
TZNAME:EST
DTSTART:20241103T060000
END:STANDARD
END:VTIMEZONE
BEGIN:VEVENT
DTSTART;TZID=America/Indiana/Indianapolis:20240822T173000
DTEND;TZID=America/Indiana/Indianapolis:20240822T190000
DTSTAMP:20260425T110840
CREATED:20240130T171828Z
LAST-MODIFIED:20240130T171828Z
UID:10001277-1724347800-1724353200@fortwayneelectricworks.com
SUMMARY:Kids in the Kitchen: Tour of the World hosted by Plowshares & Parkview Health
DESCRIPTION:It is a fact\, kids who know how to cook enjoy eating wholesome foods! Kids in the Kitchen is a hands-on cooking and nutrition class for kids hosted by Plowshares in the Market and Parkview Health. \nIn the class\, children will receive practical nutrition education on the MyPlate diagram\, kitchen safety\, and reading a recipe. Then\, students have an opportunity to follow a recipe and create their own masterpieces. Join Katie Fulk\, MA\, RDN\, LD\, Youth and Family Well-being Registered Dietitian for an engaging and delicious cooking class! \nRegistration: This class is free and open to the public (ages 3+ with parent or guardian)\, but registration is required. Register by Tuesday at 12pm prior to the Thursday class. To register\, call 260‑266‑6500 or toll free at 844‑835‑0003. \nLocation: The Teaching Kitchen at Union Street Market (inside the West Hall Mezzanine)
URL:https://fortwayneelectricworks.com/event/kids-in-the-kitchen-tour-of-the-world-hosted-by-plowshares-parkview-health-3/
LOCATION:IN
ATTACH;FMTTYPE=image/jpeg:https://fortwayneelectricworks.com/wp-content/uploads/2024/01/129.jpg
END:VEVENT
BEGIN:VEVENT
DTSTART;TZID=America/Indiana/Indianapolis:20240822T180000
DTEND;TZID=America/Indiana/Indianapolis:20240822T210000
DTSTAMP:20260425T110840
CREATED:20240621T165751Z
LAST-MODIFIED:20240621T165902Z
UID:10001366-1724349600-1724360400@fortwayneelectricworks.com
SUMMARY:Throwback Thursday with Jeff McDonald
DESCRIPTION:Jeff McDonald hosts Throwback Thursdays at Chapman’s Brewing. Jeff plays a variety of tunes from all the best decades. Zero admission\, all ages show.
URL:https://fortwayneelectricworks.com/event/throwback-thursday-with-jeff-mcdonald-2/2024-08-22/
LOCATION:Chapman’s Brewing Company\, 1660 Broadway\, Fort Wayne\, IN\, 46802\, United States
ATTACH;FMTTYPE=image/jpeg:https://fortwayneelectricworks.com/wp-content/uploads/2024/06/335078045_675414451053449_8019381815096560565_n.jpg
END:VEVENT
END:VCALENDAR